BEGIN:VCALENDAR
VERSION:2.0
PRODID:-//jEvents 2.0 for Joomla//EN
CALSCALE:GREGORIAN
METHOD:PUBLISH
BEGIN:VTIMEZONE
TZID:Atlantic/Canary
BEGIN:STANDARD
DTSTART:20181028T010000
RDATE:20190331T020000
TZOFFSETFROM:+0100
TZOFFSETTO:+0000
TZNAME:Atlantic/Canary WET
END:STANDARD
BEGIN:STANDARD
DTSTART:20191027T010000
RDATE:20200329T020000
TZOFFSETFROM:+0100
TZOFFSETTO:+0000
TZNAME:Atlantic/Canary WET
END:STANDARD
BEGIN:STANDARD
DTSTART:20201025T010000
RDATE:20210328T020000
TZOFFSETFROM:+0100
TZOFFSETTO:+0000
TZNAME:Atlantic/Canary WET
END:STANDARD
BEGIN:STANDARD
DTSTART:20211031T010000
RDATE:20220327T020000
TZOFFSETFROM:+0100
TZOFFSETTO:+0000
TZNAME:Atlantic/Canary WET
END:STANDARD
BEGIN:STANDARD
DTSTART:20221030T010000
RDATE:20230326T020000
TZOFFSETFROM:+0100
TZOFFSETTO:+0000
TZNAME:Atlantic/Canary WET
END:STANDARD
BEGIN:STANDARD
DTSTART:20231029T010000
RDATE:20240331T020000
TZOFFSETFROM:+0100
TZOFFSETTO:+0000
TZNAME:Atlantic/Canary WET
END:STANDARD
BEGIN:DAYLIGHT
DTSTART:20181017T173000
RDATE:20181028T010000
TZOFFSETFROM:+0000
TZOFFSETTO:+0100
TZNAME:Atlantic/Canary WEST
END:DAYLIGHT
BEGIN:DAYLIGHT
DTSTART:20190331T020000
RDATE:20191027T010000
TZOFFSETFROM:+0000
TZOFFSETTO:+0100
TZNAME:Atlantic/Canary WEST
END:DAYLIGHT
BEGIN:DAYLIGHT
DTSTART:20200329T020000
RDATE:20201025T010000
TZOFFSETFROM:+0000
TZOFFSETTO:+0100
TZNAME:Atlantic/Canary WEST
END:DAYLIGHT
BEGIN:DAYLIGHT
DTSTART:20210328T020000
RDATE:20211031T010000
TZOFFSETFROM:+0000
TZOFFSETTO:+0100
TZNAME:Atlantic/Canary WEST
END:DAYLIGHT
BEGIN:DAYLIGHT
DTSTART:20220327T020000
RDATE:20221030T010000
TZOFFSETFROM:+0000
TZOFFSETTO:+0100
TZNAME:Atlantic/Canary WEST
END:DAYLIGHT
BEGIN:DAYLIGHT
DTSTART:20230326T020000
RDATE:20231029T010000
TZOFFSETFROM:+0000
TZOFFSETTO:+0100
TZNAME:Atlantic/Canary WEST
END:DAYLIGHT
END:VTIMEZONE
BEGIN:VEVENT
UID:a54dc8141a25d476390752dab6877067
CATEGORIES:Encuentros / Conferencias
CREATED:20190903T145952
SUMMARY:DIGITAL GENERATION. Taller ‘La imagen como motor de cambio social’.
LOCATION:CCA Gran Canaria. Centro de cultura audiovisual
DESCRIPTION;ENCODING=QUOTED-PRINTABLE:<p><strong>Taller &lsquo;La imagen como motor de cambio social&rsquo;.</str
 ong></p><p>Impartido por Yolanda Dom&iacute;nguez.</p><p>Se realizar&aacute
 ;n an&aacute;lisis de escenas e im&aacute;genes del cine, publicidad, moda,
  m&uacute;sica y redes sociales. Se mostrar&aacute;n ejemplos de trabajos q
 ue utilizan la imagen como elemento activo de cambio en distintas plataform
 as (arte, publicidad, redes), y al mismo tiempo se ir&aacute;n planteando e
 strategias subversivas para alterar el discurso dominante (humor, descontex
 tualizaci&oacute;n, alterar el orden, el contexto).</p><p>Al final se reali
 zar&aacute; una puesta en com&uacute;n de posibles temas para realizar un t
 rabajo en grupo.</p><p>Plazas limitadas. Inscripciones gratuitas a partir d
 el 30 de septiembre de 2019:&nbsp;<a href="https://digitalgenerationg.wixsi
 te.com/inscripcion">https://digitalgenerationg.wixsite.com/inscripcion</a><
 /p><p><strong>+ Info: <a href="http://www.grancanariadigital.com/" target="
 _blank" rel="noopener noreferrer">Gran Canaria Espacio Digital</a></strong>
 </p>
DTSTAMP:20260424T032251Z
DTSTART;TZID=Atlantic/Canary:20191018T173000
DTEND;TZID=Atlantic/Canary:20191018T203000
SEQUENCE:0
TRANSP:OPAQUE
END:VEVENT
END:VCALENDAR