BEGIN:VCALENDAR
VERSION:2.0
PRODID:-//jEvents 2.0 for Joomla//EN
CALSCALE:GREGORIAN
METHOD:PUBLISH
BEGIN:VTIMEZONE
TZID:Atlantic/Canary
BEGIN:STANDARD
DTSTART:20181028T010000
RDATE:20190331T020000
TZOFFSETFROM:+0100
TZOFFSETTO:+0000
TZNAME:Atlantic/Canary WET
END:STANDARD
BEGIN:STANDARD
DTSTART:20191027T010000
RDATE:20200329T020000
TZOFFSETFROM:+0100
TZOFFSETTO:+0000
TZNAME:Atlantic/Canary WET
END:STANDARD
BEGIN:STANDARD
DTSTART:20201025T010000
RDATE:20210328T020000
TZOFFSETFROM:+0100
TZOFFSETTO:+0000
TZNAME:Atlantic/Canary WET
END:STANDARD
BEGIN:STANDARD
DTSTART:20211031T010000
RDATE:20220327T020000
TZOFFSETFROM:+0100
TZOFFSETTO:+0000
TZNAME:Atlantic/Canary WET
END:STANDARD
BEGIN:STANDARD
DTSTART:20221030T010000
RDATE:20230326T020000
TZOFFSETFROM:+0100
TZOFFSETTO:+0000
TZNAME:Atlantic/Canary WET
END:STANDARD
BEGIN:STANDARD
DTSTART:20231029T010000
RDATE:20240331T020000
TZOFFSETFROM:+0100
TZOFFSETTO:+0000
TZNAME:Atlantic/Canary WET
END:STANDARD
BEGIN:DAYLIGHT
DTSTART:20181012T190000
RDATE:20181028T010000
TZOFFSETFROM:+0000
TZOFFSETTO:+0100
TZNAME:Atlantic/Canary WEST
END:DAYLIGHT
BEGIN:DAYLIGHT
DTSTART:20190331T020000
RDATE:20191027T010000
TZOFFSETFROM:+0000
TZOFFSETTO:+0100
TZNAME:Atlantic/Canary WEST
END:DAYLIGHT
BEGIN:DAYLIGHT
DTSTART:20200329T020000
RDATE:20201025T010000
TZOFFSETFROM:+0000
TZOFFSETTO:+0100
TZNAME:Atlantic/Canary WEST
END:DAYLIGHT
BEGIN:DAYLIGHT
DTSTART:20210328T020000
RDATE:20211031T010000
TZOFFSETFROM:+0000
TZOFFSETTO:+0100
TZNAME:Atlantic/Canary WEST
END:DAYLIGHT
BEGIN:DAYLIGHT
DTSTART:20220327T020000
RDATE:20221030T010000
TZOFFSETFROM:+0000
TZOFFSETTO:+0100
TZNAME:Atlantic/Canary WEST
END:DAYLIGHT
BEGIN:DAYLIGHT
DTSTART:20230326T020000
RDATE:20231029T010000
TZOFFSETFROM:+0000
TZOFFSETTO:+0100
TZNAME:Atlantic/Canary WEST
END:DAYLIGHT
END:VTIMEZONE
BEGIN:VEVENT
UID:ba1e78dcc3c75afe79303bebd2ebfc28
CATEGORIES:Artes escénicas / Danza
CREATED:20191007T112218
SUMMARY:'Historias Rusas', con Burka Teatro
LOCATION:Teatro Guiniguada
DESCRIPTION;ENCODING=QUOTED-PRINTABLE:\n\n&ldquo;Historias rusas&rdquo; es un espect&aacute;culo de la compa&ntil
 de;&iacute;a Burka Teatro que pone en escena la dramatizaci&oacute;n de alg
 unos cuentos de Ant&oacute;n Ch&eacute;jov, dramaturgo y escritor ruso. Una
  farsa teatral en un acto (&ldquo;El Oso&rdquo;) y dos cuentos (&ldquo;En l
 a oficina de correos&rdquo; y &ldquo;Un car&aacute;cter enigm&aacute;tico&r
 dquo;), se engarzan y complementan con una semblanza de la vida y obra de e
 ste autor, mostrando su importancia en el momento pol&iacute;tico y social 
 en el que vivi&oacute;.\n\n\nAs&iacute;, de un modo &aacute;gil y divertido
 , &ldquo;Historias rusas&rdquo; sit&uacute;a al p&uacute;blico en la revolu
 cionaria transformaci&oacute;n que se produjo en la antigua Rusia desde fin
 ales del siglo XIX. A pesar de su edad, la obra de Ch&eacute;jov sigue sien
 do joven y capaz de hacernos re&iacute;r.\n\n\n+ Info: Teatro Guiniguada\n
DTSTAMP:20260424T031948Z
DTSTART;TZID=Atlantic/Canary:20191013T190000
SEQUENCE:0
TRANSP:OPAQUE
END:VEVENT
END:VCALENDAR