BEGIN:VCALENDAR
VERSION:2.0
PRODID:-//jEvents 2.0 for Joomla//EN
CALSCALE:GREGORIAN
METHOD:PUBLISH
BEGIN:VTIMEZONE
TZID:Atlantic/Canary
BEGIN:STANDARD
DTSTART:20181028T010000
RDATE:20190331T020000
TZOFFSETFROM:+0100
TZOFFSETTO:+0000
TZNAME:Atlantic/Canary WET
END:STANDARD
BEGIN:STANDARD
DTSTART:20191027T010000
RDATE:20200329T020000
TZOFFSETFROM:+0100
TZOFFSETTO:+0000
TZNAME:Atlantic/Canary WET
END:STANDARD
BEGIN:STANDARD
DTSTART:20201025T010000
RDATE:20210328T020000
TZOFFSETFROM:+0100
TZOFFSETTO:+0000
TZNAME:Atlantic/Canary WET
END:STANDARD
BEGIN:STANDARD
DTSTART:20211031T010000
RDATE:20220327T020000
TZOFFSETFROM:+0100
TZOFFSETTO:+0000
TZNAME:Atlantic/Canary WET
END:STANDARD
BEGIN:STANDARD
DTSTART:20221030T010000
RDATE:20230326T020000
TZOFFSETFROM:+0100
TZOFFSETTO:+0000
TZNAME:Atlantic/Canary WET
END:STANDARD
BEGIN:STANDARD
DTSTART:20231029T010000
RDATE:20240331T020000
TZOFFSETFROM:+0100
TZOFFSETTO:+0000
TZNAME:Atlantic/Canary WET
END:STANDARD
BEGIN:DAYLIGHT
DTSTART:20181010T190000
RDATE:20181028T010000
TZOFFSETFROM:+0000
TZOFFSETTO:+0100
TZNAME:Atlantic/Canary WEST
END:DAYLIGHT
BEGIN:DAYLIGHT
DTSTART:20190331T020000
RDATE:20191027T010000
TZOFFSETFROM:+0000
TZOFFSETTO:+0100
TZNAME:Atlantic/Canary WEST
END:DAYLIGHT
BEGIN:DAYLIGHT
DTSTART:20200329T020000
RDATE:20201025T010000
TZOFFSETFROM:+0000
TZOFFSETTO:+0100
TZNAME:Atlantic/Canary WEST
END:DAYLIGHT
BEGIN:DAYLIGHT
DTSTART:20210328T020000
RDATE:20211031T010000
TZOFFSETFROM:+0000
TZOFFSETTO:+0100
TZNAME:Atlantic/Canary WEST
END:DAYLIGHT
BEGIN:DAYLIGHT
DTSTART:20220327T020000
RDATE:20221030T010000
TZOFFSETFROM:+0000
TZOFFSETTO:+0100
TZNAME:Atlantic/Canary WEST
END:DAYLIGHT
BEGIN:DAYLIGHT
DTSTART:20230326T020000
RDATE:20231029T010000
TZOFFSETFROM:+0000
TZOFFSETTO:+0100
TZNAME:Atlantic/Canary WEST
END:DAYLIGHT
END:VTIMEZONE
BEGIN:VEVENT
UID:6a09d3c498381a2a89215a7501a22c95
CATEGORIES:Servicios Bibliotecarios, Encuentros / Conferencias
CREATED:20191008T120953
SUMMARY:Presentación del libro "Flores"
LOCATION:Biblioteca Pública del Estado
DESCRIPTION;ENCODING=QUOTED-PRINTABLE:<h4>PRESENTACI&Oacute;N LITERARIA</h4><p>Presentaci&oacute;n del libro de p
 oes&iacute;a titulado<em>&nbsp;Flores</em>, de la escritora<strong>&nbsp;M.
 C. Rivero,</strong>&nbsp;editado por&nbsp;<strong>C&iacute;rculo Rojo.</str
 ong></p><p>Entrada libre hasta completar aforo.</p><p><strong>LUGAR Y HORA<
 /strong>: Sala de Actos Manuel Padorno,&nbsp;<strong>19 h</strong>.</p><p>&
 nbsp;</p><p><strong>+ &nbsp;Info:&nbsp;<a href="https://www.bibliotecaspubl
 icas.es/generico/agenda.jsp?&amp;sedeweb=228&amp;pw=0" target="_blank" rel=
 "noopener noreferrer">Biblioteca P&uacute;blica del Estado de Las Palmas</a
 ></strong></p>
DTSTAMP:20260424T032252Z
DTSTART;TZID=Atlantic/Canary:20191011T190000
SEQUENCE:0
TRANSP:OPAQUE
END:VEVENT
END:VCALENDAR