BEGIN:VCALENDAR
VERSION:2.0
PRODID:-//jEvents 2.0 for Joomla//EN
CALSCALE:GREGORIAN
METHOD:PUBLISH
BEGIN:VTIMEZONE
TZID:Atlantic/Canary
BEGIN:STANDARD
DTSTART:20181028T010000
RDATE:20190331T020000
TZOFFSETFROM:+0100
TZOFFSETTO:+0000
TZNAME:Atlantic/Canary WET
END:STANDARD
BEGIN:STANDARD
DTSTART:20191027T010000
RDATE:20200329T020000
TZOFFSETFROM:+0100
TZOFFSETTO:+0000
TZNAME:Atlantic/Canary WET
END:STANDARD
BEGIN:STANDARD
DTSTART:20201025T010000
RDATE:20210328T020000
TZOFFSETFROM:+0100
TZOFFSETTO:+0000
TZNAME:Atlantic/Canary WET
END:STANDARD
BEGIN:STANDARD
DTSTART:20211031T010000
RDATE:20220327T020000
TZOFFSETFROM:+0100
TZOFFSETTO:+0000
TZNAME:Atlantic/Canary WET
END:STANDARD
BEGIN:STANDARD
DTSTART:20221030T010000
RDATE:20230326T020000
TZOFFSETFROM:+0100
TZOFFSETTO:+0000
TZNAME:Atlantic/Canary WET
END:STANDARD
BEGIN:STANDARD
DTSTART:20231029T010000
RDATE:20240331T020000
TZOFFSETFROM:+0100
TZOFFSETTO:+0000
TZNAME:Atlantic/Canary WET
END:STANDARD
BEGIN:DAYLIGHT
DTSTART:20181013T190000
RDATE:20181028T010000
TZOFFSETFROM:+0000
TZOFFSETTO:+0100
TZNAME:Atlantic/Canary WEST
END:DAYLIGHT
BEGIN:DAYLIGHT
DTSTART:20190331T020000
RDATE:20191027T010000
TZOFFSETFROM:+0000
TZOFFSETTO:+0100
TZNAME:Atlantic/Canary WEST
END:DAYLIGHT
BEGIN:DAYLIGHT
DTSTART:20200329T020000
RDATE:20201025T010000
TZOFFSETFROM:+0000
TZOFFSETTO:+0100
TZNAME:Atlantic/Canary WEST
END:DAYLIGHT
BEGIN:DAYLIGHT
DTSTART:20210328T020000
RDATE:20211031T010000
TZOFFSETFROM:+0000
TZOFFSETTO:+0100
TZNAME:Atlantic/Canary WEST
END:DAYLIGHT
BEGIN:DAYLIGHT
DTSTART:20220327T020000
RDATE:20221030T010000
TZOFFSETFROM:+0000
TZOFFSETTO:+0100
TZNAME:Atlantic/Canary WEST
END:DAYLIGHT
BEGIN:DAYLIGHT
DTSTART:20230326T020000
RDATE:20231029T010000
TZOFFSETFROM:+0000
TZOFFSETTO:+0100
TZNAME:Atlantic/Canary WEST
END:DAYLIGHT
END:VTIMEZONE
BEGIN:VEVENT
UID:2226578417ee90a2cd12dd00ab5f8e98
CATEGORIES:Encuentros / Conferencias
CREATED:20191008T121330
SUMMARY:MESA REDONDA ADSIS
LOCATION:Biblioteca Pública del Estado
DESCRIPTION;ENCODING=QUOTED-PRINTABLE:<p class="western">La fundaci&oacute;n&nbsp;<strong>ADSIS</strong>, miembro
  de la<strong>&nbsp;Plataforma Pobreza Cero GC,</strong>&nbsp;organiza una 
 mesa redonda/espacio de reflexi&oacute;n titulada&nbsp;<em>J&oacute;venes: 
 el rostro invisible de la pobreza y la exclusi&oacute;n social.</em></p><p 
 class="western">El acto se enmarca dentro de la&nbsp;<strong>Semana de la P
 obreza.</strong></p><p class="western">Entrada libre hasta completar aforo.
 </p><p><strong>Lugar y Hora:</strong>&nbsp;Sala de Actos,&nbsp;<strong>19 h
 .&nbsp;</strong></p><p>&nbsp;</p><p><strong>+ Info:&nbsp;<a href="https://w
 ww.bibliotecaspublicas.es/generico/agenda.jsp?&amp;sedeweb=228&amp;pw=0" ta
 rget="_blank" rel="noopener noreferrer">Biblioteca P&uacute;blica del Estad
 o de Las Palmas</a></strong></p>
DTSTAMP:20260424T032251Z
DTSTART;TZID=Atlantic/Canary:20191014T190000
SEQUENCE:0
TRANSP:OPAQUE
END:VEVENT
END:VCALENDAR