BEGIN:VCALENDAR
VERSION:2.0
PRODID:-//jEvents 2.0 for Joomla//EN
CALSCALE:GREGORIAN
METHOD:PUBLISH
BEGIN:VTIMEZONE
TZID:Atlantic/Canary
BEGIN:STANDARD
DTSTART:20181028T010000
RDATE:20190331T020000
TZOFFSETFROM:+0100
TZOFFSETTO:+0000
TZNAME:Atlantic/Canary WET
END:STANDARD
BEGIN:STANDARD
DTSTART:20191027T010000
RDATE:20200329T020000
TZOFFSETFROM:+0100
TZOFFSETTO:+0000
TZNAME:Atlantic/Canary WET
END:STANDARD
BEGIN:STANDARD
DTSTART:20201025T010000
RDATE:20210328T020000
TZOFFSETFROM:+0100
TZOFFSETTO:+0000
TZNAME:Atlantic/Canary WET
END:STANDARD
BEGIN:STANDARD
DTSTART:20211031T010000
RDATE:20220327T020000
TZOFFSETFROM:+0100
TZOFFSETTO:+0000
TZNAME:Atlantic/Canary WET
END:STANDARD
BEGIN:STANDARD
DTSTART:20221030T010000
RDATE:20230326T020000
TZOFFSETFROM:+0100
TZOFFSETTO:+0000
TZNAME:Atlantic/Canary WET
END:STANDARD
BEGIN:STANDARD
DTSTART:20231029T010000
RDATE:20240331T020000
TZOFFSETFROM:+0100
TZOFFSETTO:+0000
TZNAME:Atlantic/Canary WET
END:STANDARD
BEGIN:DAYLIGHT
DTSTART:20181019T180000
RDATE:20181028T010000
TZOFFSETFROM:+0000
TZOFFSETTO:+0100
TZNAME:Atlantic/Canary WEST
END:DAYLIGHT
BEGIN:DAYLIGHT
DTSTART:20190331T020000
RDATE:20191027T010000
TZOFFSETFROM:+0000
TZOFFSETTO:+0100
TZNAME:Atlantic/Canary WEST
END:DAYLIGHT
BEGIN:DAYLIGHT
DTSTART:20200329T020000
RDATE:20201025T010000
TZOFFSETFROM:+0000
TZOFFSETTO:+0100
TZNAME:Atlantic/Canary WEST
END:DAYLIGHT
BEGIN:DAYLIGHT
DTSTART:20210328T020000
RDATE:20211031T010000
TZOFFSETFROM:+0000
TZOFFSETTO:+0100
TZNAME:Atlantic/Canary WEST
END:DAYLIGHT
BEGIN:DAYLIGHT
DTSTART:20220327T020000
RDATE:20221030T010000
TZOFFSETFROM:+0000
TZOFFSETTO:+0100
TZNAME:Atlantic/Canary WEST
END:DAYLIGHT
BEGIN:DAYLIGHT
DTSTART:20230326T020000
RDATE:20231029T010000
TZOFFSETFROM:+0000
TZOFFSETTO:+0100
TZNAME:Atlantic/Canary WEST
END:DAYLIGHT
END:VTIMEZONE
BEGIN:VEVENT
UID:9296b5ee8985e92033c63c4bb185d8c1
CATEGORIES:Artes escénicas / Danza
CREATED:20191015T101506
SUMMARY:Acróbata y Arlequín
LOCATION:Teatro Pérez Galdós
DESCRIPTION;ENCODING=QUOTED-PRINTABLE:<p>El mundo&nbsp;circense&nbsp;de&nbsp;Picasso&nbsp;sirve de fuente de insp
 iraci&oacute;n a la laureada compa&ntilde;&iacute;a&nbsp;<i>La Maquin&eacut
 e;</i>&nbsp;&nbsp;para este nuevo espect&aacute;culo que presenta en el Tea
 tro P&eacute;rez Gald&oacute;s. Tras ganar el&nbsp;Premio&nbsp;al&nbsp;<i>M
 ejor espect&aacute;culo infantil y juvenil</i>&nbsp;en la Feria de Teatro d
 e Castilla y Le&oacute;n, y antes de ir al&nbsp;Teatro Real&nbsp;de Madrid,
 &nbsp;Acr&oacute;bata y Arlequ&iacute;n&nbsp;se presenta, con&nbsp;m&uacute
 ;sica en directo, en el coliseo capitalino.</p><p>El montaje, recomendado e
 specialmente para el&nbsp;p&uacute;blico familiar, cuenta con funciones par
 a estudiantes de centros escolares de la Isla, a partir de cuatro a&ntilde;
 os.&nbsp;</p><p><strong>+ Info: <a href="https://teatroperezgaldos.es/event
 o/acrobata-y-arlequin/1224" target="_blank" rel="noopener noreferrer">Teatr
 o P&eacute;rez Gald&oacute;s</a></strong></p>
DTSTAMP:20260424T032322Z
DTSTART;TZID=Atlantic/Canary:20191020T180000
SEQUENCE:0
TRANSP:OPAQUE
END:VEVENT
END:VCALENDAR