BEGIN:VCALENDAR
VERSION:2.0
PRODID:-//jEvents 2.0 for Joomla//EN
CALSCALE:GREGORIAN
METHOD:PUBLISH
BEGIN:VTIMEZONE
TZID:Atlantic/Canary
BEGIN:STANDARD
DTSTART:20181028T010000
RDATE:20190331T020000
TZOFFSETFROM:+0100
TZOFFSETTO:+0000
TZNAME:Atlantic/Canary WET
END:STANDARD
BEGIN:STANDARD
DTSTART:20191027T010000
RDATE:20200329T020000
TZOFFSETFROM:+0100
TZOFFSETTO:+0000
TZNAME:Atlantic/Canary WET
END:STANDARD
BEGIN:STANDARD
DTSTART:20201025T010000
RDATE:20210328T020000
TZOFFSETFROM:+0100
TZOFFSETTO:+0000
TZNAME:Atlantic/Canary WET
END:STANDARD
BEGIN:STANDARD
DTSTART:20211031T010000
RDATE:20220327T020000
TZOFFSETFROM:+0100
TZOFFSETTO:+0000
TZNAME:Atlantic/Canary WET
END:STANDARD
BEGIN:STANDARD
DTSTART:20221030T010000
RDATE:20230326T020000
TZOFFSETFROM:+0100
TZOFFSETTO:+0000
TZNAME:Atlantic/Canary WET
END:STANDARD
BEGIN:STANDARD
DTSTART:20231029T010000
RDATE:20240331T020000
TZOFFSETFROM:+0100
TZOFFSETTO:+0000
TZNAME:Atlantic/Canary WET
END:STANDARD
BEGIN:DAYLIGHT
DTSTART:20181001T190000
RDATE:20181028T010000
TZOFFSETFROM:+0000
TZOFFSETTO:+0100
TZNAME:Atlantic/Canary WEST
END:DAYLIGHT
BEGIN:DAYLIGHT
DTSTART:20190331T020000
RDATE:20191027T010000
TZOFFSETFROM:+0000
TZOFFSETTO:+0100
TZNAME:Atlantic/Canary WEST
END:DAYLIGHT
BEGIN:DAYLIGHT
DTSTART:20200329T020000
RDATE:20201025T010000
TZOFFSETFROM:+0000
TZOFFSETTO:+0100
TZNAME:Atlantic/Canary WEST
END:DAYLIGHT
BEGIN:DAYLIGHT
DTSTART:20210328T020000
RDATE:20211031T010000
TZOFFSETFROM:+0000
TZOFFSETTO:+0100
TZNAME:Atlantic/Canary WEST
END:DAYLIGHT
BEGIN:DAYLIGHT
DTSTART:20220327T020000
RDATE:20221030T010000
TZOFFSETFROM:+0000
TZOFFSETTO:+0100
TZNAME:Atlantic/Canary WEST
END:DAYLIGHT
BEGIN:DAYLIGHT
DTSTART:20230326T020000
RDATE:20231029T010000
TZOFFSETFROM:+0000
TZOFFSETTO:+0100
TZNAME:Atlantic/Canary WEST
END:DAYLIGHT
END:VTIMEZONE
BEGIN:VEVENT
UID:ada1bde0ac311e3b1e767c46ec5c0bf7
CATEGORIES:Audiovisuales / Cine
CREATED:20191016T100924
SUMMARY:CICLO DE CINE 'ELLAS, TAMBIÉN MUEVEN EL MUNDO': Las horas
LOCATION:Casa Museo Pérez Galdós
DESCRIPTION;ENCODING=QUOTED-PRINTABLE:<p>Historia de tres mujeres de &eacute;pocas diferentes que tratan de encon
 trarle un sentido a la vida. A principios de los a&ntilde;os 20, Virginia W
 olf, en Londres, lucha contra su locura mientras empieza a escribir &nbsp;"
 Mrs. Dalloway". En los a&ntilde;os 50, en los &Aacute;ngeles, a Laura Brown
 , casada y con hijos, la lectura de "Mrs. Dalloway" le resulta tan revelado
 ra que empieza a considerar la posibilidad de cambiar radicalmente su vida.
  En Nueva York, Clarissa Vaughan, una versi&oacute;n actual de "Mrs. Dallow
 ay", est&aacute; enamorada de su amigo Richard, un brillante poeta enfermo 
 de SIDA.</p><p>Entrada gratuita. Hasta completar aforo.</p><p>Colabora: Aso
 ciaci&oacute;n de Cine V&eacute;rtigo.</p><p><strong>+ Info: <a href="http:
 //www.casamuseoperezgaldos.com" target="_blank" rel="noopener noreferrer">C
 asa-Museo P&eacute;rez Gald&oacute;s&nbsp;</a></strong></p>
DTSTAMP:20260424T032321Z
DTSTART;TZID=Atlantic/Canary:20191002T190000
SEQUENCE:0
TRANSP:OPAQUE
END:VEVENT
END:VCALENDAR