BEGIN:VCALENDAR
VERSION:2.0
PRODID:-//jEvents 2.0 for Joomla//EN
CALSCALE:GREGORIAN
METHOD:PUBLISH
BEGIN:VTIMEZONE
TZID:Atlantic/Canary
BEGIN:STANDARD
DTSTART:20181028T173000
RDATE:20190331T020000
TZOFFSETFROM:+0100
TZOFFSETTO:+0000
TZNAME:Atlantic/Canary WET
END:STANDARD
BEGIN:STANDARD
DTSTART:20191027T010000
RDATE:20200329T020000
TZOFFSETFROM:+0100
TZOFFSETTO:+0000
TZNAME:Atlantic/Canary WET
END:STANDARD
BEGIN:STANDARD
DTSTART:20201025T010000
RDATE:20210328T020000
TZOFFSETFROM:+0100
TZOFFSETTO:+0000
TZNAME:Atlantic/Canary WET
END:STANDARD
BEGIN:STANDARD
DTSTART:20211031T010000
RDATE:20220327T020000
TZOFFSETFROM:+0100
TZOFFSETTO:+0000
TZNAME:Atlantic/Canary WET
END:STANDARD
BEGIN:STANDARD
DTSTART:20221030T010000
RDATE:20230326T020000
TZOFFSETFROM:+0100
TZOFFSETTO:+0000
TZNAME:Atlantic/Canary WET
END:STANDARD
BEGIN:STANDARD
DTSTART:20231029T010000
RDATE:20240331T020000
TZOFFSETFROM:+0100
TZOFFSETTO:+0000
TZNAME:Atlantic/Canary WET
END:STANDARD
BEGIN:DAYLIGHT
DTSTART:20190331T020000
RDATE:20191027T010000
TZOFFSETFROM:+0000
TZOFFSETTO:+0100
TZNAME:Atlantic/Canary WEST
END:DAYLIGHT
BEGIN:DAYLIGHT
DTSTART:20200329T020000
RDATE:20201025T010000
TZOFFSETFROM:+0000
TZOFFSETTO:+0100
TZNAME:Atlantic/Canary WEST
END:DAYLIGHT
BEGIN:DAYLIGHT
DTSTART:20210328T020000
RDATE:20211031T010000
TZOFFSETFROM:+0000
TZOFFSETTO:+0100
TZNAME:Atlantic/Canary WEST
END:DAYLIGHT
BEGIN:DAYLIGHT
DTSTART:20220327T020000
RDATE:20221030T010000
TZOFFSETFROM:+0000
TZOFFSETTO:+0100
TZNAME:Atlantic/Canary WEST
END:DAYLIGHT
BEGIN:DAYLIGHT
DTSTART:20230326T020000
RDATE:20231029T010000
TZOFFSETFROM:+0000
TZOFFSETTO:+0100
TZNAME:Atlantic/Canary WEST
END:DAYLIGHT
END:VTIMEZONE
BEGIN:VEVENT
UID:6a2e28a014850d57be8e67b698d9ec8e
CATEGORIES:Exposiciones / Museos, Actividades de Formación 
CREATED:20191016T105655
SUMMARY:Taller 'El libro de poemas eróticos ilustrado' | Talleres del Centro de Artes Plásticas
LOCATION:Centro de Artes Plásticas
DESCRIPTION;ENCODING=QUOTED-PRINTABLE:\n\nS&aacute;bados 19, 26 octubre y 9 noviembre &middot; 11:00 a 12:30 h.\n
 \n\nA cargo de Elia Verona.\n\n\nEl taller es una propuesta multidisciplina
 r que invita a las personas participantes a disfrutar sacando a flote su cr
 eatividad. A lo largo de dos sesiones leeremos y construiremos poemas er&oa
 cute;ticos, los ilustraremos con collage y aprenderemos f&aacute;ciles t&ea
 cute;cnicas para encuadernarlos con cart&oacute;n reciclado. No es necesari
 o ning&uacute;n conocimiento previo. Puedes traer tus propios poemas er&oac
 ute;ticos o los de tus autores y autoras favoritas.\nEn primer lugar haremo
 s un acercamiento a la poes&iacute;a er&oacute;tica a trav&eacute;s de poet
 as de distintas &eacute;pocas e invitaremos a jugar a construir breves poem
 as con din&aacute;micas f&aacute;ciles y l&uacute;dicas. Estos textos los i
 lustraremos principalmente a trav&eacute;s de la t&eacute;cnica del collage
 . A trav&eacute;s de t&eacute;cnicas de encuadernaci&oacute;n cartonera le 
 daremos forma hasta convertirlo en un libro que contendr&aacute; nuestro po
 ema er&oacute;tico ilustrado.\n\n\nDestinado a mayores de 18 a&ntilde;os. M
 atr&iacute;cula gratuita. Plazas limitadas.\nInscripci&oacute;n previa en h
 orario de ma&ntilde;ana de 9:00 a 14:00 h., tel&eacute;fono 928 339 191.\nP
 lazo de matr&iacute;cula: del 14 al 16 de octubre.\n\n\n&nbsp;\n\n\n+ Info:
  Centro de Artes Pl&aacute;sticas\n
DTSTAMP:20260424T031946Z
DTSTART;TZID=Atlantic/Canary:20191029T173000
DTEND;TZID=Atlantic/Canary:20191030T203000
SEQUENCE:0
TRANSP:OPAQUE
END:VEVENT
END:VCALENDAR