BEGIN:VCALENDAR
VERSION:2.0
PRODID:-//jEvents 2.0 for Joomla//EN
CALSCALE:GREGORIAN
METHOD:PUBLISH
BEGIN:VTIMEZONE
TZID:Atlantic/Canary
BEGIN:STANDARD
DTSTART:20181028T010000
RDATE:20190331T020000
TZOFFSETFROM:+0100
TZOFFSETTO:+0000
TZNAME:Atlantic/Canary WET
END:STANDARD
BEGIN:STANDARD
DTSTART:20191027T010000
RDATE:20200329T020000
TZOFFSETFROM:+0100
TZOFFSETTO:+0000
TZNAME:Atlantic/Canary WET
END:STANDARD
BEGIN:STANDARD
DTSTART:20201025T010000
RDATE:20210328T020000
TZOFFSETFROM:+0100
TZOFFSETTO:+0000
TZNAME:Atlantic/Canary WET
END:STANDARD
BEGIN:STANDARD
DTSTART:20211031T010000
RDATE:20220327T020000
TZOFFSETFROM:+0100
TZOFFSETTO:+0000
TZNAME:Atlantic/Canary WET
END:STANDARD
BEGIN:STANDARD
DTSTART:20221030T010000
RDATE:20230326T020000
TZOFFSETFROM:+0100
TZOFFSETTO:+0000
TZNAME:Atlantic/Canary WET
END:STANDARD
BEGIN:STANDARD
DTSTART:20231029T010000
RDATE:20240331T020000
TZOFFSETFROM:+0100
TZOFFSETTO:+0000
TZNAME:Atlantic/Canary WET
END:STANDARD
BEGIN:DAYLIGHT
DTSTART:20181017T000000
RDATE:20181028T010000
TZOFFSETFROM:+0000
TZOFFSETTO:+0100
TZNAME:Atlantic/Canary WEST
END:DAYLIGHT
BEGIN:DAYLIGHT
DTSTART:20190331T020000
RDATE:20191027T010000
TZOFFSETFROM:+0000
TZOFFSETTO:+0100
TZNAME:Atlantic/Canary WEST
END:DAYLIGHT
BEGIN:DAYLIGHT
DTSTART:20200329T020000
RDATE:20201025T010000
TZOFFSETFROM:+0000
TZOFFSETTO:+0100
TZNAME:Atlantic/Canary WEST
END:DAYLIGHT
BEGIN:DAYLIGHT
DTSTART:20210328T020000
RDATE:20211031T010000
TZOFFSETFROM:+0000
TZOFFSETTO:+0100
TZNAME:Atlantic/Canary WEST
END:DAYLIGHT
BEGIN:DAYLIGHT
DTSTART:20220327T020000
RDATE:20221030T010000
TZOFFSETFROM:+0000
TZOFFSETTO:+0100
TZNAME:Atlantic/Canary WEST
END:DAYLIGHT
BEGIN:DAYLIGHT
DTSTART:20230326T020000
RDATE:20231029T010000
TZOFFSETFROM:+0000
TZOFFSETTO:+0100
TZNAME:Atlantic/Canary WEST
END:DAYLIGHT
END:VTIMEZONE
BEGIN:VEVENT
UID:6ffaca3acf065632bd9d7e51ff332639
CATEGORIES:Exposiciones / Museos
CREATED:20191023T103648
SUMMARY:Exposición "Después de todo. Aproximación a una década: los 90 en Canarias"
LOCATION:Centro de Arte La Regenta
DESCRIPTION;ENCODING=QUOTED-PRINTABLE:<p>Exposici&oacute;n colectiva multidisciplinar con una treintena de artist
 as que participaron en la escena del arte de Canarias en la d&eacute;cada d
 e los noventa.</p><p>El tiempo es un concepto relativo, una forma de medir 
 la distancia que existe entre los acontecimientos. Por lo que abordarlo sup
 one aceptar la lejan&iacute;a o cercan&iacute;a entre ellos.&nbsp;<em>Despu
 &eacute;s de todo. Aproximaci&oacute;n a una d&eacute;cada: los 90 en Canar
 ias</em>&nbsp;es un intento de pensar lo sucedido en esos huecos, a trav&ea
 cute;s de la suma de un conjunto de trabajos que no se relacionan bajo una 
 idea de temporalidad, sino que ponen de relieve la simultaneidad de las pro
 puestas y la necesidad de incorporar otros modos de leer un periodo.</p><p>
 <strong>+ Info: <a href="http://laregenta.org/exposiciones/actual/despues-d
 e-todo" target="_blank" rel="noopener noreferrer">Centro de Arte La Regenta
 </a></strong></p>
DTSTAMP:20260424T032320Z
DTSTART;TZID=Atlantic/Canary;VALUE=DATE:20191018
DTEND;TZID=Atlantic/Canary;VALUE=DATE:20200112
SEQUENCE:0
TRANSP:OPAQUE
END:VEVENT
END:VCALENDAR