BEGIN:VCALENDAR
VERSION:2.0
PRODID:-//jEvents 2.0 for Joomla//EN
CALSCALE:GREGORIAN
METHOD:PUBLISH
BEGIN:VTIMEZONE
TZID:Atlantic/Canary
BEGIN:STANDARD
DTSTART:20181028T010000
RDATE:20190331T020000
TZOFFSETFROM:+0100
TZOFFSETTO:+0000
TZNAME:Atlantic/Canary WET
END:STANDARD
BEGIN:STANDARD
DTSTART:20191027T010000
RDATE:20200329T020000
TZOFFSETFROM:+0100
TZOFFSETTO:+0000
TZNAME:Atlantic/Canary WET
END:STANDARD
BEGIN:STANDARD
DTSTART:20201025T010000
RDATE:20210328T020000
TZOFFSETFROM:+0100
TZOFFSETTO:+0000
TZNAME:Atlantic/Canary WET
END:STANDARD
BEGIN:STANDARD
DTSTART:20211031T010000
RDATE:20220327T020000
TZOFFSETFROM:+0100
TZOFFSETTO:+0000
TZNAME:Atlantic/Canary WET
END:STANDARD
BEGIN:STANDARD
DTSTART:20221030T010000
RDATE:20230326T020000
TZOFFSETFROM:+0100
TZOFFSETTO:+0000
TZNAME:Atlantic/Canary WET
END:STANDARD
BEGIN:STANDARD
DTSTART:20231029T010000
RDATE:20240331T020000
TZOFFSETFROM:+0100
TZOFFSETTO:+0000
TZNAME:Atlantic/Canary WET
END:STANDARD
BEGIN:DAYLIGHT
DTSTART:20181016T000000
RDATE:20181028T010000
TZOFFSETFROM:+0000
TZOFFSETTO:+0100
TZNAME:Atlantic/Canary WEST
END:DAYLIGHT
BEGIN:DAYLIGHT
DTSTART:20190331T020000
RDATE:20191027T010000
TZOFFSETFROM:+0000
TZOFFSETTO:+0100
TZNAME:Atlantic/Canary WEST
END:DAYLIGHT
BEGIN:DAYLIGHT
DTSTART:20200329T020000
RDATE:20201025T010000
TZOFFSETFROM:+0000
TZOFFSETTO:+0100
TZNAME:Atlantic/Canary WEST
END:DAYLIGHT
BEGIN:DAYLIGHT
DTSTART:20210328T020000
RDATE:20211031T010000
TZOFFSETFROM:+0000
TZOFFSETTO:+0100
TZNAME:Atlantic/Canary WEST
END:DAYLIGHT
BEGIN:DAYLIGHT
DTSTART:20220327T020000
RDATE:20221030T010000
TZOFFSETFROM:+0000
TZOFFSETTO:+0100
TZNAME:Atlantic/Canary WEST
END:DAYLIGHT
BEGIN:DAYLIGHT
DTSTART:20230326T020000
RDATE:20231029T010000
TZOFFSETFROM:+0000
TZOFFSETTO:+0100
TZNAME:Atlantic/Canary WEST
END:DAYLIGHT
END:VTIMEZONE
BEGIN:VEVENT
UID:dcdeca0f2981752df63f0a8dda1fe2b7
CATEGORIES:Exposiciones / Museos
CREATED:20191023T105322
SUMMARY:Exposición "Esther Ferrer"
LOCATION:CAAM
DESCRIPTION;ENCODING=QUOTED-PRINTABLE:<p>El Centro Atl&aacute;ntico de Arte Moderno (CAAM)&nbsp;presenta la expos
 ici&oacute;n&nbsp;<strong>&lsquo;Esther Ferrer&rsquo;</strong>&nbsp;con la 
 que esta instituci&oacute;n cultural rinde tributo a&nbsp;la artista espa&n
 tilde;ola&nbsp;m&aacute;s destacada del&nbsp;movimiento&nbsp;<strong>concep
 tual&nbsp;</strong>en nuestro pa&iacute;s y&nbsp;pionera&nbsp;del&nbsp;<str
 ong>arte de acci&oacute;n</strong>&nbsp;y la&nbsp;<strong>performance&nbsp;
 </strong>en Espa&ntilde;a.&nbsp;</p><p>El proyecto expositivo re&uacute;ne 
 una selecci&oacute;n de&nbsp;<strong>obras representativas</strong>&nbsp;de
 l&nbsp;universo creativo&nbsp;de Esther Ferrer a trav&eacute;s de&nbsp;<str
 ong>instalaciones&nbsp;</strong>ic&oacute;nicas de su amplia trayectoria ar
 t&iacute;stica,&nbsp;<strong>objetos&nbsp;</strong>y el registro en&nbsp;<s
 trong>fotograf&iacute;a&nbsp;</strong>y en&nbsp;<strong>v&iacute;deo&nbsp;<
 /strong>de diversas de sus performances.</p><p><strong>+ Info: <a href="htt
 p://www.caam.net/es/expos_int.php?n=4048" target="_blank" rel="noopener nor
 eferrer">CAAM</a></strong></p>
DTSTAMP:20260420T165036Z
DTSTART;TZID=Atlantic/Canary;VALUE=DATE:20191017
DTEND;TZID=Atlantic/Canary;VALUE=DATE:20200302
SEQUENCE:0
TRANSP:OPAQUE
END:VEVENT
END:VCALENDAR