BEGIN:VCALENDAR
VERSION:2.0
PRODID:-//jEvents 2.0 for Joomla//EN
CALSCALE:GREGORIAN
METHOD:PUBLISH
BEGIN:VTIMEZONE
TZID:Atlantic/Canary
BEGIN:STANDARD
DTSTART:20181030T210000
RDATE:20190331T020000
TZOFFSETFROM:+0100
TZOFFSETTO:+0000
TZNAME:Atlantic/Canary WET
END:STANDARD
BEGIN:STANDARD
DTSTART:20191027T010000
RDATE:20200329T020000
TZOFFSETFROM:+0100
TZOFFSETTO:+0000
TZNAME:Atlantic/Canary WET
END:STANDARD
BEGIN:STANDARD
DTSTART:20201025T010000
RDATE:20210328T020000
TZOFFSETFROM:+0100
TZOFFSETTO:+0000
TZNAME:Atlantic/Canary WET
END:STANDARD
BEGIN:STANDARD
DTSTART:20211031T010000
RDATE:20220327T020000
TZOFFSETFROM:+0100
TZOFFSETTO:+0000
TZNAME:Atlantic/Canary WET
END:STANDARD
BEGIN:STANDARD
DTSTART:20221030T010000
RDATE:20230326T020000
TZOFFSETFROM:+0100
TZOFFSETTO:+0000
TZNAME:Atlantic/Canary WET
END:STANDARD
BEGIN:STANDARD
DTSTART:20231029T010000
RDATE:20240331T020000
TZOFFSETFROM:+0100
TZOFFSETTO:+0000
TZNAME:Atlantic/Canary WET
END:STANDARD
BEGIN:DAYLIGHT
DTSTART:20190331T020000
RDATE:20191027T010000
TZOFFSETFROM:+0000
TZOFFSETTO:+0100
TZNAME:Atlantic/Canary WEST
END:DAYLIGHT
BEGIN:DAYLIGHT
DTSTART:20200329T020000
RDATE:20201025T010000
TZOFFSETFROM:+0000
TZOFFSETTO:+0100
TZNAME:Atlantic/Canary WEST
END:DAYLIGHT
BEGIN:DAYLIGHT
DTSTART:20210328T020000
RDATE:20211031T010000
TZOFFSETFROM:+0000
TZOFFSETTO:+0100
TZNAME:Atlantic/Canary WEST
END:DAYLIGHT
BEGIN:DAYLIGHT
DTSTART:20220327T020000
RDATE:20221030T010000
TZOFFSETFROM:+0000
TZOFFSETTO:+0100
TZNAME:Atlantic/Canary WEST
END:DAYLIGHT
BEGIN:DAYLIGHT
DTSTART:20230326T020000
RDATE:20231029T010000
TZOFFSETFROM:+0000
TZOFFSETTO:+0100
TZNAME:Atlantic/Canary WEST
END:DAYLIGHT
END:VTIMEZONE
BEGIN:VEVENT
UID:039d7ed31be1546b2e4cad5514531e0b
CATEGORIES:Artes escénicas / Danza
CREATED:20191024T095918
SUMMARY:Don Juan Tenorio en Vegueta
LOCATION:Plaza de Santa Ana
DESCRIPTION;ENCODING=QUOTED-PRINTABLE:<p><strong>A las 21:00 horas del jueves 31</strong>, los versos de Zorrilla
  regresar&aacute;n a Santa Ana con la representaci&oacute;n del &laquo;<str
 ong>Don Juan Tenorio en Vegueta 2019</strong>&raquo;.</p><p>Una producci&oa
 cute;n de&nbsp;2RC Teatro, Compa&ntilde;&iacute;a de Repertorio&nbsp;que ll
 ega con los acordes de &laquo;M&uacute;sica para una noche de &aacute;nimas
 &raquo; de&nbsp;Orquesta del Atl&aacute;ntico.</p><p><strong>+ Info: <a hre
 f="http://lpacultura.com/es/noticias-fiestas/1213-2rc-teatro-regresa-a-la-p
 laza-de-santa-ana-con-el-clasico-de-zorrilla" target="_blank" rel="noopener
  noreferrer">LPA Cultura</a></strong></p>
DTSTAMP:20260424T032321Z
DTSTART;TZID=Atlantic/Canary:20191031T210000
SEQUENCE:0
TRANSP:OPAQUE
END:VEVENT
END:VCALENDAR