BEGIN:VCALENDAR
VERSION:2.0
PRODID:-//jEvents 2.0 for Joomla//EN
CALSCALE:GREGORIAN
METHOD:PUBLISH
BEGIN:VTIMEZONE
TZID:Atlantic/Canary
BEGIN:STANDARD
DTSTART:20181115T180000
RDATE:20190331T020000
TZOFFSETFROM:+0100
TZOFFSETTO:+0000
TZNAME:Atlantic/Canary WET
END:STANDARD
BEGIN:STANDARD
DTSTART:20191027T010000
RDATE:20200329T020000
TZOFFSETFROM:+0100
TZOFFSETTO:+0000
TZNAME:Atlantic/Canary WET
END:STANDARD
BEGIN:STANDARD
DTSTART:20201025T010000
RDATE:20210328T020000
TZOFFSETFROM:+0100
TZOFFSETTO:+0000
TZNAME:Atlantic/Canary WET
END:STANDARD
BEGIN:STANDARD
DTSTART:20211031T010000
RDATE:20220327T020000
TZOFFSETFROM:+0100
TZOFFSETTO:+0000
TZNAME:Atlantic/Canary WET
END:STANDARD
BEGIN:STANDARD
DTSTART:20221030T010000
RDATE:20230326T020000
TZOFFSETFROM:+0100
TZOFFSETTO:+0000
TZNAME:Atlantic/Canary WET
END:STANDARD
BEGIN:STANDARD
DTSTART:20231029T010000
RDATE:20240331T020000
TZOFFSETFROM:+0100
TZOFFSETTO:+0000
TZNAME:Atlantic/Canary WET
END:STANDARD
BEGIN:DAYLIGHT
DTSTART:20190331T020000
RDATE:20191027T010000
TZOFFSETFROM:+0000
TZOFFSETTO:+0100
TZNAME:Atlantic/Canary WEST
END:DAYLIGHT
BEGIN:DAYLIGHT
DTSTART:20200329T020000
RDATE:20201025T010000
TZOFFSETFROM:+0000
TZOFFSETTO:+0100
TZNAME:Atlantic/Canary WEST
END:DAYLIGHT
BEGIN:DAYLIGHT
DTSTART:20210328T020000
RDATE:20211031T010000
TZOFFSETFROM:+0000
TZOFFSETTO:+0100
TZNAME:Atlantic/Canary WEST
END:DAYLIGHT
BEGIN:DAYLIGHT
DTSTART:20220327T020000
RDATE:20221030T010000
TZOFFSETFROM:+0000
TZOFFSETTO:+0100
TZNAME:Atlantic/Canary WEST
END:DAYLIGHT
BEGIN:DAYLIGHT
DTSTART:20230326T020000
RDATE:20231029T010000
TZOFFSETFROM:+0000
TZOFFSETTO:+0100
TZNAME:Atlantic/Canary WEST
END:DAYLIGHT
END:VTIMEZONE
BEGIN:VEVENT
UID:1290685258baae590e3b786ed2d12773
CATEGORIES:Artes escénicas / Danza
CREATED:20191029T144741
SUMMARY:ELECTRA, de Companhia do Chapitô
LOCATION:Teatro Cuyás
DESCRIPTION;ENCODING=QUOTED-PRINTABLE:<p>Despu&eacute;s de Edipo, la Companhia do Chapit&ocirc; se atreve con otr
 o t&iacute;tulo complejo &ndash;que no complicado&ndash; dentro del teatro 
 cl&aacute;sico griego: Electra. Y aun partiendo del episodio tr&aacute;gico
  de venganza de la hija de Agamen&oacute;n y Clitemnestra, la compa&ntilde;
 &iacute;a elabora una sofisticada parodia en un ingenioso espect&aacute;cul
 o de actualizaci&oacute;n, coherencia estil&iacute;stica, trabajo f&iacute;
 sico y concreci&oacute;n esc&eacute;nica: apenas se necesitan tres int&eacu
 te;rpretes y una escenograf&iacute;a a base de cucharas de postre para trae
 r hasta nuestros d&iacute;as el mito de S&oacute;focles en clave humor&iacu
 te;stica y sin perder un &aacute;pice de su naturaleza tr&aacute;gica.</p><
 p><strong>+ Info: <a href="https://www.teatrocuyas.com/portal2014/modules.p
 hp?mod=portal&amp;file=ver_evento2&amp;id=399" target="_blank" rel="noopene
 r noreferrer">Teatro Cuy&aacute;s</a></strong></p>
DTSTAMP:20260424T045517Z
DTSTART;TZID=Atlantic/Canary:20191116T180000
SEQUENCE:0
TRANSP:OPAQUE
END:VEVENT
END:VCALENDAR