BEGIN:VCALENDAR
VERSION:2.0
PRODID:-//jEvents 2.0 for Joomla//EN
CALSCALE:GREGORIAN
METHOD:PUBLISH
BEGIN:VTIMEZONE
TZID:Atlantic/Canary
BEGIN:STANDARD
DTSTART:20181128T203000
RDATE:20190331T020000
TZOFFSETFROM:+0100
TZOFFSETTO:+0000
TZNAME:Atlantic/Canary WET
END:STANDARD
BEGIN:STANDARD
DTSTART:20191027T010000
RDATE:20200329T020000
TZOFFSETFROM:+0100
TZOFFSETTO:+0000
TZNAME:Atlantic/Canary WET
END:STANDARD
BEGIN:STANDARD
DTSTART:20201025T010000
RDATE:20210328T020000
TZOFFSETFROM:+0100
TZOFFSETTO:+0000
TZNAME:Atlantic/Canary WET
END:STANDARD
BEGIN:STANDARD
DTSTART:20211031T010000
RDATE:20220327T020000
TZOFFSETFROM:+0100
TZOFFSETTO:+0000
TZNAME:Atlantic/Canary WET
END:STANDARD
BEGIN:STANDARD
DTSTART:20221030T010000
RDATE:20230326T020000
TZOFFSETFROM:+0100
TZOFFSETTO:+0000
TZNAME:Atlantic/Canary WET
END:STANDARD
BEGIN:STANDARD
DTSTART:20231029T010000
RDATE:20240331T020000
TZOFFSETFROM:+0100
TZOFFSETTO:+0000
TZNAME:Atlantic/Canary WET
END:STANDARD
BEGIN:DAYLIGHT
DTSTART:20190331T020000
RDATE:20191027T010000
TZOFFSETFROM:+0000
TZOFFSETTO:+0100
TZNAME:Atlantic/Canary WEST
END:DAYLIGHT
BEGIN:DAYLIGHT
DTSTART:20200329T020000
RDATE:20201025T010000
TZOFFSETFROM:+0000
TZOFFSETTO:+0100
TZNAME:Atlantic/Canary WEST
END:DAYLIGHT
BEGIN:DAYLIGHT
DTSTART:20210328T020000
RDATE:20211031T010000
TZOFFSETFROM:+0000
TZOFFSETTO:+0100
TZNAME:Atlantic/Canary WEST
END:DAYLIGHT
BEGIN:DAYLIGHT
DTSTART:20220327T020000
RDATE:20221030T010000
TZOFFSETFROM:+0000
TZOFFSETTO:+0100
TZNAME:Atlantic/Canary WEST
END:DAYLIGHT
BEGIN:DAYLIGHT
DTSTART:20230326T020000
RDATE:20231029T010000
TZOFFSETFROM:+0000
TZOFFSETTO:+0100
TZNAME:Atlantic/Canary WEST
END:DAYLIGHT
END:VTIMEZONE
BEGIN:VEVENT
UID:3929e70fe6911b124603978a4430b433
CATEGORIES:Artes escénicas / Danza
CREATED:20191029T145602
SUMMARY: THE LEHMAN TRILOGY, de S. Massini
LOCATION:Teatro Cuyás
DESCRIPTION;ENCODING=QUOTED-PRINTABLE:\n\nLehman Trilogy reflexiona sobre el poder destructor del dinero y la des
 humanizaci&oacute;n que han sufrido las instituciones econ&oacute;micas y p
 ol&iacute;ticas desbordadas por la loca carrera en busca del f&aacute;cil b
 eneficio.\n\n\n3 actos, de alrededor de 45 minutos cada uno, conforman un e
 spect&aacute;culo diferente a lo habitual en su formato, atravesando a trav
 &eacute;s del humor y del relato, las diferentes etapas de la construcci&oa
 cute;n del capitalismo moderno, con un aroma a la vez pedag&oacute;gico y c
 r&iacute;tico, haciendo al p&uacute;blico part&iacute;cipe de los vaivenes 
 de la econom&iacute;a.\n\n\n+ Info: Teatro Cuy&aacute;s\n
DTSTAMP:20260424T045229Z
DTSTART;TZID=Atlantic/Canary:20191129T203000
DTEND;TZID=Atlantic/Canary:20191130T203000
SEQUENCE:0
TRANSP:OPAQUE
END:VEVENT
END:VCALENDAR