BEGIN:VCALENDAR
VERSION:2.0
PRODID:-//jEvents 2.0 for Joomla//EN
CALSCALE:GREGORIAN
METHOD:PUBLISH
BEGIN:VTIMEZONE
TZID:Atlantic/Canary
BEGIN:STANDARD
DTSTART:20181105T190000
RDATE:20190331T020000
TZOFFSETFROM:+0100
TZOFFSETTO:+0000
TZNAME:Atlantic/Canary WET
END:STANDARD
BEGIN:STANDARD
DTSTART:20191027T010000
RDATE:20200329T020000
TZOFFSETFROM:+0100
TZOFFSETTO:+0000
TZNAME:Atlantic/Canary WET
END:STANDARD
BEGIN:STANDARD
DTSTART:20201025T010000
RDATE:20210328T020000
TZOFFSETFROM:+0100
TZOFFSETTO:+0000
TZNAME:Atlantic/Canary WET
END:STANDARD
BEGIN:STANDARD
DTSTART:20211031T010000
RDATE:20220327T020000
TZOFFSETFROM:+0100
TZOFFSETTO:+0000
TZNAME:Atlantic/Canary WET
END:STANDARD
BEGIN:STANDARD
DTSTART:20221030T010000
RDATE:20230326T020000
TZOFFSETFROM:+0100
TZOFFSETTO:+0000
TZNAME:Atlantic/Canary WET
END:STANDARD
BEGIN:STANDARD
DTSTART:20231029T010000
RDATE:20240331T020000
TZOFFSETFROM:+0100
TZOFFSETTO:+0000
TZNAME:Atlantic/Canary WET
END:STANDARD
BEGIN:DAYLIGHT
DTSTART:20190331T020000
RDATE:20191027T010000
TZOFFSETFROM:+0000
TZOFFSETTO:+0100
TZNAME:Atlantic/Canary WEST
END:DAYLIGHT
BEGIN:DAYLIGHT
DTSTART:20200329T020000
RDATE:20201025T010000
TZOFFSETFROM:+0000
TZOFFSETTO:+0100
TZNAME:Atlantic/Canary WEST
END:DAYLIGHT
BEGIN:DAYLIGHT
DTSTART:20210328T020000
RDATE:20211031T010000
TZOFFSETFROM:+0000
TZOFFSETTO:+0100
TZNAME:Atlantic/Canary WEST
END:DAYLIGHT
BEGIN:DAYLIGHT
DTSTART:20220327T020000
RDATE:20221030T010000
TZOFFSETFROM:+0000
TZOFFSETTO:+0100
TZNAME:Atlantic/Canary WEST
END:DAYLIGHT
BEGIN:DAYLIGHT
DTSTART:20230326T020000
RDATE:20231029T010000
TZOFFSETFROM:+0000
TZOFFSETTO:+0100
TZNAME:Atlantic/Canary WEST
END:DAYLIGHT
END:VTIMEZONE
BEGIN:VEVENT
UID:61ac0ca1327b78d84f48153317ce9635
CATEGORIES:Audiovisuales / Cine
CREATED:20191106T013213
SUMMARY:Proyección de "Concepción Arenal" | Ciclo "Ellas mueven el mundo"
LOCATION:Casa Museo Pérez Galdós
DESCRIPTION;ENCODING=QUOTED-PRINTABLE:\n\nEsta pel&iacute;cula se centra en la faceta social de la mujer que refo
 rm&oacute; el sistema penitenciario y fue probablemente la primera activist
 a feminista del mundo moderno en Espa&ntilde;a. Retrata a Concepci&oacute;n
  Arenal como visitadora de c&aacute;rceles de mujeres. Su lucha se centr&oa
 cute; por cambiar la concepci&oacute;n que hab&iacute;a sobre los delincuen
 tes y lo que ten&iacute;a que ser las c&aacute;rceles modernas.\n\n\nEntrad
 a gratuita. Hasta completar aforo\n\n\nColabora: Asociaci&oacute;n de Cine 
 V&eacute;rtigo.\n\n\n+ Info:&nbsp;Casa-Museo P&eacute;rez Gald&oacute;s\n&n
 bsp;
DTSTAMP:20260424T045228Z
DTSTART;TZID=Atlantic/Canary:20191106T190000
SEQUENCE:0
TRANSP:OPAQUE
END:VEVENT
END:VCALENDAR