BEGIN:VCALENDAR
VERSION:2.0
PRODID:-//jEvents 2.0 for Joomla//EN
CALSCALE:GREGORIAN
METHOD:PUBLISH
BEGIN:VTIMEZONE
TZID:Atlantic/Canary
BEGIN:STANDARD
DTSTART:20181107T203000
RDATE:20190331T020000
TZOFFSETFROM:+0100
TZOFFSETTO:+0000
TZNAME:Atlantic/Canary WET
END:STANDARD
BEGIN:STANDARD
DTSTART:20191027T010000
RDATE:20200329T020000
TZOFFSETFROM:+0100
TZOFFSETTO:+0000
TZNAME:Atlantic/Canary WET
END:STANDARD
BEGIN:STANDARD
DTSTART:20201025T010000
RDATE:20210328T020000
TZOFFSETFROM:+0100
TZOFFSETTO:+0000
TZNAME:Atlantic/Canary WET
END:STANDARD
BEGIN:STANDARD
DTSTART:20211031T010000
RDATE:20220327T020000
TZOFFSETFROM:+0100
TZOFFSETTO:+0000
TZNAME:Atlantic/Canary WET
END:STANDARD
BEGIN:STANDARD
DTSTART:20221030T010000
RDATE:20230326T020000
TZOFFSETFROM:+0100
TZOFFSETTO:+0000
TZNAME:Atlantic/Canary WET
END:STANDARD
BEGIN:STANDARD
DTSTART:20231029T010000
RDATE:20240331T020000
TZOFFSETFROM:+0100
TZOFFSETTO:+0000
TZNAME:Atlantic/Canary WET
END:STANDARD
BEGIN:DAYLIGHT
DTSTART:20190331T020000
RDATE:20191027T010000
TZOFFSETFROM:+0000
TZOFFSETTO:+0100
TZNAME:Atlantic/Canary WEST
END:DAYLIGHT
BEGIN:DAYLIGHT
DTSTART:20200329T020000
RDATE:20201025T010000
TZOFFSETFROM:+0000
TZOFFSETTO:+0100
TZNAME:Atlantic/Canary WEST
END:DAYLIGHT
BEGIN:DAYLIGHT
DTSTART:20210328T020000
RDATE:20211031T010000
TZOFFSETFROM:+0000
TZOFFSETTO:+0100
TZNAME:Atlantic/Canary WEST
END:DAYLIGHT
BEGIN:DAYLIGHT
DTSTART:20220327T020000
RDATE:20221030T010000
TZOFFSETFROM:+0000
TZOFFSETTO:+0100
TZNAME:Atlantic/Canary WEST
END:DAYLIGHT
BEGIN:DAYLIGHT
DTSTART:20230326T020000
RDATE:20231029T010000
TZOFFSETFROM:+0000
TZOFFSETTO:+0100
TZNAME:Atlantic/Canary WEST
END:DAYLIGHT
END:VTIMEZONE
BEGIN:VEVENT
UID:b7edc5fbe2fe8fbc1d106c8fd78b767c
CATEGORIES:Artes escénicas / Danza
CREATED:20191108T100700
SUMMARY:La Cama
LOCATION:Teatro Guiniguada
DESCRIPTION;ENCODING=QUOTED-PRINTABLE:<p>&ldquo;No me pregunten qui&eacute;n soy, ni me pidan que siga siendo el 
 mismo.&rdquo; Con esta frase Michel Foucault nos recuerda que las personas 
 evolucionamos a lo largo de los a&ntilde;os, no somos seres est&aacute;tico
 s. Nos adaptamos y cambiamos a medida que nuestra vida avanza. Esto mismo p
 odr&iacute;a ser aplicado a la cultura, a la idiosincrasia de cualquier gru
 po social, de hecho, contin&uacute;a Foucault: &ldquo;Si la genealog&iacute
 ;a plantea por su parte la cuesti&oacute;n del suelo que nos ha visto nacer
 , de la lengua que hablamos o de las leyes que nos gobiernan, es para resal
 tar los sistemas heterog&eacute;neos, que, bajo la m&aacute;scara de nuestr
 o yo, nos proh&iacute;ben toda identidad.&rdquo; Este es el colch&oacute;n 
 sobre el que queremos saltar, sobre el que queremos jugar a tirarnos de la 
 cama para proclamar un &uacute;nico y rid&iacute;culo due&ntilde;o.&nbsp;&n
 bsp;</p><p><strong>Abubukaka</strong>&nbsp;quiere satirizar sobre el mundo 
 actual, quiere cantarle a la brutalidad y terminar rebuscando en el absurdo
  de la identidad.</p><p><strong>+ Info: <a href="https://www3.gobiernodecan
 arias.org/cultura/teatroguiniguada/eventos/la-cama/" target="_blank" rel="n
 oopener noreferrer">Teatro Guiniguada</a></strong></p>
DTSTAMP:20260424T045500Z
DTSTART;TZID=Atlantic/Canary:20191108T203000
DTEND;TZID=Atlantic/Canary:20191109T203000
SEQUENCE:0
TRANSP:OPAQUE
END:VEVENT
END:VCALENDAR