BEGIN:VCALENDAR
VERSION:2.0
PRODID:-//jEvents 2.0 for Joomla//EN
CALSCALE:GREGORIAN
METHOD:PUBLISH
BEGIN:VTIMEZONE
TZID:Atlantic/Canary
BEGIN:STANDARD
DTSTART:20181111T190000
RDATE:20190331T020000
TZOFFSETFROM:+0100
TZOFFSETTO:+0000
TZNAME:Atlantic/Canary WET
END:STANDARD
BEGIN:STANDARD
DTSTART:20191027T010000
RDATE:20200329T020000
TZOFFSETFROM:+0100
TZOFFSETTO:+0000
TZNAME:Atlantic/Canary WET
END:STANDARD
BEGIN:STANDARD
DTSTART:20201025T010000
RDATE:20210328T020000
TZOFFSETFROM:+0100
TZOFFSETTO:+0000
TZNAME:Atlantic/Canary WET
END:STANDARD
BEGIN:STANDARD
DTSTART:20211031T010000
RDATE:20220327T020000
TZOFFSETFROM:+0100
TZOFFSETTO:+0000
TZNAME:Atlantic/Canary WET
END:STANDARD
BEGIN:STANDARD
DTSTART:20221030T010000
RDATE:20230326T020000
TZOFFSETFROM:+0100
TZOFFSETTO:+0000
TZNAME:Atlantic/Canary WET
END:STANDARD
BEGIN:STANDARD
DTSTART:20231029T010000
RDATE:20240331T020000
TZOFFSETFROM:+0100
TZOFFSETTO:+0000
TZNAME:Atlantic/Canary WET
END:STANDARD
BEGIN:DAYLIGHT
DTSTART:20190331T020000
RDATE:20191027T010000
TZOFFSETFROM:+0000
TZOFFSETTO:+0100
TZNAME:Atlantic/Canary WEST
END:DAYLIGHT
BEGIN:DAYLIGHT
DTSTART:20200329T020000
RDATE:20201025T010000
TZOFFSETFROM:+0000
TZOFFSETTO:+0100
TZNAME:Atlantic/Canary WEST
END:DAYLIGHT
BEGIN:DAYLIGHT
DTSTART:20210328T020000
RDATE:20211031T010000
TZOFFSETFROM:+0000
TZOFFSETTO:+0100
TZNAME:Atlantic/Canary WEST
END:DAYLIGHT
BEGIN:DAYLIGHT
DTSTART:20220327T020000
RDATE:20221030T010000
TZOFFSETFROM:+0000
TZOFFSETTO:+0100
TZNAME:Atlantic/Canary WEST
END:DAYLIGHT
BEGIN:DAYLIGHT
DTSTART:20230326T020000
RDATE:20231029T010000
TZOFFSETFROM:+0000
TZOFFSETTO:+0100
TZNAME:Atlantic/Canary WEST
END:DAYLIGHT
END:VTIMEZONE
BEGIN:VEVENT
UID:d4cfe6afcf6025e8c54489d3906d47b8
CATEGORIES:Audiovisuales / Cine
CREATED:20191108T101213
SUMMARY:La otra alcoba | Ciclo El tiempo de Eloy de la Iglesia
LOCATION:Teatro Guiniguada
DESCRIPTION;ENCODING=QUOTED-PRINTABLE:\n\nFilmoteca Canaria dedica un ciclo a Eloy de la Iglesia (1944 &ndash; 20
 06), director transgresor y provocador, cuyo cine, combativo, exaltado, mil
 itante, fue (es todav&iacute;a) el mejor testimonio del tiempo que le toc&o
 acute; vivir: la transici&oacute;n espa&ntilde;ola.\n\n\nSINOPSIS:\n\n\nJua
 n, empleado de una gasolinera, va a casarse con Charo, su novia, y quiz&aac
 ute; consiga ascender en su trabajo. Diana, una rica clienta de la gasoline
 ra casada con un hombre importante, desea tener un hijo, pero sabe que su m
 arido es est&eacute;ril. Diana decide utilizar a Juan haci&eacute;ndole cre
 er que est&aacute; enamorada de &eacute;l. Juan la cree y, tras su relaci&o
 acute;n, Diana queda embarazada. Surgen entonces los problemas entre los do
 s hombres, que quieren ser padres del hijo que va a nacer. Una de las pel&i
 acute;culas m&aacute;s taquilleras de Eloy de la Iglesia, en parte debido a
  su pareja protagonista, por entonces matrimonio en la vida real.\n\n\n+ In
 fo: Teatro Guiniguada\n\n\n&nbsp;\n
DTSTAMP:20260424T045228Z
DTSTART;TZID=Atlantic/Canary:20191112T190000
SEQUENCE:0
TRANSP:OPAQUE
END:VEVENT
END:VCALENDAR