BEGIN:VCALENDAR
VERSION:2.0
PRODID:-//jEvents 2.0 for Joomla//EN
CALSCALE:GREGORIAN
METHOD:PUBLISH
BEGIN:VTIMEZONE
TZID:Atlantic/Canary
BEGIN:STANDARD
DTSTART:20181118T190000
RDATE:20190331T020000
TZOFFSETFROM:+0100
TZOFFSETTO:+0000
TZNAME:Atlantic/Canary WET
END:STANDARD
BEGIN:STANDARD
DTSTART:20191027T010000
RDATE:20200329T020000
TZOFFSETFROM:+0100
TZOFFSETTO:+0000
TZNAME:Atlantic/Canary WET
END:STANDARD
BEGIN:STANDARD
DTSTART:20201025T010000
RDATE:20210328T020000
TZOFFSETFROM:+0100
TZOFFSETTO:+0000
TZNAME:Atlantic/Canary WET
END:STANDARD
BEGIN:STANDARD
DTSTART:20211031T010000
RDATE:20220327T020000
TZOFFSETFROM:+0100
TZOFFSETTO:+0000
TZNAME:Atlantic/Canary WET
END:STANDARD
BEGIN:STANDARD
DTSTART:20221030T010000
RDATE:20230326T020000
TZOFFSETFROM:+0100
TZOFFSETTO:+0000
TZNAME:Atlantic/Canary WET
END:STANDARD
BEGIN:STANDARD
DTSTART:20231029T010000
RDATE:20240331T020000
TZOFFSETFROM:+0100
TZOFFSETTO:+0000
TZNAME:Atlantic/Canary WET
END:STANDARD
BEGIN:DAYLIGHT
DTSTART:20190331T020000
RDATE:20191027T010000
TZOFFSETFROM:+0000
TZOFFSETTO:+0100
TZNAME:Atlantic/Canary WEST
END:DAYLIGHT
BEGIN:DAYLIGHT
DTSTART:20200329T020000
RDATE:20201025T010000
TZOFFSETFROM:+0000
TZOFFSETTO:+0100
TZNAME:Atlantic/Canary WEST
END:DAYLIGHT
BEGIN:DAYLIGHT
DTSTART:20210328T020000
RDATE:20211031T010000
TZOFFSETFROM:+0000
TZOFFSETTO:+0100
TZNAME:Atlantic/Canary WEST
END:DAYLIGHT
BEGIN:DAYLIGHT
DTSTART:20220327T020000
RDATE:20221030T010000
TZOFFSETFROM:+0000
TZOFFSETTO:+0100
TZNAME:Atlantic/Canary WEST
END:DAYLIGHT
BEGIN:DAYLIGHT
DTSTART:20230326T020000
RDATE:20231029T010000
TZOFFSETFROM:+0000
TZOFFSETTO:+0100
TZNAME:Atlantic/Canary WEST
END:DAYLIGHT
END:VTIMEZONE
BEGIN:VEVENT
UID:2d3ac43564f3988d349d81781e0d3f16
CATEGORIES:Audiovisuales / Cine
CREATED:20191108T101556
SUMMARY:Los placeres ocultos | Ciclo El tiempo de Eloy de la Iglesia
LOCATION:Teatro Guiniguada
DESCRIPTION;ENCODING=QUOTED-PRINTABLE:<p>Filmoteca Canaria dedica un ciclo a Eloy de la Iglesia (1944 &ndash; 200
 6), director transgresor y provocador, cuyo cine, combativo, exaltado, mili
 tante, fue (es todav&iacute;a) el mejor testimonio del tiempo que le toc&oa
 cute; vivir: la transici&oacute;n espa&ntilde;ola.</p><p><strong>SINOPSIS:<
 /strong></p><p>Eduardo, un homosexual de familia adinerada, se encuentra co
 n Miguel, un muchacho de clase humilde, novio de Carmen y amante de Rosa, u
 na mujer casada. Eduardo sabe que Miguel nunca acceder&aacute; a sus preten
 siones y decide tenerlo a su lado como amigo. Lo protege, le hace regalos, 
 pero nunca se atreve a declararle sus verdaderos sentimientos. Cuando por f
 in lo hace, Miguel lo desprecia y se aparta de &eacute;l. Rosa se venga del
  abandono de Miguel, que desesperado al perder a su novia provoca un esc&aa
 cute;ndalo. La primera pel&iacute;cula espa&ntilde;ola en tratar abiertamen
 te el tema de la homosexualidad, convertida en objeto de culto internaciona
 l.</p><p><strong>+ Info: <a href="https://www3.gobiernodecanarias.org/cultu
 ra/teatroguiniguada/eventos/filmoteca-canaria-los-placeres-ocultos/" target
 ="_blank" rel="noopener noreferrer">Teatro Guiniguada</a></strong></p><p>&n
 bsp;</p><div id="gtx-trans" style="position: absolute; left: 34px; top: 131
 .333px;">&nbsp;</div>
DTSTAMP:20260424T045502Z
DTSTART;TZID=Atlantic/Canary:20191119T190000
SEQUENCE:0
TRANSP:OPAQUE
END:VEVENT
END:VCALENDAR