BEGIN:VCALENDAR
VERSION:2.0
PRODID:-//jEvents 2.0 for Joomla//EN
CALSCALE:GREGORIAN
METHOD:PUBLISH
BEGIN:VTIMEZONE
TZID:Atlantic/Canary
BEGIN:STANDARD
DTSTART:20181120T170000
RDATE:20190331T020000
TZOFFSETFROM:+0100
TZOFFSETTO:+0000
TZNAME:Atlantic/Canary WET
END:STANDARD
BEGIN:STANDARD
DTSTART:20191027T010000
RDATE:20200329T020000
TZOFFSETFROM:+0100
TZOFFSETTO:+0000
TZNAME:Atlantic/Canary WET
END:STANDARD
BEGIN:STANDARD
DTSTART:20201025T010000
RDATE:20210328T020000
TZOFFSETFROM:+0100
TZOFFSETTO:+0000
TZNAME:Atlantic/Canary WET
END:STANDARD
BEGIN:STANDARD
DTSTART:20211031T010000
RDATE:20220327T020000
TZOFFSETFROM:+0100
TZOFFSETTO:+0000
TZNAME:Atlantic/Canary WET
END:STANDARD
BEGIN:STANDARD
DTSTART:20221030T010000
RDATE:20230326T020000
TZOFFSETFROM:+0100
TZOFFSETTO:+0000
TZNAME:Atlantic/Canary WET
END:STANDARD
BEGIN:STANDARD
DTSTART:20231029T010000
RDATE:20240331T020000
TZOFFSETFROM:+0100
TZOFFSETTO:+0000
TZNAME:Atlantic/Canary WET
END:STANDARD
BEGIN:DAYLIGHT
DTSTART:20190331T020000
RDATE:20191027T010000
TZOFFSETFROM:+0000
TZOFFSETTO:+0100
TZNAME:Atlantic/Canary WEST
END:DAYLIGHT
BEGIN:DAYLIGHT
DTSTART:20200329T020000
RDATE:20201025T010000
TZOFFSETFROM:+0000
TZOFFSETTO:+0100
TZNAME:Atlantic/Canary WEST
END:DAYLIGHT
BEGIN:DAYLIGHT
DTSTART:20210328T020000
RDATE:20211031T010000
TZOFFSETFROM:+0000
TZOFFSETTO:+0100
TZNAME:Atlantic/Canary WEST
END:DAYLIGHT
BEGIN:DAYLIGHT
DTSTART:20220327T020000
RDATE:20221030T010000
TZOFFSETFROM:+0000
TZOFFSETTO:+0100
TZNAME:Atlantic/Canary WEST
END:DAYLIGHT
BEGIN:DAYLIGHT
DTSTART:20230326T020000
RDATE:20231029T010000
TZOFFSETFROM:+0000
TZOFFSETTO:+0100
TZNAME:Atlantic/Canary WEST
END:DAYLIGHT
END:VTIMEZONE
BEGIN:VEVENT
UID:ca31a531254ac70d6f59160db7e05780
CATEGORIES:Encuentros / Conferencias
CREATED:20191108T102652
SUMMARY:Masterclass de Andrés Vázquez Archdale, Técnico de sonido
LOCATION:Teatro Guiniguada
DESCRIPTION;ENCODING=QUOTED-PRINTABLE:<p>Andr&eacute;s V&aacute;zquez Archdale es un reputado t&eacute;cnico de s
 onido y m&uacute;sico que ha ido combinando ambas actividades a lo largo de
  su carrera hasta acabar centr&aacute;ndose en la grabaci&oacute;n. Su gust
 o por la m&uacute;sica, junto con su formaci&oacute;n cl&aacute;sica en sol
 feo, viol&iacute;n y piano, le llev&oacute; a hacer varias incursiones en l
 a composici&oacute;n de bandas sonoras a finales de los 80 y durante los 90
 . En la actualidad, alterna entre los m&uacute;ltiples trabajos en estudio 
 con una larga lista de productores y m&uacute;sicos; y una encomiable labor
  docente acerca del mundo de la grabaci&oacute;n y sus aplicaciones en su v
 ersi&oacute;n m&aacute;s actualizada.</p><p>Andr&eacute;s V&aacute;zquez im
 partir&aacute; una&nbsp;<strong>Master Class</strong>, gratuita y abierta a
 l p&uacute;blico, sobre grabaci&oacute;n y utilizaci&oacute;n de distintos 
 software y como sacarle el m&aacute;ximo rendimiento a tu equipo.</p><p><st
 rong>+ Info: <a href="https://www3.gobiernodecanarias.org/cultura/teatrogui
 niguada/eventos/andres-vazquez-archdale-tecnico-de-sonido/" target="_blank"
  rel="noopener noreferrer">Teatro Guiniguada</a></strong></p>
DTSTAMP:20260424T045500Z
DTSTART;TZID=Atlantic/Canary:20191121T170000
DTEND;TZID=Atlantic/Canary:20191121T190000
SEQUENCE:0
TRANSP:OPAQUE
END:VEVENT
END:VCALENDAR