BEGIN:VCALENDAR
VERSION:2.0
PRODID:-//jEvents 2.0 for Joomla//EN
CALSCALE:GREGORIAN
METHOD:PUBLISH
BEGIN:VTIMEZONE
TZID:Atlantic/Canary
BEGIN:STANDARD
DTSTART:20181107T080000
RDATE:20190331T020000
TZOFFSETFROM:+0100
TZOFFSETTO:+0000
TZNAME:Atlantic/Canary WET
END:STANDARD
BEGIN:STANDARD
DTSTART:20191027T010000
RDATE:20200329T020000
TZOFFSETFROM:+0100
TZOFFSETTO:+0000
TZNAME:Atlantic/Canary WET
END:STANDARD
BEGIN:STANDARD
DTSTART:20201025T010000
RDATE:20210328T020000
TZOFFSETFROM:+0100
TZOFFSETTO:+0000
TZNAME:Atlantic/Canary WET
END:STANDARD
BEGIN:STANDARD
DTSTART:20211031T010000
RDATE:20220327T020000
TZOFFSETFROM:+0100
TZOFFSETTO:+0000
TZNAME:Atlantic/Canary WET
END:STANDARD
BEGIN:STANDARD
DTSTART:20221030T010000
RDATE:20230326T020000
TZOFFSETFROM:+0100
TZOFFSETTO:+0000
TZNAME:Atlantic/Canary WET
END:STANDARD
BEGIN:STANDARD
DTSTART:20231029T010000
RDATE:20240331T020000
TZOFFSETFROM:+0100
TZOFFSETTO:+0000
TZNAME:Atlantic/Canary WET
END:STANDARD
BEGIN:DAYLIGHT
DTSTART:20190331T020000
RDATE:20191027T010000
TZOFFSETFROM:+0000
TZOFFSETTO:+0100
TZNAME:Atlantic/Canary WEST
END:DAYLIGHT
BEGIN:DAYLIGHT
DTSTART:20200329T020000
RDATE:20201025T010000
TZOFFSETFROM:+0000
TZOFFSETTO:+0100
TZNAME:Atlantic/Canary WEST
END:DAYLIGHT
BEGIN:DAYLIGHT
DTSTART:20210328T020000
RDATE:20211031T010000
TZOFFSETFROM:+0000
TZOFFSETTO:+0100
TZNAME:Atlantic/Canary WEST
END:DAYLIGHT
BEGIN:DAYLIGHT
DTSTART:20220327T020000
RDATE:20221030T010000
TZOFFSETFROM:+0000
TZOFFSETTO:+0100
TZNAME:Atlantic/Canary WEST
END:DAYLIGHT
BEGIN:DAYLIGHT
DTSTART:20230326T020000
RDATE:20231029T010000
TZOFFSETFROM:+0000
TZOFFSETTO:+0100
TZNAME:Atlantic/Canary WEST
END:DAYLIGHT
END:VTIMEZONE
BEGIN:VEVENT
UID:467c7825d3c847eb0757a8fec4c23d74
CATEGORIES:Encuentros / Conferencias
CREATED:20191108T115609
SUMMARY:#Guiniguada: Especial Navidad
LOCATION:Teatro Guiniguada
DESCRIPTION;ENCODING=QUOTED-PRINTABLE:<p>Ya est&aacute; la Navidad en la puerta, Pap&aacute; Noel pasando la ITV 
 del trineo, los Reyes Magos peleando con Donald Trump en busca de un visado
  y El Cad&aacute;ver Exquisito trae su particular&nbsp;<strong>ESPECIAL DE 
 NAVIDAD</strong>.</p><p>Para empezar, va a durar el doble. Dos horitas de p
 ura locura.</p><p>Para seguir, ser&aacute; un d&iacute;a freestyle, con var
 ios temas, posibilidad de proponerlos desde el p&uacute;blico, ocasiones (m
 uchas) para poner en apuros al equipo del programa&hellip; Una fiesta para 
 cerrar el primer a&ntilde;o de #Guiniguada con la alegr&iacute;a que merece
 .</p><p>Y eso que a&uacute;n no hemos hablado de los invitados&hellip; YANE
 LY HERN&Aacute;NDEZ, nada m&aacute;s y nada menos, se unir&aacute; a la mes
 a para jugar con nosotros. Es la &uacute;nica que vamos a anunciar, pero no
  la &uacute;nica que se subir&aacute; al escenario. Sorpresas, sorpresas y 
 m&aacute;s sorpresas.</p><p><strong>+ Info: <a href="https://www3.gobiernod
 ecanarias.org/cultura/teatroguiniguada/eventos/guiniguada-especial-navidad/
 " target="_blank" rel="noopener noreferrer">Teatro Guiniguada</a></strong><
 /p>
DTSTAMP:20260424T045502Z
DTSTART;TZID=Atlantic/Canary:20191108T080000
DTEND;TZID=Atlantic/Canary:20191108T170000
SEQUENCE:0
TRANSP:OPAQUE
END:VEVENT
END:VCALENDAR