BEGIN:VCALENDAR
VERSION:2.0
PRODID:-//jEvents 2.0 for Joomla//EN
CALSCALE:GREGORIAN
METHOD:PUBLISH
BEGIN:VTIMEZONE
TZID:Atlantic/Canary
BEGIN:STANDARD
DTSTART:20181213T203000
RDATE:20190331T020000
TZOFFSETFROM:+0100
TZOFFSETTO:+0000
TZNAME:Atlantic/Canary WET
END:STANDARD
BEGIN:STANDARD
DTSTART:20191027T010000
RDATE:20200329T020000
TZOFFSETFROM:+0100
TZOFFSETTO:+0000
TZNAME:Atlantic/Canary WET
END:STANDARD
BEGIN:STANDARD
DTSTART:20201025T010000
RDATE:20210328T020000
TZOFFSETFROM:+0100
TZOFFSETTO:+0000
TZNAME:Atlantic/Canary WET
END:STANDARD
BEGIN:STANDARD
DTSTART:20211031T010000
RDATE:20220327T020000
TZOFFSETFROM:+0100
TZOFFSETTO:+0000
TZNAME:Atlantic/Canary WET
END:STANDARD
BEGIN:STANDARD
DTSTART:20221030T010000
RDATE:20230326T020000
TZOFFSETFROM:+0100
TZOFFSETTO:+0000
TZNAME:Atlantic/Canary WET
END:STANDARD
BEGIN:STANDARD
DTSTART:20231029T010000
RDATE:20240331T020000
TZOFFSETFROM:+0100
TZOFFSETTO:+0000
TZNAME:Atlantic/Canary WET
END:STANDARD
BEGIN:DAYLIGHT
DTSTART:20190331T020000
RDATE:20191027T010000
TZOFFSETFROM:+0000
TZOFFSETTO:+0100
TZNAME:Atlantic/Canary WEST
END:DAYLIGHT
BEGIN:DAYLIGHT
DTSTART:20200329T020000
RDATE:20201025T010000
TZOFFSETFROM:+0000
TZOFFSETTO:+0100
TZNAME:Atlantic/Canary WEST
END:DAYLIGHT
BEGIN:DAYLIGHT
DTSTART:20210328T020000
RDATE:20211031T010000
TZOFFSETFROM:+0000
TZOFFSETTO:+0100
TZNAME:Atlantic/Canary WEST
END:DAYLIGHT
BEGIN:DAYLIGHT
DTSTART:20220327T020000
RDATE:20221030T010000
TZOFFSETFROM:+0000
TZOFFSETTO:+0100
TZNAME:Atlantic/Canary WEST
END:DAYLIGHT
BEGIN:DAYLIGHT
DTSTART:20230326T020000
RDATE:20231029T010000
TZOFFSETFROM:+0000
TZOFFSETTO:+0100
TZNAME:Atlantic/Canary WEST
END:DAYLIGHT
END:VTIMEZONE
BEGIN:VEVENT
UID:788af277e80ace77d05dfc2cc22472b7
CATEGORIES:Música
CREATED:20191108T120733
SUMMARY:Concierto de Vocal 7
LOCATION:Teatro Guiniguada
DESCRIPTION;ENCODING=QUOTED-PRINTABLE:<p><em>&laquo;</em>Creo que todos tenemos un poco de esa bella locura que n
 os mantiene andando cuando todo alrededor es tan insanamente cuerdo&raquo;<
 em>.&nbsp;</em>Esto dec&iacute;a el escritor argentino Julio Cort&aacute;za
 r en relaci&oacute;n a la locura y al mundo que nos rodea.</p><p>En torno a
  esta idea ha querido Vocal Siete desarrollar su nuevo espect&aacute;culo y
  producci&oacute;n discogr&aacute;fica. &laquo;Cada loco con su tema&raquo;
  pretende hacer un recorrido por esos &laquo;locos&raquo; creadores que en 
 diversos momentos de la historia han ofrecido una visi&oacute;n amplia y po
 sitiva de todo lo que se desv&iacute;a de la norma.&nbsp;</p><p><strong>+ I
 nfo: <a href="https://www3.gobiernodecanarias.org/cultura/teatroguiniguada/
 eventos/vocal-siete-cada-loco-con-su-tema/" target="_blank" rel="noopener n
 oreferrer">Teatro Guiniguada</a></strong></p>
DTSTAMP:20260424T063215Z
DTSTART;TZID=Atlantic/Canary:20191214T203000
SEQUENCE:0
TRANSP:OPAQUE
END:VEVENT
END:VCALENDAR