BEGIN:VCALENDAR
VERSION:2.0
PRODID:-//jEvents 2.0 for Joomla//EN
CALSCALE:GREGORIAN
METHOD:PUBLISH
BEGIN:VTIMEZONE
TZID:Atlantic/Canary
BEGIN:STANDARD
DTSTART:20181028T010000
RDATE:20190331T020000
TZOFFSETFROM:+0100
TZOFFSETTO:+0000
TZNAME:Atlantic/Canary WET
END:STANDARD
BEGIN:STANDARD
DTSTART:20191027T010000
RDATE:20200329T020000
TZOFFSETFROM:+0100
TZOFFSETTO:+0000
TZNAME:Atlantic/Canary WET
END:STANDARD
BEGIN:STANDARD
DTSTART:20201025T010000
RDATE:20210328T020000
TZOFFSETFROM:+0100
TZOFFSETTO:+0000
TZNAME:Atlantic/Canary WET
END:STANDARD
BEGIN:STANDARD
DTSTART:20211031T010000
RDATE:20220327T020000
TZOFFSETFROM:+0100
TZOFFSETTO:+0000
TZNAME:Atlantic/Canary WET
END:STANDARD
BEGIN:STANDARD
DTSTART:20221030T010000
RDATE:20230326T020000
TZOFFSETFROM:+0100
TZOFFSETTO:+0000
TZNAME:Atlantic/Canary WET
END:STANDARD
BEGIN:STANDARD
DTSTART:20231029T010000
RDATE:20240331T020000
TZOFFSETFROM:+0100
TZOFFSETTO:+0000
TZNAME:Atlantic/Canary WET
END:STANDARD
BEGIN:DAYLIGHT
DTSTART:20181024T000000
RDATE:20181028T010000
TZOFFSETFROM:+0000
TZOFFSETTO:+0100
TZNAME:Atlantic/Canary WEST
END:DAYLIGHT
BEGIN:DAYLIGHT
DTSTART:20190331T020000
RDATE:20191027T010000
TZOFFSETFROM:+0000
TZOFFSETTO:+0100
TZNAME:Atlantic/Canary WEST
END:DAYLIGHT
BEGIN:DAYLIGHT
DTSTART:20200329T020000
RDATE:20201025T010000
TZOFFSETFROM:+0000
TZOFFSETTO:+0100
TZNAME:Atlantic/Canary WEST
END:DAYLIGHT
BEGIN:DAYLIGHT
DTSTART:20210328T020000
RDATE:20211031T010000
TZOFFSETFROM:+0000
TZOFFSETTO:+0100
TZNAME:Atlantic/Canary WEST
END:DAYLIGHT
BEGIN:DAYLIGHT
DTSTART:20220327T020000
RDATE:20221030T010000
TZOFFSETFROM:+0000
TZOFFSETTO:+0100
TZNAME:Atlantic/Canary WEST
END:DAYLIGHT
BEGIN:DAYLIGHT
DTSTART:20230326T020000
RDATE:20231029T010000
TZOFFSETFROM:+0000
TZOFFSETTO:+0100
TZNAME:Atlantic/Canary WEST
END:DAYLIGHT
END:VTIMEZONE
BEGIN:VEVENT
UID:8a80862457bcd72a1be6aca053470fcb
CATEGORIES:Exposiciones / Museos
CREATED:20191108T122405
SUMMARY:Exposición de las 'Artistas en residencia'
LOCATION:CAAM
DESCRIPTION;ENCODING=QUOTED-PRINTABLE:<p>El Centro Atl&aacute;ntico de Arte Moderno (CAAM) presenta las exposicio
 nes&nbsp;<em>Mar de fondo</em>, de la artista hispano-venezolana residente 
 en Canarias,&nbsp;<strong>Nela Ochoa</strong>, y&nbsp;<em>Golden Accident,<
 /em>&nbsp;de la creadora zaragozana,&nbsp;<strong>Natalia Escudero.</strong
 ></p><p>Sse podr&aacute;n visitar&nbsp;<strong>hasta el d&iacute;a 24 de no
 viembre 2019,&nbsp;</strong>con entrada libre y gratuita.</p><p>Ambos proye
 ctos son el resultado de la estancia de un mes de ambas artistas en el CAAM
 , tras ser seleccionadas mediante la convocatoria p&uacute;blica anual del 
 programa &lsquo;Artistas en Residencia&rsquo; que este a&ntilde;o 2019 cump
 le su tercera edici&oacute;n en este&nbsp;centro de arte.&nbsp;&nbsp;</p><p
 ><strong>+ Info: <a href="http://www.caam.net/es/expos_int.php?n=4044" targ
 et="_blank" rel="noopener noreferrer">CAAM</a></strong></p>
DTSTAMP:20260424T032319Z
DTSTART;TZID=Atlantic/Canary;VALUE=DATE:20191025
DTEND;TZID=Atlantic/Canary;VALUE=DATE:20191125
SEQUENCE:0
TRANSP:OPAQUE
END:VEVENT
END:VCALENDAR