BEGIN:VCALENDAR
VERSION:2.0
PRODID:-//jEvents 2.0 for Joomla//EN
CALSCALE:GREGORIAN
METHOD:PUBLISH
BEGIN:VTIMEZONE
TZID:Atlantic/Canary
BEGIN:STANDARD
DTSTART:20181113T190000
RDATE:20190331T020000
TZOFFSETFROM:+0100
TZOFFSETTO:+0000
TZNAME:Atlantic/Canary WET
END:STANDARD
BEGIN:STANDARD
DTSTART:20191027T010000
RDATE:20200329T020000
TZOFFSETFROM:+0100
TZOFFSETTO:+0000
TZNAME:Atlantic/Canary WET
END:STANDARD
BEGIN:STANDARD
DTSTART:20201025T010000
RDATE:20210328T020000
TZOFFSETFROM:+0100
TZOFFSETTO:+0000
TZNAME:Atlantic/Canary WET
END:STANDARD
BEGIN:STANDARD
DTSTART:20211031T010000
RDATE:20220327T020000
TZOFFSETFROM:+0100
TZOFFSETTO:+0000
TZNAME:Atlantic/Canary WET
END:STANDARD
BEGIN:STANDARD
DTSTART:20221030T010000
RDATE:20230326T020000
TZOFFSETFROM:+0100
TZOFFSETTO:+0000
TZNAME:Atlantic/Canary WET
END:STANDARD
BEGIN:STANDARD
DTSTART:20231029T010000
RDATE:20240331T020000
TZOFFSETFROM:+0100
TZOFFSETTO:+0000
TZNAME:Atlantic/Canary WET
END:STANDARD
BEGIN:DAYLIGHT
DTSTART:20190331T020000
RDATE:20191027T010000
TZOFFSETFROM:+0000
TZOFFSETTO:+0100
TZNAME:Atlantic/Canary WEST
END:DAYLIGHT
BEGIN:DAYLIGHT
DTSTART:20200329T020000
RDATE:20201025T010000
TZOFFSETFROM:+0000
TZOFFSETTO:+0100
TZNAME:Atlantic/Canary WEST
END:DAYLIGHT
BEGIN:DAYLIGHT
DTSTART:20210328T020000
RDATE:20211031T010000
TZOFFSETFROM:+0000
TZOFFSETTO:+0100
TZNAME:Atlantic/Canary WEST
END:DAYLIGHT
BEGIN:DAYLIGHT
DTSTART:20220327T020000
RDATE:20221030T010000
TZOFFSETFROM:+0000
TZOFFSETTO:+0100
TZNAME:Atlantic/Canary WEST
END:DAYLIGHT
BEGIN:DAYLIGHT
DTSTART:20230326T020000
RDATE:20231029T010000
TZOFFSETFROM:+0000
TZOFFSETTO:+0100
TZNAME:Atlantic/Canary WEST
END:DAYLIGHT
END:VTIMEZONE
BEGIN:VEVENT
UID:cca1bdc78c766133013f68abc276cfef
CATEGORIES:Exposiciones / Museos
CREATED:20191114T124742
SUMMARY:Exposición "Gran Canaria, un paisaje por descubrir"
LOCATION:Museo Elder
DESCRIPTION;ENCODING=QUOTED-PRINTABLE:\n\nGRAN CANARIA UN PAISAJE POR DESCUBRIR.&nbsp;Ruta Virtual de senderismo\
 n\n\nDe Santa Br&iacute;gida al Guiniguada por el Barranco del Gale&oacute;
 n\n\n\nCon Gran Canaria: Un Paisaje Por Descubrir, se pretende invitar al e
 spectador a un recorrido visual por todo el espectro del color en la natura
 leza y dar a conocer las maravillas del mundo natural a trav&eacute;s de la
  fotograf&iacute;a, con una cuidada selecci&oacute;n de im&aacute;genes alr
 ededor de una ruta. Acompa&ntilde;ado adem&aacute;s de la palabra, que pond
 r&aacute; en valor los recursos naturales, hist&oacute;ricos y paisaj&iacut
 e;sticos del entorno.\n\n\n+ Info:&nbsp;Museo Elder de la Ciencia y la Tecn
 olog&iacute;a\n
DTSTAMP:20260424T062920Z
DTSTART;TZID=Atlantic/Canary:20191114T190000
DTEND;TZID=Atlantic/Canary:20191114T200000
SEQUENCE:0
TRANSP:OPAQUE
END:VEVENT
END:VCALENDAR