BEGIN:VCALENDAR
VERSION:2.0
PRODID:-//jEvents 2.0 for Joomla//EN
CALSCALE:GREGORIAN
METHOD:PUBLISH
BEGIN:VTIMEZONE
TZID:Atlantic/Canary
BEGIN:STANDARD
DTSTART:20181128T200000
RDATE:20190331T020000
TZOFFSETFROM:+0100
TZOFFSETTO:+0000
TZNAME:Atlantic/Canary WET
END:STANDARD
BEGIN:STANDARD
DTSTART:20191027T010000
RDATE:20200329T020000
TZOFFSETFROM:+0100
TZOFFSETTO:+0000
TZNAME:Atlantic/Canary WET
END:STANDARD
BEGIN:STANDARD
DTSTART:20201025T010000
RDATE:20210328T020000
TZOFFSETFROM:+0100
TZOFFSETTO:+0000
TZNAME:Atlantic/Canary WET
END:STANDARD
BEGIN:STANDARD
DTSTART:20211031T010000
RDATE:20220327T020000
TZOFFSETFROM:+0100
TZOFFSETTO:+0000
TZNAME:Atlantic/Canary WET
END:STANDARD
BEGIN:STANDARD
DTSTART:20221030T010000
RDATE:20230326T020000
TZOFFSETFROM:+0100
TZOFFSETTO:+0000
TZNAME:Atlantic/Canary WET
END:STANDARD
BEGIN:STANDARD
DTSTART:20231029T010000
RDATE:20240331T020000
TZOFFSETFROM:+0100
TZOFFSETTO:+0000
TZNAME:Atlantic/Canary WET
END:STANDARD
BEGIN:DAYLIGHT
DTSTART:20190331T020000
RDATE:20191027T010000
TZOFFSETFROM:+0000
TZOFFSETTO:+0100
TZNAME:Atlantic/Canary WEST
END:DAYLIGHT
BEGIN:DAYLIGHT
DTSTART:20200329T020000
RDATE:20201025T010000
TZOFFSETFROM:+0000
TZOFFSETTO:+0100
TZNAME:Atlantic/Canary WEST
END:DAYLIGHT
BEGIN:DAYLIGHT
DTSTART:20210328T020000
RDATE:20211031T010000
TZOFFSETFROM:+0000
TZOFFSETTO:+0100
TZNAME:Atlantic/Canary WEST
END:DAYLIGHT
BEGIN:DAYLIGHT
DTSTART:20220327T020000
RDATE:20221030T010000
TZOFFSETFROM:+0000
TZOFFSETTO:+0100
TZNAME:Atlantic/Canary WEST
END:DAYLIGHT
BEGIN:DAYLIGHT
DTSTART:20230326T020000
RDATE:20231029T010000
TZOFFSETFROM:+0000
TZOFFSETTO:+0100
TZNAME:Atlantic/Canary WEST
END:DAYLIGHT
END:VTIMEZONE
BEGIN:VEVENT
UID:194030639bdf1352d0a92195d5599e4d
CATEGORIES:Artes escénicas / Danza
CREATED:20191125T105303
SUMMARY:Donde mueren los ríos
LOCATION:Teatro Pérez Galdós
DESCRIPTION;ENCODING=QUOTED-PRINTABLE:\n\nDonde mueren los r&iacute;os&nbsp;es un homenaje a&nbsp;Antonio Lozano&
 nbsp;a trav&eacute;s de la lectura colectiva de su novela hom&oacute;nima, 
 que cuenta con la adaptaci&oacute;n de Julio Salvatierra, la direcci&oacute
 ;n musical de Carlos Oramas y la puesta en escena de Mario Vega.\n\n\nEn el
 la participar&aacute;n actores, escritores, periodistas, m&uacute;sicos y a
 migos de Antonio. Y escucharemos la m&uacute;sica que refleja su mundo sono
 ro, abarcando g&eacute;neros como la Morna, la canci&oacute;n francesa, la 
 canci&oacute;n de autor y con una instrumentaci&oacute;n que va desde la Ko
 ra hasta el timple.\n\n\n+ Info: Teatro P&eacute;rez Gald&oacute;s\n
DTSTAMP:20260424T045138Z
DTSTART;TZID=Atlantic/Canary:20191129T200000
SEQUENCE:0
TRANSP:OPAQUE
END:VEVENT
END:VCALENDAR