BEGIN:VCALENDAR
VERSION:2.0
PRODID:-//jEvents 2.0 for Joomla//EN
CALSCALE:GREGORIAN
METHOD:PUBLISH
BEGIN:VTIMEZONE
TZID:Atlantic/Canary
BEGIN:STANDARD
DTSTART:20181202T203000
RDATE:20190331T020000
TZOFFSETFROM:+0100
TZOFFSETTO:+0000
TZNAME:Atlantic/Canary WET
END:STANDARD
BEGIN:STANDARD
DTSTART:20191027T010000
RDATE:20200329T020000
TZOFFSETFROM:+0100
TZOFFSETTO:+0000
TZNAME:Atlantic/Canary WET
END:STANDARD
BEGIN:STANDARD
DTSTART:20201025T010000
RDATE:20210328T020000
TZOFFSETFROM:+0100
TZOFFSETTO:+0000
TZNAME:Atlantic/Canary WET
END:STANDARD
BEGIN:STANDARD
DTSTART:20211031T010000
RDATE:20220327T020000
TZOFFSETFROM:+0100
TZOFFSETTO:+0000
TZNAME:Atlantic/Canary WET
END:STANDARD
BEGIN:STANDARD
DTSTART:20221030T010000
RDATE:20230326T020000
TZOFFSETFROM:+0100
TZOFFSETTO:+0000
TZNAME:Atlantic/Canary WET
END:STANDARD
BEGIN:STANDARD
DTSTART:20231029T010000
RDATE:20240331T020000
TZOFFSETFROM:+0100
TZOFFSETTO:+0000
TZNAME:Atlantic/Canary WET
END:STANDARD
BEGIN:DAYLIGHT
DTSTART:20190331T020000
RDATE:20191027T010000
TZOFFSETFROM:+0000
TZOFFSETTO:+0100
TZNAME:Atlantic/Canary WEST
END:DAYLIGHT
BEGIN:DAYLIGHT
DTSTART:20200329T020000
RDATE:20201025T010000
TZOFFSETFROM:+0000
TZOFFSETTO:+0100
TZNAME:Atlantic/Canary WEST
END:DAYLIGHT
BEGIN:DAYLIGHT
DTSTART:20210328T020000
RDATE:20211031T010000
TZOFFSETFROM:+0000
TZOFFSETTO:+0100
TZNAME:Atlantic/Canary WEST
END:DAYLIGHT
BEGIN:DAYLIGHT
DTSTART:20220327T020000
RDATE:20221030T010000
TZOFFSETFROM:+0000
TZOFFSETTO:+0100
TZNAME:Atlantic/Canary WEST
END:DAYLIGHT
BEGIN:DAYLIGHT
DTSTART:20230326T020000
RDATE:20231029T010000
TZOFFSETFROM:+0000
TZOFFSETTO:+0100
TZNAME:Atlantic/Canary WEST
END:DAYLIGHT
END:VTIMEZONE
BEGIN:VEVENT
UID:39ea05192f316b36cdd664b02a089bbd
CATEGORIES:Encuentros / Conferencias
CREATED:20191203T112914
SUMMARY:Martes de la risa: "Humor aborigen: risas caídas"
LOCATION:Paraninfo de la ULPGC
DESCRIPTION;ENCODING=QUOTED-PRINTABLE:<p>Nos gustar&iacute;a averiguar cu&aacute;l es el verdadero calado la deno
 minaci&oacute;n del yacimiento de Cuevas Ca&iacute;das como Patrimonio de l
 a Humanidad, si puede suponer un impulso a la investigaci&oacute;n y especi
 almente a la difusi&oacute;n de estos estudios entre nuestros estudiantes y
  p&uacute;blico inquieto.&nbsp;&nbsp;</p><p>En todo caso, trataremos de ent
 erarnos del origen de las instalaciones y su uso por parte de los antiguos 
 pobladores cuya preocupaci&oacute;n tan precisa por el sol y sus aparentes 
 movimientos estacionales, no parece tener nada que ver con la industria tur
 &iacute;stica, lo que es, sin duda, de agradecer.</p><p><strong>+ Info: <a 
 href="https://www.ulpgc.es/evento-cultura/aula-del-humor-martes-risa-humor-
 aborigen-risas-caidas?width=60%25&amp;height=60%25&amp;inline=true#colorbox
 -inline-841562105" target="_blank" rel="noopener noreferrer">ULPGC</a></str
 ong></p>
DTSTAMP:20260424T063217Z
DTSTART;TZID=Atlantic/Canary:20191203T203000
SEQUENCE:0
TRANSP:OPAQUE
END:VEVENT
END:VCALENDAR