BEGIN:VCALENDAR
VERSION:2.0
PRODID:-//jEvents 2.0 for Joomla//EN
CALSCALE:GREGORIAN
METHOD:PUBLISH
BEGIN:VTIMEZONE
TZID:Atlantic/Canary
BEGIN:STANDARD
DTSTART:20181203T200000
RDATE:20190331T020000
TZOFFSETFROM:+0100
TZOFFSETTO:+0000
TZNAME:Atlantic/Canary WET
END:STANDARD
BEGIN:STANDARD
DTSTART:20191027T010000
RDATE:20200329T020000
TZOFFSETFROM:+0100
TZOFFSETTO:+0000
TZNAME:Atlantic/Canary WET
END:STANDARD
BEGIN:STANDARD
DTSTART:20201025T010000
RDATE:20210328T020000
TZOFFSETFROM:+0100
TZOFFSETTO:+0000
TZNAME:Atlantic/Canary WET
END:STANDARD
BEGIN:STANDARD
DTSTART:20211031T010000
RDATE:20220327T020000
TZOFFSETFROM:+0100
TZOFFSETTO:+0000
TZNAME:Atlantic/Canary WET
END:STANDARD
BEGIN:STANDARD
DTSTART:20221030T010000
RDATE:20230326T020000
TZOFFSETFROM:+0100
TZOFFSETTO:+0000
TZNAME:Atlantic/Canary WET
END:STANDARD
BEGIN:STANDARD
DTSTART:20231029T010000
RDATE:20240331T020000
TZOFFSETFROM:+0100
TZOFFSETTO:+0000
TZNAME:Atlantic/Canary WET
END:STANDARD
BEGIN:DAYLIGHT
DTSTART:20190331T020000
RDATE:20191027T010000
TZOFFSETFROM:+0000
TZOFFSETTO:+0100
TZNAME:Atlantic/Canary WEST
END:DAYLIGHT
BEGIN:DAYLIGHT
DTSTART:20200329T020000
RDATE:20201025T010000
TZOFFSETFROM:+0000
TZOFFSETTO:+0100
TZNAME:Atlantic/Canary WEST
END:DAYLIGHT
BEGIN:DAYLIGHT
DTSTART:20210328T020000
RDATE:20211031T010000
TZOFFSETFROM:+0000
TZOFFSETTO:+0100
TZNAME:Atlantic/Canary WEST
END:DAYLIGHT
BEGIN:DAYLIGHT
DTSTART:20220327T020000
RDATE:20221030T010000
TZOFFSETFROM:+0000
TZOFFSETTO:+0100
TZNAME:Atlantic/Canary WEST
END:DAYLIGHT
BEGIN:DAYLIGHT
DTSTART:20230326T020000
RDATE:20231029T010000
TZOFFSETFROM:+0000
TZOFFSETTO:+0100
TZNAME:Atlantic/Canary WEST
END:DAYLIGHT
END:VTIMEZONE
BEGIN:VEVENT
UID:1d58391022fb9d9280a438c589966185
CATEGORIES:Música
CREATED:20191203T115134
SUMMARY:Concierto del pianista Alexei Volodin
LOCATION:Paraninfo de la ULPGC
DESCRIPTION;ENCODING=QUOTED-PRINTABLE:<p>Aclamado por su sensibilidad y su brillantez t&eacute;cnica, Alexei Volo
 din es invitado por las orquestas de m&aacute;s alto nivel. &nbsp;</p><p>Po
 see un repertorio extraordinariamente diverso, desde Beethoven y Brahms pas
 ando por Tchaikovsky, Rachmaninov, Prokofiev y Scriabin hasta Gershwin, Shc
 hedrin y Medtner.</p><p><strong>+ Info: <a href="https://www.ulpgc.es/event
 o-cultura/concierto-alexei-volodin-piano?width=60%25&amp;height=60%25&amp;i
 nline=true#colorbox-inline-481897844" target="_blank" rel="noopener norefer
 rer">ULPGC</a></strong></p><p>&nbsp;</p>
DTSTAMP:20260424T063217Z
DTSTART;TZID=Atlantic/Canary:20191204T200000
SEQUENCE:0
TRANSP:OPAQUE
END:VEVENT
END:VCALENDAR