BEGIN:VCALENDAR
VERSION:2.0
PRODID:-//jEvents 2.0 for Joomla//EN
CALSCALE:GREGORIAN
METHOD:PUBLISH
BEGIN:VTIMEZONE
TZID:Atlantic/Canary
BEGIN:STANDARD
DTSTART:20181209T180000
RDATE:20190331T020000
TZOFFSETFROM:+0100
TZOFFSETTO:+0000
TZNAME:Atlantic/Canary WET
END:STANDARD
BEGIN:STANDARD
DTSTART:20191027T010000
RDATE:20200329T020000
TZOFFSETFROM:+0100
TZOFFSETTO:+0000
TZNAME:Atlantic/Canary WET
END:STANDARD
BEGIN:STANDARD
DTSTART:20201025T010000
RDATE:20210328T020000
TZOFFSETFROM:+0100
TZOFFSETTO:+0000
TZNAME:Atlantic/Canary WET
END:STANDARD
BEGIN:STANDARD
DTSTART:20211031T010000
RDATE:20220327T020000
TZOFFSETFROM:+0100
TZOFFSETTO:+0000
TZNAME:Atlantic/Canary WET
END:STANDARD
BEGIN:STANDARD
DTSTART:20221030T010000
RDATE:20230326T020000
TZOFFSETFROM:+0100
TZOFFSETTO:+0000
TZNAME:Atlantic/Canary WET
END:STANDARD
BEGIN:STANDARD
DTSTART:20231029T010000
RDATE:20240331T020000
TZOFFSETFROM:+0100
TZOFFSETTO:+0000
TZNAME:Atlantic/Canary WET
END:STANDARD
BEGIN:DAYLIGHT
DTSTART:20190331T020000
RDATE:20191027T010000
TZOFFSETFROM:+0000
TZOFFSETTO:+0100
TZNAME:Atlantic/Canary WEST
END:DAYLIGHT
BEGIN:DAYLIGHT
DTSTART:20200329T020000
RDATE:20201025T010000
TZOFFSETFROM:+0000
TZOFFSETTO:+0100
TZNAME:Atlantic/Canary WEST
END:DAYLIGHT
BEGIN:DAYLIGHT
DTSTART:20210328T020000
RDATE:20211031T010000
TZOFFSETFROM:+0000
TZOFFSETTO:+0100
TZNAME:Atlantic/Canary WEST
END:DAYLIGHT
BEGIN:DAYLIGHT
DTSTART:20220327T020000
RDATE:20221030T010000
TZOFFSETFROM:+0000
TZOFFSETTO:+0100
TZNAME:Atlantic/Canary WEST
END:DAYLIGHT
BEGIN:DAYLIGHT
DTSTART:20230326T020000
RDATE:20231029T010000
TZOFFSETFROM:+0000
TZOFFSETTO:+0100
TZNAME:Atlantic/Canary WEST
END:DAYLIGHT
END:VTIMEZONE
BEGIN:VEVENT
UID:e865400dce1a9868dc7e1c52cd66d450
CATEGORIES:Servicios Bibliotecarios
CREATED:20191209T101234
SUMMARY:"Ilusión, lectura y navidad" | Lectura de cuentos navideños
LOCATION:Biblioteca Pública Municipal San Juan
DESCRIPTION;ENCODING=QUOTED-PRINTABLE:<p>A cargo de la animadora Yolanda Ortega Moral, &laquo;Ilusi&oacute;n, lec
 tura y navidad&raquo;&nbsp;contar&aacute; con la narraci&oacute;n de los cu
 entos &laquo;Cuando a Mat&iacute;as le entraron ganas de hacer pis la noche
  de Reyes&raquo;, &laquo;Rastro de Dios y otros cuentos&raquo; y &laquo;And
 rea y el cuarto Rey Mago&raquo;.</p><p><strong>+ Info: <a href="http://lpac
 ultura.com/es/noticias-bibliotecas-publicas-municipales/1243-la-navidad-lle
 ga-a-las-bibliotecas-con-cuentacuentos-y-talleres" target="_blank" rel="noo
 pener noreferrer">LPA Cultura</a></strong></p>
DTSTAMP:20260424T063215Z
DTSTART;TZID=Atlantic/Canary:20191210T180000
SEQUENCE:0
TRANSP:OPAQUE
END:VEVENT
END:VCALENDAR