BEGIN:VCALENDAR
VERSION:2.0
PRODID:-//jEvents 2.0 for Joomla//EN
CALSCALE:GREGORIAN
METHOD:PUBLISH
BEGIN:VTIMEZONE
TZID:Atlantic/Canary
BEGIN:STANDARD
DTSTART:20190203T190000
RDATE:20190331T020000
TZOFFSETFROM:+0100
TZOFFSETTO:+0000
TZNAME:Atlantic/Canary WET
END:STANDARD
BEGIN:STANDARD
DTSTART:20191027T010000
RDATE:20200329T020000
TZOFFSETFROM:+0100
TZOFFSETTO:+0000
TZNAME:Atlantic/Canary WET
END:STANDARD
BEGIN:STANDARD
DTSTART:20201025T010000
RDATE:20210328T020000
TZOFFSETFROM:+0100
TZOFFSETTO:+0000
TZNAME:Atlantic/Canary WET
END:STANDARD
BEGIN:STANDARD
DTSTART:20211031T010000
RDATE:20220327T020000
TZOFFSETFROM:+0100
TZOFFSETTO:+0000
TZNAME:Atlantic/Canary WET
END:STANDARD
BEGIN:STANDARD
DTSTART:20221030T010000
RDATE:20230326T020000
TZOFFSETFROM:+0100
TZOFFSETTO:+0000
TZNAME:Atlantic/Canary WET
END:STANDARD
BEGIN:STANDARD
DTSTART:20231029T010000
RDATE:20240331T020000
TZOFFSETFROM:+0100
TZOFFSETTO:+0000
TZNAME:Atlantic/Canary WET
END:STANDARD
BEGIN:DAYLIGHT
DTSTART:20190331T020000
RDATE:20191027T010000
TZOFFSETFROM:+0000
TZOFFSETTO:+0100
TZNAME:Atlantic/Canary WEST
END:DAYLIGHT
BEGIN:DAYLIGHT
DTSTART:20200329T020000
RDATE:20201025T010000
TZOFFSETFROM:+0000
TZOFFSETTO:+0100
TZNAME:Atlantic/Canary WEST
END:DAYLIGHT
BEGIN:DAYLIGHT
DTSTART:20210328T020000
RDATE:20211031T010000
TZOFFSETFROM:+0000
TZOFFSETTO:+0100
TZNAME:Atlantic/Canary WEST
END:DAYLIGHT
BEGIN:DAYLIGHT
DTSTART:20220327T020000
RDATE:20221030T010000
TZOFFSETFROM:+0000
TZOFFSETTO:+0100
TZNAME:Atlantic/Canary WEST
END:DAYLIGHT
BEGIN:DAYLIGHT
DTSTART:20230326T020000
RDATE:20231029T010000
TZOFFSETFROM:+0000
TZOFFSETTO:+0100
TZNAME:Atlantic/Canary WEST
END:DAYLIGHT
END:VTIMEZONE
BEGIN:VEVENT
UID:cfc3ef1eddd51c830e1af3ba29daa32c
CATEGORIES:Audiovisuales / Cine
CREATED:20200127T122252
SUMMARY:Proyección de "El joven Lincoln" | Ciclo: John Ford, El hombre que inventó a América
LOCATION:Teatro Guiniguada
DESCRIPTION;ENCODING=QUOTED-PRINTABLE:<p><strong>Filmoteca Canaria</strong> celebra el 125 aniversario del nacimi
 ento de <strong>John Ford</strong>, autor de m&aacute;s de 150 pel&iacute;c
 ulas y ganador de m&aacute;s premios Oscar que ning&uacute;n otro director,
  con un ciclo que repasa sus pel&iacute;culas m&aacute;s emblem&aacute;tica
 s.</p><p><em><strong>El joven Lincoln</strong></em></p><p><strong>Sinopsis:
 </strong>&nbsp;</p><p>En 1832 el joven Abraham Lincoln tiene 23 a&ntilde;os
  y trabaja en una peque&ntilde;a tienda de New Salem, un pueblo tranquilo d
 e Illinois. Empieza a leer libros y a estudiar Derecho de forma autodidacta
 . Poco a poco se da cuenta de que su talento de comunicador y su elocuencia
  le permitir&aacute;n seguir en esta v&iacute;a. Desgraciadamente, la mujer
  a la que ama muere durante el invierno. Lincoln decide irse a Springfield 
 para abrir un gabinete de abogados: empieza entonces su ascensi&oacute;n ha
 cia las cimas del Estado.</p><p><strong>+ Info: <a href="https://www3.gobie
 rnodecanarias.org/cultura/teatroguiniguada/eventos/filmoteca-canaria-el-jov
 en-lincoln/" target="_blank" rel="noopener noreferrer">Teatro Guiniguada</a
 ></strong></p>
DTSTAMP:20260424T103233Z
DTSTART;TZID=Atlantic/Canary:20200204T190000
SEQUENCE:0
TRANSP:OPAQUE
END:VEVENT
END:VCALENDAR