BEGIN:VCALENDAR
VERSION:2.0
PRODID:-//jEvents 2.0 for Joomla//EN
CALSCALE:GREGORIAN
METHOD:PUBLISH
BEGIN:VTIMEZONE
TZID:Atlantic/Canary
BEGIN:STANDARD
DTSTART:20190217T190000
RDATE:20190331T020000
TZOFFSETFROM:+0100
TZOFFSETTO:+0000
TZNAME:Atlantic/Canary WET
END:STANDARD
BEGIN:STANDARD
DTSTART:20191027T010000
RDATE:20200329T020000
TZOFFSETFROM:+0100
TZOFFSETTO:+0000
TZNAME:Atlantic/Canary WET
END:STANDARD
BEGIN:STANDARD
DTSTART:20201025T010000
RDATE:20210328T020000
TZOFFSETFROM:+0100
TZOFFSETTO:+0000
TZNAME:Atlantic/Canary WET
END:STANDARD
BEGIN:STANDARD
DTSTART:20211031T010000
RDATE:20220327T020000
TZOFFSETFROM:+0100
TZOFFSETTO:+0000
TZNAME:Atlantic/Canary WET
END:STANDARD
BEGIN:STANDARD
DTSTART:20221030T010000
RDATE:20230326T020000
TZOFFSETFROM:+0100
TZOFFSETTO:+0000
TZNAME:Atlantic/Canary WET
END:STANDARD
BEGIN:STANDARD
DTSTART:20231029T010000
RDATE:20240331T020000
TZOFFSETFROM:+0100
TZOFFSETTO:+0000
TZNAME:Atlantic/Canary WET
END:STANDARD
BEGIN:DAYLIGHT
DTSTART:20190331T020000
RDATE:20191027T010000
TZOFFSETFROM:+0000
TZOFFSETTO:+0100
TZNAME:Atlantic/Canary WEST
END:DAYLIGHT
BEGIN:DAYLIGHT
DTSTART:20200329T020000
RDATE:20201025T010000
TZOFFSETFROM:+0000
TZOFFSETTO:+0100
TZNAME:Atlantic/Canary WEST
END:DAYLIGHT
BEGIN:DAYLIGHT
DTSTART:20210328T020000
RDATE:20211031T010000
TZOFFSETFROM:+0000
TZOFFSETTO:+0100
TZNAME:Atlantic/Canary WEST
END:DAYLIGHT
BEGIN:DAYLIGHT
DTSTART:20220327T020000
RDATE:20221030T010000
TZOFFSETFROM:+0000
TZOFFSETTO:+0100
TZNAME:Atlantic/Canary WEST
END:DAYLIGHT
BEGIN:DAYLIGHT
DTSTART:20230326T020000
RDATE:20231029T010000
TZOFFSETFROM:+0000
TZOFFSETTO:+0100
TZNAME:Atlantic/Canary WEST
END:DAYLIGHT
END:VTIMEZONE
BEGIN:VEVENT
UID:6fe336995c627c686a300b1160d01ddd
CATEGORIES:Audiovisuales / Cine
CREATED:20200127T123505
SUMMARY:Proyección de "Las uvas de la ira" | Ciclo: John Ford, El hombre que inventó a América
LOCATION:Teatro Guiniguada
DESCRIPTION;ENCODING=QUOTED-PRINTABLE:<p><strong>Filmoteca Canaria</strong> celebra el 125 aniversario del nacimi
 ento de <strong>John Ford</strong>, autor de m&aacute;s de 150 pel&iacute;c
 ulas y ganador de m&aacute;s premios Oscar que ning&uacute;n otro director,
  con un ciclo que repasa sus pel&iacute;culas m&aacute;s emblem&aacute;tica
 s.</p><p><em><strong>Las uvas de la ira</strong></em></p><p><strong>Sinopsi
 s:</strong>&nbsp;</p><p><strong>&nbsp;</strong>Forzados por la sequ&iacute;
 a y el acoso de los bancos, los Joad, una familia de granjeros de la Oklaho
 ma, emprenden un atribulado &eacute;xodo a lo largo de la carretera 66 con 
 la intenci&oacute;n de buscar trabajo y una vida digna en California. Si at
 r&aacute;s dejan campos asolados por las tormentas de polvo, en el camino s
 &oacute;lo encuentran penuria, hambre, hostilidad en los pueblos por los qu
 e pasan. Pero ni las advertencias de quienes regresan, pobres y desenga&nti
 lde;ados, ni la muerte y la progresiva desintegraci&oacute;n de la familia,
  bastan para que renuncien a su empe&ntilde;o.</p><p><strong>+ Info: <a hre
 f="https://www3.gobiernodecanarias.org/cultura/teatroguiniguada/eventos/fil
 moteca-canaria-las-uvas-de-la-ira/" target="_blank" rel="noopener noreferre
 r">Teatro Guiniguada</a></strong></p>
DTSTAMP:20260424T090403Z
DTSTART;TZID=Atlantic/Canary:20200218T190000
SEQUENCE:0
TRANSP:OPAQUE
END:VEVENT
END:VCALENDAR