BEGIN:VCALENDAR
VERSION:2.0
PRODID:-//jEvents 2.0 for Joomla//EN
CALSCALE:GREGORIAN
METHOD:PUBLISH
BEGIN:VTIMEZONE
TZID:Atlantic/Canary
BEGIN:STANDARD
DTSTART:20190205T203000
RDATE:20190331T020000
TZOFFSETFROM:+0100
TZOFFSETTO:+0000
TZNAME:Atlantic/Canary WET
END:STANDARD
BEGIN:STANDARD
DTSTART:20191027T010000
RDATE:20200329T020000
TZOFFSETFROM:+0100
TZOFFSETTO:+0000
TZNAME:Atlantic/Canary WET
END:STANDARD
BEGIN:STANDARD
DTSTART:20201025T010000
RDATE:20210328T020000
TZOFFSETFROM:+0100
TZOFFSETTO:+0000
TZNAME:Atlantic/Canary WET
END:STANDARD
BEGIN:STANDARD
DTSTART:20211031T010000
RDATE:20220327T020000
TZOFFSETFROM:+0100
TZOFFSETTO:+0000
TZNAME:Atlantic/Canary WET
END:STANDARD
BEGIN:STANDARD
DTSTART:20221030T010000
RDATE:20230326T020000
TZOFFSETFROM:+0100
TZOFFSETTO:+0000
TZNAME:Atlantic/Canary WET
END:STANDARD
BEGIN:STANDARD
DTSTART:20231029T010000
RDATE:20240331T020000
TZOFFSETFROM:+0100
TZOFFSETTO:+0000
TZNAME:Atlantic/Canary WET
END:STANDARD
BEGIN:DAYLIGHT
DTSTART:20190331T020000
RDATE:20191027T010000
TZOFFSETFROM:+0000
TZOFFSETTO:+0100
TZNAME:Atlantic/Canary WEST
END:DAYLIGHT
BEGIN:DAYLIGHT
DTSTART:20200329T020000
RDATE:20201025T010000
TZOFFSETFROM:+0000
TZOFFSETTO:+0100
TZNAME:Atlantic/Canary WEST
END:DAYLIGHT
BEGIN:DAYLIGHT
DTSTART:20210328T020000
RDATE:20211031T010000
TZOFFSETFROM:+0000
TZOFFSETTO:+0100
TZNAME:Atlantic/Canary WEST
END:DAYLIGHT
BEGIN:DAYLIGHT
DTSTART:20220327T020000
RDATE:20221030T010000
TZOFFSETFROM:+0000
TZOFFSETTO:+0100
TZNAME:Atlantic/Canary WEST
END:DAYLIGHT
BEGIN:DAYLIGHT
DTSTART:20230326T020000
RDATE:20231029T010000
TZOFFSETFROM:+0000
TZOFFSETTO:+0100
TZNAME:Atlantic/Canary WEST
END:DAYLIGHT
END:VTIMEZONE
BEGIN:VEVENT
UID:7ff0f6de3a41cd4252eec8448457b1d3
CATEGORIES:Música
CREATED:20200127T124647
SUMMARY:Concierto de Bywater Call
LOCATION:Teatro Guiniguada
DESCRIPTION;ENCODING=QUOTED-PRINTABLE:<p>Abrazando los sonidos del southern soul, el gospel y el blues,<strong>&n
 bsp;Bywater Call</strong>&nbsp;nacen de la qu&iacute;mica entre la poderosa
  y en&eacute;rgica voz de Meghan Parnell y la sugerente guitarra de Dave Ba
 rnes. La banda apareci&oacute; en 2018 gan&aacute;ndose inmediatamente el c
 ircuito de festivales canadiense con su fuerza esc&eacute;nica, con un desp
 ligue impresionante de siete m&uacute;sicos poniendo coraz&oacute;n, sudor 
 y fuerza en cada una de sus canciones.</p><p><strong>+ Info: <a href="https
 ://www3.gobiernodecanarias.org/cultura/teatroguiniguada/eventos/bywater-cal
 l/" target="_blank" rel="noopener noreferrer">Teatro Guiniguada</a></strong
 ></p>
DTSTAMP:20260424T103233Z
DTSTART;TZID=Atlantic/Canary:20200206T203000
SEQUENCE:0
TRANSP:OPAQUE
END:VEVENT
END:VCALENDAR