BEGIN:VCALENDAR
VERSION:2.0
PRODID:-//jEvents 2.0 for Joomla//EN
CALSCALE:GREGORIAN
METHOD:PUBLISH
BEGIN:VTIMEZONE
TZID:Atlantic/Canary
BEGIN:STANDARD
DTSTART:20190204T203000
RDATE:20190331T020000
TZOFFSETFROM:+0100
TZOFFSETTO:+0000
TZNAME:Atlantic/Canary WET
END:STANDARD
BEGIN:STANDARD
DTSTART:20191027T010000
RDATE:20200329T020000
TZOFFSETFROM:+0100
TZOFFSETTO:+0000
TZNAME:Atlantic/Canary WET
END:STANDARD
BEGIN:STANDARD
DTSTART:20201025T010000
RDATE:20210328T020000
TZOFFSETFROM:+0100
TZOFFSETTO:+0000
TZNAME:Atlantic/Canary WET
END:STANDARD
BEGIN:STANDARD
DTSTART:20211031T010000
RDATE:20220327T020000
TZOFFSETFROM:+0100
TZOFFSETTO:+0000
TZNAME:Atlantic/Canary WET
END:STANDARD
BEGIN:STANDARD
DTSTART:20221030T010000
RDATE:20230326T020000
TZOFFSETFROM:+0100
TZOFFSETTO:+0000
TZNAME:Atlantic/Canary WET
END:STANDARD
BEGIN:STANDARD
DTSTART:20231029T010000
RDATE:20240331T020000
TZOFFSETFROM:+0100
TZOFFSETTO:+0000
TZNAME:Atlantic/Canary WET
END:STANDARD
BEGIN:DAYLIGHT
DTSTART:20190331T020000
RDATE:20191027T010000
TZOFFSETFROM:+0000
TZOFFSETTO:+0100
TZNAME:Atlantic/Canary WEST
END:DAYLIGHT
BEGIN:DAYLIGHT
DTSTART:20200329T020000
RDATE:20201025T010000
TZOFFSETFROM:+0000
TZOFFSETTO:+0100
TZNAME:Atlantic/Canary WEST
END:DAYLIGHT
BEGIN:DAYLIGHT
DTSTART:20210328T020000
RDATE:20211031T010000
TZOFFSETFROM:+0000
TZOFFSETTO:+0100
TZNAME:Atlantic/Canary WEST
END:DAYLIGHT
BEGIN:DAYLIGHT
DTSTART:20220327T020000
RDATE:20221030T010000
TZOFFSETFROM:+0000
TZOFFSETTO:+0100
TZNAME:Atlantic/Canary WEST
END:DAYLIGHT
BEGIN:DAYLIGHT
DTSTART:20230326T020000
RDATE:20231029T010000
TZOFFSETFROM:+0000
TZOFFSETTO:+0100
TZNAME:Atlantic/Canary WEST
END:DAYLIGHT
END:VTIMEZONE
BEGIN:VEVENT
UID:3d010ce6f106d452cb279208cac6f3b3
CATEGORIES:Música
CREATED:20200130T141902
SUMMARY:FIMC 2020 | En paralelo |  David Quevedo & Ensemble Salvaje
LOCATION:Paraninfo de la ULPGC
DESCRIPTION;ENCODING=QUOTED-PRINTABLE:<p>El pianista y autor canario David Quevedo es el art&iacute;fice de esta&
 nbsp;<strong>singular y mestiza propuesta,</strong>&nbsp;ata de una formaci
 &oacute;n compuesta por artistas de doce nacionalidades residentes en Canar
 ias, con la clara intenci&oacute;n de dar voz a los autores de la m&uacute;
 sica de nuestro tiempo en el Archipi&eacute;lago.</p><p><strong>+ Info:&nbs
 p;<a href="http://www.gobiernodecanarias.org/cultura/36festivaldecanarias/e
 s/enparalelo/Musica/" target="_blank" rel="noopener noreferrer">Festival In
 ternacional de M&uacute;sica de Canarias</a></strong></p>
DTSTAMP:20260424T103234Z
DTSTART;TZID=Atlantic/Canary:20200205T203000
SEQUENCE:0
TRANSP:OPAQUE
END:VEVENT
END:VCALENDAR