BEGIN:VCALENDAR
VERSION:2.0
PRODID:-//jEvents 2.0 for Joomla//EN
CALSCALE:GREGORIAN
METHOD:PUBLISH
BEGIN:VTIMEZONE
TZID:Atlantic/Canary
BEGIN:STANDARD
DTSTART:20190207T210000
RDATE:20190331T020000
TZOFFSETFROM:+0100
TZOFFSETTO:+0000
TZNAME:Atlantic/Canary WET
END:STANDARD
BEGIN:STANDARD
DTSTART:20191027T010000
RDATE:20200329T020000
TZOFFSETFROM:+0100
TZOFFSETTO:+0000
TZNAME:Atlantic/Canary WET
END:STANDARD
BEGIN:STANDARD
DTSTART:20201025T010000
RDATE:20210328T020000
TZOFFSETFROM:+0100
TZOFFSETTO:+0000
TZNAME:Atlantic/Canary WET
END:STANDARD
BEGIN:STANDARD
DTSTART:20211031T010000
RDATE:20220327T020000
TZOFFSETFROM:+0100
TZOFFSETTO:+0000
TZNAME:Atlantic/Canary WET
END:STANDARD
BEGIN:STANDARD
DTSTART:20221030T010000
RDATE:20230326T020000
TZOFFSETFROM:+0100
TZOFFSETTO:+0000
TZNAME:Atlantic/Canary WET
END:STANDARD
BEGIN:STANDARD
DTSTART:20231029T010000
RDATE:20240331T020000
TZOFFSETFROM:+0100
TZOFFSETTO:+0000
TZNAME:Atlantic/Canary WET
END:STANDARD
BEGIN:DAYLIGHT
DTSTART:20190331T020000
RDATE:20191027T010000
TZOFFSETFROM:+0000
TZOFFSETTO:+0100
TZNAME:Atlantic/Canary WEST
END:DAYLIGHT
BEGIN:DAYLIGHT
DTSTART:20200329T020000
RDATE:20201025T010000
TZOFFSETFROM:+0000
TZOFFSETTO:+0100
TZNAME:Atlantic/Canary WEST
END:DAYLIGHT
BEGIN:DAYLIGHT
DTSTART:20210328T020000
RDATE:20211031T010000
TZOFFSETFROM:+0000
TZOFFSETTO:+0100
TZNAME:Atlantic/Canary WEST
END:DAYLIGHT
BEGIN:DAYLIGHT
DTSTART:20220327T020000
RDATE:20221030T010000
TZOFFSETFROM:+0000
TZOFFSETTO:+0100
TZNAME:Atlantic/Canary WEST
END:DAYLIGHT
BEGIN:DAYLIGHT
DTSTART:20230326T020000
RDATE:20231029T010000
TZOFFSETFROM:+0000
TZOFFSETTO:+0100
TZNAME:Atlantic/Canary WEST
END:DAYLIGHT
END:VTIMEZONE
BEGIN:VEVENT
UID:7c4da1cf59b46e480ce3e4f23cbaa311
CATEGORIES:Música
CREATED:20200203T112008
SUMMARY:Concierto de Carmen París | Musicando
LOCATION:Parque Doramas
DESCRIPTION;ENCODING=QUOTED-PRINTABLE:\n\nCarmen Par&iacute;s celebra sus treinta a&ntilde;os en los escenarios c
 on &laquo;En s&iacute;ntesis&raquo;. El s&aacute;bado 8 de febrero, la arag
 onesa reunir&aacute; en el parque Doramas temas de &laquo;Pa' mi genio&raqu
 o;, &laquo;Jotera lo ser&aacute;s t&uacute;&raquo;, &laquo;In-Cubando&raquo
 ; y &laquo;Ejazz con jota&raquo; con los m&uacute;ltiples aromas y paisajes
  en las m&uacute;sicas y letras creadas o adaptadas por ella alrededor de l
 a jota.\n\n\nEntrada libre hasta completar aforo.\n\n\n+ Info: LPA Cultura\
 n
DTSTAMP:20260424T090300Z
DTSTART;TZID=Atlantic/Canary:20200208T210000
SEQUENCE:0
TRANSP:OPAQUE
END:VEVENT
END:VCALENDAR