BEGIN:VCALENDAR
VERSION:2.0
PRODID:-//jEvents 2.0 for Joomla//EN
CALSCALE:GREGORIAN
METHOD:PUBLISH
BEGIN:VTIMEZONE
TZID:Atlantic/Canary
BEGIN:STANDARD
DTSTART:20190129T000000
RDATE:20190331T020000
TZOFFSETFROM:+0100
TZOFFSETTO:+0000
TZNAME:Atlantic/Canary WET
END:STANDARD
BEGIN:STANDARD
DTSTART:20191027T010000
RDATE:20200329T020000
TZOFFSETFROM:+0100
TZOFFSETTO:+0000
TZNAME:Atlantic/Canary WET
END:STANDARD
BEGIN:STANDARD
DTSTART:20201025T010000
RDATE:20210328T020000
TZOFFSETFROM:+0100
TZOFFSETTO:+0000
TZNAME:Atlantic/Canary WET
END:STANDARD
BEGIN:STANDARD
DTSTART:20211031T010000
RDATE:20220327T020000
TZOFFSETFROM:+0100
TZOFFSETTO:+0000
TZNAME:Atlantic/Canary WET
END:STANDARD
BEGIN:STANDARD
DTSTART:20221030T010000
RDATE:20230326T020000
TZOFFSETFROM:+0100
TZOFFSETTO:+0000
TZNAME:Atlantic/Canary WET
END:STANDARD
BEGIN:STANDARD
DTSTART:20231029T010000
RDATE:20240331T020000
TZOFFSETFROM:+0100
TZOFFSETTO:+0000
TZNAME:Atlantic/Canary WET
END:STANDARD
BEGIN:DAYLIGHT
DTSTART:20190331T020000
RDATE:20191027T010000
TZOFFSETFROM:+0000
TZOFFSETTO:+0100
TZNAME:Atlantic/Canary WEST
END:DAYLIGHT
BEGIN:DAYLIGHT
DTSTART:20200329T020000
RDATE:20201025T010000
TZOFFSETFROM:+0000
TZOFFSETTO:+0100
TZNAME:Atlantic/Canary WEST
END:DAYLIGHT
BEGIN:DAYLIGHT
DTSTART:20210328T020000
RDATE:20211031T010000
TZOFFSETFROM:+0000
TZOFFSETTO:+0100
TZNAME:Atlantic/Canary WEST
END:DAYLIGHT
BEGIN:DAYLIGHT
DTSTART:20220327T020000
RDATE:20221030T010000
TZOFFSETFROM:+0000
TZOFFSETTO:+0100
TZNAME:Atlantic/Canary WEST
END:DAYLIGHT
BEGIN:DAYLIGHT
DTSTART:20230326T020000
RDATE:20231029T010000
TZOFFSETFROM:+0000
TZOFFSETTO:+0100
TZNAME:Atlantic/Canary WEST
END:DAYLIGHT
END:VTIMEZONE
BEGIN:VEVENT
UID:47220220e90adba393db25460086c54f
CATEGORIES:Exposiciones / Museos
CREATED:20200203T112641
SUMMARY:Exposición "ELF DALIA", de Maja Daniels
LOCATION:Ciudad de Las Palmas de Gran Canaria
DESCRIPTION;ENCODING=QUOTED-PRINTABLE:<p>En esta&nbsp;exposici&oacute;n&nbsp;la fot&oacute;grafa Maja Daniels exp
 lora la&nbsp;lengua y cultura antigua&nbsp;de una comunidad sueca aislada.<
 /p><p>Edificio Cultural Ponce de Le&oacute;n.<br />Calle Castillo, 6.&nbsp;
 Las Palmas de Gran Canaria.<br /><strong>Horario:</strong>&nbsp;Lunes a vie
 rnes, de 10.00 a 13.00 y de 18.00 a 21.00 horas.<br />Entrada libre.</p><p>
 <strong>+ Info: <a href="https://www.fundacionmapfreguanarteme.org/guanarte
 me/exposiciones-conciertos/exposiciones/2020/exposicion-fotografa-maja-dani
 els.jsp" target="_blank" rel="noopener noreferrer">Fundaci&oacute;n Mapfre 
 Guanarteme</a></strong></p>
DTSTAMP:20260424T100006Z
DTSTART;TZID=Atlantic/Canary;VALUE=DATE:20200130
DTEND;TZID=Atlantic/Canary;VALUE=DATE:20200328
SEQUENCE:0
TRANSP:OPAQUE
END:VEVENT
END:VCALENDAR