BEGIN:VCALENDAR
VERSION:2.0
PRODID:-//jEvents 2.0 for Joomla//EN
CALSCALE:GREGORIAN
METHOD:PUBLISH
BEGIN:VTIMEZONE
TZID:Atlantic/Canary
BEGIN:STANDARD
DTSTART:20190206T203000
RDATE:20190331T020000
TZOFFSETFROM:+0100
TZOFFSETTO:+0000
TZNAME:Atlantic/Canary WET
END:STANDARD
BEGIN:STANDARD
DTSTART:20191027T010000
RDATE:20200329T020000
TZOFFSETFROM:+0100
TZOFFSETTO:+0000
TZNAME:Atlantic/Canary WET
END:STANDARD
BEGIN:STANDARD
DTSTART:20201025T010000
RDATE:20210328T020000
TZOFFSETFROM:+0100
TZOFFSETTO:+0000
TZNAME:Atlantic/Canary WET
END:STANDARD
BEGIN:STANDARD
DTSTART:20211031T010000
RDATE:20220327T020000
TZOFFSETFROM:+0100
TZOFFSETTO:+0000
TZNAME:Atlantic/Canary WET
END:STANDARD
BEGIN:STANDARD
DTSTART:20221030T010000
RDATE:20230326T020000
TZOFFSETFROM:+0100
TZOFFSETTO:+0000
TZNAME:Atlantic/Canary WET
END:STANDARD
BEGIN:STANDARD
DTSTART:20231029T010000
RDATE:20240331T020000
TZOFFSETFROM:+0100
TZOFFSETTO:+0000
TZNAME:Atlantic/Canary WET
END:STANDARD
BEGIN:DAYLIGHT
DTSTART:20190331T020000
RDATE:20191027T010000
TZOFFSETFROM:+0000
TZOFFSETTO:+0100
TZNAME:Atlantic/Canary WEST
END:DAYLIGHT
BEGIN:DAYLIGHT
DTSTART:20200329T020000
RDATE:20201025T010000
TZOFFSETFROM:+0000
TZOFFSETTO:+0100
TZNAME:Atlantic/Canary WEST
END:DAYLIGHT
BEGIN:DAYLIGHT
DTSTART:20210328T020000
RDATE:20211031T010000
TZOFFSETFROM:+0000
TZOFFSETTO:+0100
TZNAME:Atlantic/Canary WEST
END:DAYLIGHT
BEGIN:DAYLIGHT
DTSTART:20220327T020000
RDATE:20221030T010000
TZOFFSETFROM:+0000
TZOFFSETTO:+0100
TZNAME:Atlantic/Canary WEST
END:DAYLIGHT
BEGIN:DAYLIGHT
DTSTART:20230326T020000
RDATE:20231029T010000
TZOFFSETFROM:+0000
TZOFFSETTO:+0100
TZNAME:Atlantic/Canary WEST
END:DAYLIGHT
END:VTIMEZONE
BEGIN:VEVENT
UID:b3885f27d6de53a2e93378b7edf7cfcc
CATEGORIES:Festividades / Conmemoraciones
CREATED:20200204T104538
SUMMARY:Pregón| Carnaval de Las Palmas de Gran Canaria 2020
LOCATION:Plaza de Santa Ana
DESCRIPTION;ENCODING=QUOTED-PRINTABLE:<p><strong>20:30h Pasacalles anunciador</strong></p><p>Un pasacalles saldr&
 aacute; de la plaza de Cairasco en direcci&oacute;n a Vegueta para convocar
  a las mascaritas al preg&oacute;n anunciador.&nbsp;</p><p><strong>21:00h P
 reg&oacute;n</strong></p><p>Roberto Herrera ser&aacute; el pregonero del Ca
 rnaval de Las Palmas de Gran Canaria 2020, en la Plaza de Santa Ana.</p><p>
 <strong>21:40h Concierto de Los Salvapantallas</strong></p><p>Las inconfund
 ibles versiones del grupo Los Salvapantallas cerrar&aacute;n la noche del p
 reg&oacute;n del Carnaval de &ldquo;&Eacute;rase una vez&rdquo;.</p><p><str
 ong>+ Info: <a href="http://lpacarnaval.com/es/programa" target="_blank" re
 l="noopener noreferrer">Carnaval de Las Palmas de Gran Canaria</a></strong>
 </p>
DTSTAMP:20260424T090445Z
DTSTART;TZID=Atlantic/Canary:20200207T203000
SEQUENCE:0
TRANSP:OPAQUE
END:VEVENT
END:VCALENDAR