BEGIN:VCALENDAR
VERSION:2.0
PRODID:-//jEvents 2.0 for Joomla//EN
CALSCALE:GREGORIAN
METHOD:PUBLISH
BEGIN:VTIMEZONE
TZID:Atlantic/Canary
BEGIN:STANDARD
DTSTART:20190219T190000
RDATE:20190331T020000
TZOFFSETFROM:+0100
TZOFFSETTO:+0000
TZNAME:Atlantic/Canary WET
END:STANDARD
BEGIN:STANDARD
DTSTART:20191027T010000
RDATE:20200329T020000
TZOFFSETFROM:+0100
TZOFFSETTO:+0000
TZNAME:Atlantic/Canary WET
END:STANDARD
BEGIN:STANDARD
DTSTART:20201025T010000
RDATE:20210328T020000
TZOFFSETFROM:+0100
TZOFFSETTO:+0000
TZNAME:Atlantic/Canary WET
END:STANDARD
BEGIN:STANDARD
DTSTART:20211031T010000
RDATE:20220327T020000
TZOFFSETFROM:+0100
TZOFFSETTO:+0000
TZNAME:Atlantic/Canary WET
END:STANDARD
BEGIN:STANDARD
DTSTART:20221030T010000
RDATE:20230326T020000
TZOFFSETFROM:+0100
TZOFFSETTO:+0000
TZNAME:Atlantic/Canary WET
END:STANDARD
BEGIN:STANDARD
DTSTART:20231029T010000
RDATE:20240331T020000
TZOFFSETFROM:+0100
TZOFFSETTO:+0000
TZNAME:Atlantic/Canary WET
END:STANDARD
BEGIN:DAYLIGHT
DTSTART:20190331T020000
RDATE:20191027T010000
TZOFFSETFROM:+0000
TZOFFSETTO:+0100
TZNAME:Atlantic/Canary WEST
END:DAYLIGHT
BEGIN:DAYLIGHT
DTSTART:20200329T020000
RDATE:20201025T010000
TZOFFSETFROM:+0000
TZOFFSETTO:+0100
TZNAME:Atlantic/Canary WEST
END:DAYLIGHT
BEGIN:DAYLIGHT
DTSTART:20210328T020000
RDATE:20211031T010000
TZOFFSETFROM:+0000
TZOFFSETTO:+0100
TZNAME:Atlantic/Canary WEST
END:DAYLIGHT
BEGIN:DAYLIGHT
DTSTART:20220327T020000
RDATE:20221030T010000
TZOFFSETFROM:+0000
TZOFFSETTO:+0100
TZNAME:Atlantic/Canary WEST
END:DAYLIGHT
BEGIN:DAYLIGHT
DTSTART:20230326T020000
RDATE:20231029T010000
TZOFFSETFROM:+0000
TZOFFSETTO:+0100
TZNAME:Atlantic/Canary WEST
END:DAYLIGHT
END:VTIMEZONE
BEGIN:VEVENT
UID:9ee4011017eb8b86ab5f23ecc0650dfe
CATEGORIES:Encuentros / Conferencias
CREATED:20200204T142441
SUMMARY:Presentación de "Las dos Amelias", de José Luis Correa
LOCATION:Ámbito Cultural de El Corte Inglés
DESCRIPTION;ENCODING=QUOTED-PRINTABLE:<p>M&aacute;s all&aacute; de la novela puramente polic&iacute;aca,<em> Las 
 dos Amelias</em> es una reflexi&oacute;n sobre las relaciones humanas, la s
 oledad y la violencia y las nuevas formas de comunicarse. Los acontecimient
 os se conjugan con el humor, la ternura y el verbo socarr&oacute;n, a veces
  po&eacute;tico, de un personaje que ya forma parte de nuestro imaginario c
 riminal.</p><p><strong>+ Info: <a href="https://www.elcorteingles.es/centro
 scomerciales/es/eci/centros/centro-comercial-jose-mesa-y-lopez/eventos/las-
 dos-amelias" target="_blank" rel="noopener noreferrer">&Aacute;mbito Cultur
 al El Corte Ingl&eacute;s</a></strong></p>
DTSTAMP:20260424T090415Z
DTSTART;TZID=Atlantic/Canary:20200220T190000
SEQUENCE:0
TRANSP:OPAQUE
END:VEVENT
END:VCALENDAR