BEGIN:VCALENDAR
VERSION:2.0
PRODID:-//jEvents 2.0 for Joomla//EN
CALSCALE:GREGORIAN
METHOD:PUBLISH
BEGIN:VTIMEZONE
TZID:Atlantic/Canary
BEGIN:STANDARD
DTSTART:20190218T190000
RDATE:20190331T020000
TZOFFSETFROM:+0100
TZOFFSETTO:+0000
TZNAME:Atlantic/Canary WET
END:STANDARD
BEGIN:STANDARD
DTSTART:20191027T010000
RDATE:20200329T020000
TZOFFSETFROM:+0100
TZOFFSETTO:+0000
TZNAME:Atlantic/Canary WET
END:STANDARD
BEGIN:STANDARD
DTSTART:20201025T010000
RDATE:20210328T020000
TZOFFSETFROM:+0100
TZOFFSETTO:+0000
TZNAME:Atlantic/Canary WET
END:STANDARD
BEGIN:STANDARD
DTSTART:20211031T010000
RDATE:20220327T020000
TZOFFSETFROM:+0100
TZOFFSETTO:+0000
TZNAME:Atlantic/Canary WET
END:STANDARD
BEGIN:STANDARD
DTSTART:20221030T010000
RDATE:20230326T020000
TZOFFSETFROM:+0100
TZOFFSETTO:+0000
TZNAME:Atlantic/Canary WET
END:STANDARD
BEGIN:STANDARD
DTSTART:20231029T010000
RDATE:20240331T020000
TZOFFSETFROM:+0100
TZOFFSETTO:+0000
TZNAME:Atlantic/Canary WET
END:STANDARD
BEGIN:DAYLIGHT
DTSTART:20190331T020000
RDATE:20191027T010000
TZOFFSETFROM:+0000
TZOFFSETTO:+0100
TZNAME:Atlantic/Canary WEST
END:DAYLIGHT
BEGIN:DAYLIGHT
DTSTART:20200329T020000
RDATE:20201025T010000
TZOFFSETFROM:+0000
TZOFFSETTO:+0100
TZNAME:Atlantic/Canary WEST
END:DAYLIGHT
BEGIN:DAYLIGHT
DTSTART:20210328T020000
RDATE:20211031T010000
TZOFFSETFROM:+0000
TZOFFSETTO:+0100
TZNAME:Atlantic/Canary WEST
END:DAYLIGHT
BEGIN:DAYLIGHT
DTSTART:20220327T020000
RDATE:20221030T010000
TZOFFSETFROM:+0000
TZOFFSETTO:+0100
TZNAME:Atlantic/Canary WEST
END:DAYLIGHT
BEGIN:DAYLIGHT
DTSTART:20230326T020000
RDATE:20231029T010000
TZOFFSETFROM:+0000
TZOFFSETTO:+0100
TZNAME:Atlantic/Canary WEST
END:DAYLIGHT
END:VTIMEZONE
BEGIN:VEVENT
UID:12f6ced578e9138487683c38065fba0b
CATEGORIES:Audiovisuales / Cine
CREATED:20200210T120128
SUMMARY:Proyección de "Vampyr"
LOCATION:Salón de Actos del edificio de Humanidades
DESCRIPTION;ENCODING=QUOTED-PRINTABLE:\n\nLa principal intenci&oacute;n de Dreyer a la hora de adentrarse en la h
 istoria que narra&nbsp;Vampyr es la de demostrar en cierto modo que el terr
 or viene por lo que se&nbsp;produce en la mente del individuo m&aacute;s qu
 e por los acontecimientos que tienen&nbsp;lugar alrededor.\n\n\nSinopsis: \
 n\n\nEl joven viajero, Allan Gray, se aloja en una misteriosa posada. Estan
 do&nbsp;all&iacute;, comienza a tener espeluznantes visiones, de las cuales
  la m&aacute;s terrible es el&nbsp;descubrimiento de una mujer inconsciente
  que ha sido atacada por un vampiro en&nbsp;forma de bruja.\n\n\n+ Info: Au
 la de Cine ULPGC\n\n\n&nbsp;\n
DTSTAMP:20260424T085637Z
DTSTART;TZID=Atlantic/Canary:20200219T190000
SEQUENCE:0
TRANSP:OPAQUE
END:VEVENT
END:VCALENDAR