BEGIN:VCALENDAR
VERSION:2.0
PRODID:-//jEvents 2.0 for Joomla//EN
CALSCALE:GREGORIAN
METHOD:PUBLISH
BEGIN:VTIMEZONE
TZID:Atlantic/Canary
BEGIN:STANDARD
DTSTART:20190220T190000
RDATE:20190331T020000
TZOFFSETFROM:+0100
TZOFFSETTO:+0000
TZNAME:Atlantic/Canary WET
END:STANDARD
BEGIN:STANDARD
DTSTART:20191027T010000
RDATE:20200329T020000
TZOFFSETFROM:+0100
TZOFFSETTO:+0000
TZNAME:Atlantic/Canary WET
END:STANDARD
BEGIN:STANDARD
DTSTART:20201025T010000
RDATE:20210328T020000
TZOFFSETFROM:+0100
TZOFFSETTO:+0000
TZNAME:Atlantic/Canary WET
END:STANDARD
BEGIN:STANDARD
DTSTART:20211031T010000
RDATE:20220327T020000
TZOFFSETFROM:+0100
TZOFFSETTO:+0000
TZNAME:Atlantic/Canary WET
END:STANDARD
BEGIN:STANDARD
DTSTART:20221030T010000
RDATE:20230326T020000
TZOFFSETFROM:+0100
TZOFFSETTO:+0000
TZNAME:Atlantic/Canary WET
END:STANDARD
BEGIN:STANDARD
DTSTART:20231029T010000
RDATE:20240331T020000
TZOFFSETFROM:+0100
TZOFFSETTO:+0000
TZNAME:Atlantic/Canary WET
END:STANDARD
BEGIN:DAYLIGHT
DTSTART:20190331T020000
RDATE:20191027T010000
TZOFFSETFROM:+0000
TZOFFSETTO:+0100
TZNAME:Atlantic/Canary WEST
END:DAYLIGHT
BEGIN:DAYLIGHT
DTSTART:20200329T020000
RDATE:20201025T010000
TZOFFSETFROM:+0000
TZOFFSETTO:+0100
TZNAME:Atlantic/Canary WEST
END:DAYLIGHT
BEGIN:DAYLIGHT
DTSTART:20210328T020000
RDATE:20211031T010000
TZOFFSETFROM:+0000
TZOFFSETTO:+0100
TZNAME:Atlantic/Canary WEST
END:DAYLIGHT
BEGIN:DAYLIGHT
DTSTART:20220327T020000
RDATE:20221030T010000
TZOFFSETFROM:+0000
TZOFFSETTO:+0100
TZNAME:Atlantic/Canary WEST
END:DAYLIGHT
BEGIN:DAYLIGHT
DTSTART:20230326T020000
RDATE:20231029T010000
TZOFFSETFROM:+0000
TZOFFSETTO:+0100
TZNAME:Atlantic/Canary WEST
END:DAYLIGHT
END:VTIMEZONE
BEGIN:VEVENT
UID:a35f797c573d7c492f679229144d8799
CATEGORIES:Audiovisuales / Cine
CREATED:20200210T120353
SUMMARY:Proyección de "El testamento del Dr. Mabuse"
LOCATION:Salón de Actos del edificio de Humanidades
DESCRIPTION;ENCODING=QUOTED-PRINTABLE:<p>Aunque no tenga la popularidad de <em>Metr&oacute;polis</em>, ni la perf
 ecci&oacute;n de <em>La muerte&nbsp;cansada</em>, la serie de pel&iacute;cu
 las sobre el Dr. Mabuse es absolutamente trascendente en la carrera de Frit
 z Lang.</p><p><strong>Sinopsis: </strong></p><p>El inspector Lohmann invest
 iga un caso de falsificaci&oacute;n que le conduce&nbsp;hasta el famoso cri
 minal Dr. Mabuse, que se encuentra ingresado en una cl&iacute;nica&nbsp;psi
 qui&aacute;trica propiedad del Dr. Baum, un importante psiquiatra fascinado
  por la obra&nbsp;de Mabuse.</p><p><strong>+ Info: <a href="http://www.aula
 decine.ulpgc.es/" target="_blank" rel="noopener noreferrer">Aula de Cine UL
 PGC</a></strong></p><p>&nbsp;</p>
DTSTAMP:20260424T090012Z
DTSTART;TZID=Atlantic/Canary:20200221T190000
SEQUENCE:0
TRANSP:OPAQUE
END:VEVENT
END:VCALENDAR