BEGIN:VCALENDAR
VERSION:2.0
PRODID:-//jEvents 2.0 for Joomla//EN
CALSCALE:GREGORIAN
METHOD:PUBLISH
BEGIN:VTIMEZONE
TZID:Atlantic/Canary
BEGIN:STANDARD
DTSTART:20190226T203000
RDATE:20190331T020000
TZOFFSETFROM:+0100
TZOFFSETTO:+0000
TZNAME:Atlantic/Canary WET
END:STANDARD
BEGIN:STANDARD
DTSTART:20191027T010000
RDATE:20200329T020000
TZOFFSETFROM:+0100
TZOFFSETTO:+0000
TZNAME:Atlantic/Canary WET
END:STANDARD
BEGIN:STANDARD
DTSTART:20201025T010000
RDATE:20210328T020000
TZOFFSETFROM:+0100
TZOFFSETTO:+0000
TZNAME:Atlantic/Canary WET
END:STANDARD
BEGIN:STANDARD
DTSTART:20211031T010000
RDATE:20220327T020000
TZOFFSETFROM:+0100
TZOFFSETTO:+0000
TZNAME:Atlantic/Canary WET
END:STANDARD
BEGIN:STANDARD
DTSTART:20221030T010000
RDATE:20230326T020000
TZOFFSETFROM:+0100
TZOFFSETTO:+0000
TZNAME:Atlantic/Canary WET
END:STANDARD
BEGIN:STANDARD
DTSTART:20231029T010000
RDATE:20240331T020000
TZOFFSETFROM:+0100
TZOFFSETTO:+0000
TZNAME:Atlantic/Canary WET
END:STANDARD
BEGIN:DAYLIGHT
DTSTART:20190331T020000
RDATE:20191027T010000
TZOFFSETFROM:+0000
TZOFFSETTO:+0100
TZNAME:Atlantic/Canary WEST
END:DAYLIGHT
BEGIN:DAYLIGHT
DTSTART:20200329T020000
RDATE:20201025T010000
TZOFFSETFROM:+0000
TZOFFSETTO:+0100
TZNAME:Atlantic/Canary WEST
END:DAYLIGHT
BEGIN:DAYLIGHT
DTSTART:20210328T020000
RDATE:20211031T010000
TZOFFSETFROM:+0000
TZOFFSETTO:+0100
TZNAME:Atlantic/Canary WEST
END:DAYLIGHT
BEGIN:DAYLIGHT
DTSTART:20220327T020000
RDATE:20221030T010000
TZOFFSETFROM:+0000
TZOFFSETTO:+0100
TZNAME:Atlantic/Canary WEST
END:DAYLIGHT
BEGIN:DAYLIGHT
DTSTART:20230326T020000
RDATE:20231029T010000
TZOFFSETFROM:+0000
TZOFFSETTO:+0100
TZNAME:Atlantic/Canary WEST
END:DAYLIGHT
END:VTIMEZONE
BEGIN:VEVENT
UID:734a9f5c1120f3489f4790afee0aa107
CATEGORIES:Encuentros / Conferencias
CREATED:20200210T171141
SUMMARY:#Guiniguada: Solidaridad en red
LOCATION:Teatro Guiniguada
DESCRIPTION;ENCODING=QUOTED-PRINTABLE:<p>Las redes sociales las carga el diablo. Vemos a diario que a alguien, en
  alg&uacute;n lugar del mundo, un v&iacute;deo, una foto o un post publicad
 o en redes sociales le ha costado caro.</p><p>Sin embargo, &iquest;qu&eacut
 e; pasa con las cosas buenas que se pueden conseguir gracias a las redes so
 ciales? El experto en social media y fundador de los <em>Premios Tolete,</e
 m> <strong>Javier Rodr&iacute;guez</strong>, se sube a la mesa de # Guinigu
 ada&nbsp;<strong>con El Cad&aacute;ver Exquisito</strong> para contarnos c&
 oacute;mo es posible aprovechar la marejada de internet para ayudar incluso
  a salvar vidas</p><p><strong>+ Info: <a href="https://www3.gobiernodecanar
 ias.org/cultura/teatroguiniguada/eventos/guiniguada-solidaridad-en-red/" ta
 rget="_blank" rel="noopener noreferrer">Teatro Guiniguada<br /></a></strong
 ></p><div id="gtx-trans" style="position: absolute; left: 316px; top: 112px
 ;">&nbsp;</div>
DTSTAMP:20260424T090416Z
DTSTART;TZID=Atlantic/Canary:20200227T203000
SEQUENCE:0
TRANSP:OPAQUE
END:VEVENT
END:VCALENDAR