BEGIN:VCALENDAR
VERSION:2.0
PRODID:-//jEvents 2.0 for Joomla//EN
CALSCALE:GREGORIAN
METHOD:PUBLISH
BEGIN:VTIMEZONE
TZID:Atlantic/Canary
BEGIN:STANDARD
DTSTART:20190212T190000
RDATE:20190331T020000
TZOFFSETFROM:+0100
TZOFFSETTO:+0000
TZNAME:Atlantic/Canary WET
END:STANDARD
BEGIN:STANDARD
DTSTART:20191027T010000
RDATE:20200329T020000
TZOFFSETFROM:+0100
TZOFFSETTO:+0000
TZNAME:Atlantic/Canary WET
END:STANDARD
BEGIN:STANDARD
DTSTART:20201025T010000
RDATE:20210328T020000
TZOFFSETFROM:+0100
TZOFFSETTO:+0000
TZNAME:Atlantic/Canary WET
END:STANDARD
BEGIN:STANDARD
DTSTART:20211031T010000
RDATE:20220327T020000
TZOFFSETFROM:+0100
TZOFFSETTO:+0000
TZNAME:Atlantic/Canary WET
END:STANDARD
BEGIN:STANDARD
DTSTART:20221030T010000
RDATE:20230326T020000
TZOFFSETFROM:+0100
TZOFFSETTO:+0000
TZNAME:Atlantic/Canary WET
END:STANDARD
BEGIN:STANDARD
DTSTART:20231029T010000
RDATE:20240331T020000
TZOFFSETFROM:+0100
TZOFFSETTO:+0000
TZNAME:Atlantic/Canary WET
END:STANDARD
BEGIN:DAYLIGHT
DTSTART:20190331T020000
RDATE:20191027T010000
TZOFFSETFROM:+0000
TZOFFSETTO:+0100
TZNAME:Atlantic/Canary WEST
END:DAYLIGHT
BEGIN:DAYLIGHT
DTSTART:20200329T020000
RDATE:20201025T010000
TZOFFSETFROM:+0000
TZOFFSETTO:+0100
TZNAME:Atlantic/Canary WEST
END:DAYLIGHT
BEGIN:DAYLIGHT
DTSTART:20210328T020000
RDATE:20211031T010000
TZOFFSETFROM:+0000
TZOFFSETTO:+0100
TZNAME:Atlantic/Canary WEST
END:DAYLIGHT
BEGIN:DAYLIGHT
DTSTART:20220327T020000
RDATE:20221030T010000
TZOFFSETFROM:+0000
TZOFFSETTO:+0100
TZNAME:Atlantic/Canary WEST
END:DAYLIGHT
BEGIN:DAYLIGHT
DTSTART:20230326T020000
RDATE:20231029T010000
TZOFFSETFROM:+0000
TZOFFSETTO:+0100
TZNAME:Atlantic/Canary WEST
END:DAYLIGHT
END:VTIMEZONE
BEGIN:VEVENT
UID:079883e779c9a935d07ad39ceabdafb9
CATEGORIES:Servicios Bibliotecarios, Encuentros / Conferencias
CREATED:20200210T172359
SUMMARY:Presentación del libro "Bahía Borinquen"
LOCATION:Biblioteca Pública del Estado
DESCRIPTION;ENCODING=QUOTED-PRINTABLE:<p>Presentaci&oacute;n del poemario <em><strong>Bah&iacute;a Borinquen</str
 ong></em>, de Antonio Arroyo Silva, coeditado por Ediciones Aguere e Idea. 
 Acompa&ntilde;an al autor el escritor Pablo Sergio Alem&aacute;n Falc&oacut
 e;n y el director de Aguere, Anghel Morales Garc&iacute;a. Pone voz a vario
 s poemas el cantautor Eduardo Garc&iacute;a Ben&iacute;tez.</p><p>Entrada l
 ibre hasta completar aforo.&nbsp;</p><p><strong>+ Info: <a href="https://ww
 w.bibliotecaspublicas.es/generico/agenda.jsp?&amp;sedeweb=228&amp;pw=0" tar
 get="_blank" rel="noopener noreferrer">Biblioteca P&uacute;blica del Estado
 </a></strong></p>
DTSTAMP:20260424T090417Z
DTSTART;TZID=Atlantic/Canary:20200213T190000
SEQUENCE:0
TRANSP:OPAQUE
END:VEVENT
END:VCALENDAR