BEGIN:VCALENDAR
VERSION:2.0
PRODID:-//jEvents 2.0 for Joomla//EN
CALSCALE:GREGORIAN
METHOD:PUBLISH
BEGIN:VTIMEZONE
TZID:Atlantic/Canary
BEGIN:STANDARD
DTSTART:20190219T000000
RDATE:20190331T020000
TZOFFSETFROM:+0100
TZOFFSETTO:+0000
TZNAME:Atlantic/Canary WET
END:STANDARD
BEGIN:STANDARD
DTSTART:20191027T010000
RDATE:20200329T020000
TZOFFSETFROM:+0100
TZOFFSETTO:+0000
TZNAME:Atlantic/Canary WET
END:STANDARD
BEGIN:STANDARD
DTSTART:20201025T010000
RDATE:20210328T020000
TZOFFSETFROM:+0100
TZOFFSETTO:+0000
TZNAME:Atlantic/Canary WET
END:STANDARD
BEGIN:STANDARD
DTSTART:20211031T010000
RDATE:20220327T020000
TZOFFSETFROM:+0100
TZOFFSETTO:+0000
TZNAME:Atlantic/Canary WET
END:STANDARD
BEGIN:STANDARD
DTSTART:20221030T010000
RDATE:20230326T020000
TZOFFSETFROM:+0100
TZOFFSETTO:+0000
TZNAME:Atlantic/Canary WET
END:STANDARD
BEGIN:STANDARD
DTSTART:20231029T010000
RDATE:20240331T020000
TZOFFSETFROM:+0100
TZOFFSETTO:+0000
TZNAME:Atlantic/Canary WET
END:STANDARD
BEGIN:DAYLIGHT
DTSTART:20190331T020000
RDATE:20191027T010000
TZOFFSETFROM:+0000
TZOFFSETTO:+0100
TZNAME:Atlantic/Canary WEST
END:DAYLIGHT
BEGIN:DAYLIGHT
DTSTART:20200329T020000
RDATE:20201025T010000
TZOFFSETFROM:+0000
TZOFFSETTO:+0100
TZNAME:Atlantic/Canary WEST
END:DAYLIGHT
BEGIN:DAYLIGHT
DTSTART:20210328T020000
RDATE:20211031T010000
TZOFFSETFROM:+0000
TZOFFSETTO:+0100
TZNAME:Atlantic/Canary WEST
END:DAYLIGHT
BEGIN:DAYLIGHT
DTSTART:20220327T020000
RDATE:20221030T010000
TZOFFSETFROM:+0000
TZOFFSETTO:+0100
TZNAME:Atlantic/Canary WEST
END:DAYLIGHT
BEGIN:DAYLIGHT
DTSTART:20230326T020000
RDATE:20231029T010000
TZOFFSETFROM:+0000
TZOFFSETTO:+0100
TZNAME:Atlantic/Canary WEST
END:DAYLIGHT
END:VTIMEZONE
BEGIN:VEVENT
UID:542af4424d490b0b33b9b6b057da7f9f
CATEGORIES:Encuentros / Conferencias
CREATED:20200214T134901
SUMMARY:Esoterismo en Occidente y su relación con el Arte
LOCATION:Centro de Arte La Regenta
DESCRIPTION;ENCODING=QUOTED-PRINTABLE:<p>El Centro de Arte La Regenta organiza este ciclo con el objetivo de pone
 r en relevancia la estrecha relaci&oacute;n que ha tenido el pensamiento es
 ot&eacute;rico (en cualquiera de sus variantes) as&iacute; como las cualida
 des espirituales, iniciadoras y m&aacute;gicas en el desarrollo del arte de
 sde la Edad Antigua hasta la Edad Moderna.&nbsp;</p><p><strong>+ Info:&nbsp
 ;<a href="http://laregenta.org/exposiciones/actual/nos-queda-el-horizonte" 
 target="_blank" rel="noopener noreferrer">Centro de Arte La Regenta</a></st
 rong></p>
DTSTAMP:20260424T091501Z
DTSTART;TZID=Atlantic/Canary;VALUE=DATE:20200220
DTEND;TZID=Atlantic/Canary;VALUE=DATE:20200222
SEQUENCE:0
TRANSP:OPAQUE
END:VEVENT
END:VCALENDAR