BEGIN:VCALENDAR
VERSION:2.0
PRODID:-//jEvents 2.0 for Joomla//EN
CALSCALE:GREGORIAN
METHOD:PUBLISH
BEGIN:VTIMEZONE
TZID:Atlantic/Canary
BEGIN:STANDARD
DTSTART:20190217T190000
RDATE:20190331T020000
TZOFFSETFROM:+0100
TZOFFSETTO:+0000
TZNAME:Atlantic/Canary WET
END:STANDARD
BEGIN:STANDARD
DTSTART:20191027T010000
RDATE:20200329T020000
TZOFFSETFROM:+0100
TZOFFSETTO:+0000
TZNAME:Atlantic/Canary WET
END:STANDARD
BEGIN:STANDARD
DTSTART:20201025T010000
RDATE:20210328T020000
TZOFFSETFROM:+0100
TZOFFSETTO:+0000
TZNAME:Atlantic/Canary WET
END:STANDARD
BEGIN:STANDARD
DTSTART:20211031T010000
RDATE:20220327T020000
TZOFFSETFROM:+0100
TZOFFSETTO:+0000
TZNAME:Atlantic/Canary WET
END:STANDARD
BEGIN:STANDARD
DTSTART:20221030T010000
RDATE:20230326T020000
TZOFFSETFROM:+0100
TZOFFSETTO:+0000
TZNAME:Atlantic/Canary WET
END:STANDARD
BEGIN:STANDARD
DTSTART:20231029T010000
RDATE:20240331T020000
TZOFFSETFROM:+0100
TZOFFSETTO:+0000
TZNAME:Atlantic/Canary WET
END:STANDARD
BEGIN:DAYLIGHT
DTSTART:20190331T020000
RDATE:20191027T010000
TZOFFSETFROM:+0000
TZOFFSETTO:+0100
TZNAME:Atlantic/Canary WEST
END:DAYLIGHT
BEGIN:DAYLIGHT
DTSTART:20200329T020000
RDATE:20201025T010000
TZOFFSETFROM:+0000
TZOFFSETTO:+0100
TZNAME:Atlantic/Canary WEST
END:DAYLIGHT
BEGIN:DAYLIGHT
DTSTART:20210328T020000
RDATE:20211031T010000
TZOFFSETFROM:+0000
TZOFFSETTO:+0100
TZNAME:Atlantic/Canary WEST
END:DAYLIGHT
BEGIN:DAYLIGHT
DTSTART:20220327T020000
RDATE:20221030T010000
TZOFFSETFROM:+0000
TZOFFSETTO:+0100
TZNAME:Atlantic/Canary WEST
END:DAYLIGHT
BEGIN:DAYLIGHT
DTSTART:20230326T020000
RDATE:20231029T010000
TZOFFSETFROM:+0000
TZOFFSETTO:+0100
TZNAME:Atlantic/Canary WEST
END:DAYLIGHT
END:VTIMEZONE
BEGIN:VEVENT
UID:da97f55cbd3ee01bfa786e478a8956cc
CATEGORIES:Encuentros / Conferencias
CREATED:20200217T110517
SUMMARY:Ático Tertulias | Óscar Mora y Salvia Ferrer, del proyecto 'Intramurs'.
LOCATION:CAAM
DESCRIPTION;ENCODING=QUOTED-PRINTABLE:<p>El Centro Atl&aacute;ntico de Arte Moderno de Gran Canaria inaugura el c
 iclo&nbsp;'&Aacute;tico tertulias' de 2020 con Salvia Ferrer, directoradel 
 festival&nbsp;<strong>Intramurs</strong>&nbsp;de Valencia y el programador 
 de la muestra,&nbsp;&Oacute;scar Mora que<strong>&nbsp;</strong>dar&aacute;
 n a conocer el festival entre el p&uacute;blico de la Isla interesado en el
  arte, la creaci&oacute;n art&iacute;stica contempor&aacute;nea&nbsp;o la g
 esti&oacute;n&nbsp;cultural, y explorar&aacute;n aquellos nuevos proyectos 
 art&iacute;sticos que se desarrollan en Gran Canaria, susceptibles de incor
 porarse a su programaci&oacute;n.&nbsp;</p><p><strong>+ Info: <a href="http
 s://www.caam.net/es/actividades_int.php?n=4104" target="_blank" rel="noopen
 er noreferrer">CAAM</a></strong></p>
DTSTAMP:20260424T091343Z
DTSTART;TZID=Atlantic/Canary:20200218T190000
SEQUENCE:0
TRANSP:OPAQUE
END:VEVENT
END:VCALENDAR