BEGIN:VCALENDAR
VERSION:2.0
PRODID:-//jEvents 2.0 for Joomla//EN
CALSCALE:GREGORIAN
METHOD:PUBLISH
BEGIN:VTIMEZONE
TZID:Atlantic/Canary
BEGIN:STANDARD
DTSTART:20190218T093000
RDATE:20190331T020000
TZOFFSETFROM:+0100
TZOFFSETTO:+0000
TZNAME:Atlantic/Canary WET
END:STANDARD
BEGIN:STANDARD
DTSTART:20191027T010000
RDATE:20200329T020000
TZOFFSETFROM:+0100
TZOFFSETTO:+0000
TZNAME:Atlantic/Canary WET
END:STANDARD
BEGIN:STANDARD
DTSTART:20201025T010000
RDATE:20210328T020000
TZOFFSETFROM:+0100
TZOFFSETTO:+0000
TZNAME:Atlantic/Canary WET
END:STANDARD
BEGIN:STANDARD
DTSTART:20211031T010000
RDATE:20220327T020000
TZOFFSETFROM:+0100
TZOFFSETTO:+0000
TZNAME:Atlantic/Canary WET
END:STANDARD
BEGIN:STANDARD
DTSTART:20221030T010000
RDATE:20230326T020000
TZOFFSETFROM:+0100
TZOFFSETTO:+0000
TZNAME:Atlantic/Canary WET
END:STANDARD
BEGIN:STANDARD
DTSTART:20231029T010000
RDATE:20240331T020000
TZOFFSETFROM:+0100
TZOFFSETTO:+0000
TZNAME:Atlantic/Canary WET
END:STANDARD
BEGIN:DAYLIGHT
DTSTART:20190331T020000
RDATE:20191027T010000
TZOFFSETFROM:+0000
TZOFFSETTO:+0100
TZNAME:Atlantic/Canary WEST
END:DAYLIGHT
BEGIN:DAYLIGHT
DTSTART:20200329T020000
RDATE:20201025T010000
TZOFFSETFROM:+0000
TZOFFSETTO:+0100
TZNAME:Atlantic/Canary WEST
END:DAYLIGHT
BEGIN:DAYLIGHT
DTSTART:20210328T020000
RDATE:20211031T010000
TZOFFSETFROM:+0000
TZOFFSETTO:+0100
TZNAME:Atlantic/Canary WEST
END:DAYLIGHT
BEGIN:DAYLIGHT
DTSTART:20220327T020000
RDATE:20221030T010000
TZOFFSETFROM:+0000
TZOFFSETTO:+0100
TZNAME:Atlantic/Canary WEST
END:DAYLIGHT
BEGIN:DAYLIGHT
DTSTART:20230326T020000
RDATE:20231029T010000
TZOFFSETFROM:+0000
TZOFFSETTO:+0100
TZNAME:Atlantic/Canary WEST
END:DAYLIGHT
END:VTIMEZONE
BEGIN:VEVENT
UID:6c71bbd27605c2f6beeaffc86664a2f5
CATEGORIES:Encuentros / Conferencias
CREATED:20200217T113510
SUMMARY:Desayuno de presentación de la Editatona Gran Canaria
LOCATION:Casa de Colón
DESCRIPTION;ENCODING=QUOTED-PRINTABLE:\n\nTema de debate: Visibilidad de la mujer en el entorno profesional.\n\n\
 nParticipan:&nbsp;Elena Acosta, Directora de la Casa de Col&oacute;n;&nbsp;
 Milagros Rico, Vicerrectora de Calidad de la ULPGC;&nbsp;Pino Caballero, Pr
 ofesora de la ULL;&nbsp;Sara Mateos, Directora de Fundaci&oacute;n DISA.&nb
 sp;Modera:&nbsp;&Aacute;ngeles Arencibia.&nbsp;Con la intervenci&oacute;n d
 e&nbsp;Patricia Horrillo.\n\n\n+ Info:&nbsp;Editatona Gran Canaria\n
DTSTAMP:20260424T090300Z
DTSTART;TZID=Atlantic/Canary:20200219T093000
DTEND;TZID=Atlantic/Canary:20200219T110000
SEQUENCE:0
TRANSP:OPAQUE
END:VEVENT
END:VCALENDAR