BEGIN:VCALENDAR
VERSION:2.0
PRODID:-//jEvents 2.0 for Joomla//EN
CALSCALE:GREGORIAN
METHOD:PUBLISH
BEGIN:VTIMEZONE
TZID:Atlantic/Canary
BEGIN:STANDARD
DTSTART:20190219T193000
RDATE:20190331T020000
TZOFFSETFROM:+0100
TZOFFSETTO:+0000
TZNAME:Atlantic/Canary WET
END:STANDARD
BEGIN:STANDARD
DTSTART:20191027T010000
RDATE:20200329T020000
TZOFFSETFROM:+0100
TZOFFSETTO:+0000
TZNAME:Atlantic/Canary WET
END:STANDARD
BEGIN:STANDARD
DTSTART:20201025T010000
RDATE:20210328T020000
TZOFFSETFROM:+0100
TZOFFSETTO:+0000
TZNAME:Atlantic/Canary WET
END:STANDARD
BEGIN:STANDARD
DTSTART:20211031T010000
RDATE:20220327T020000
TZOFFSETFROM:+0100
TZOFFSETTO:+0000
TZNAME:Atlantic/Canary WET
END:STANDARD
BEGIN:STANDARD
DTSTART:20221030T010000
RDATE:20230326T020000
TZOFFSETFROM:+0100
TZOFFSETTO:+0000
TZNAME:Atlantic/Canary WET
END:STANDARD
BEGIN:STANDARD
DTSTART:20231029T010000
RDATE:20240331T020000
TZOFFSETFROM:+0100
TZOFFSETTO:+0000
TZNAME:Atlantic/Canary WET
END:STANDARD
BEGIN:DAYLIGHT
DTSTART:20190331T020000
RDATE:20191027T010000
TZOFFSETFROM:+0000
TZOFFSETTO:+0100
TZNAME:Atlantic/Canary WEST
END:DAYLIGHT
BEGIN:DAYLIGHT
DTSTART:20200329T020000
RDATE:20201025T010000
TZOFFSETFROM:+0000
TZOFFSETTO:+0100
TZNAME:Atlantic/Canary WEST
END:DAYLIGHT
BEGIN:DAYLIGHT
DTSTART:20210328T020000
RDATE:20211031T010000
TZOFFSETFROM:+0000
TZOFFSETTO:+0100
TZNAME:Atlantic/Canary WEST
END:DAYLIGHT
BEGIN:DAYLIGHT
DTSTART:20220327T020000
RDATE:20221030T010000
TZOFFSETFROM:+0000
TZOFFSETTO:+0100
TZNAME:Atlantic/Canary WEST
END:DAYLIGHT
BEGIN:DAYLIGHT
DTSTART:20230326T020000
RDATE:20231029T010000
TZOFFSETFROM:+0000
TZOFFSETTO:+0100
TZNAME:Atlantic/Canary WEST
END:DAYLIGHT
END:VTIMEZONE
BEGIN:VEVENT
UID:414c06cfabeffc8250344fb640177f12
CATEGORIES:Servicios Bibliotecarios, Encuentros / Conferencias
CREATED:20200217T123016
SUMMARY:Presentación del libro "Rómpete el corazón"
LOCATION:Biblioteca Insular de Gran Canaria
DESCRIPTION;ENCODING=QUOTED-PRINTABLE:\n\nCristina L&oacute;pez Barrio se embarca en una impactante trama coral d
 onde el suspense y la intriga policiaca se entremezclan con el poder de los
  lazos familiares, la magia de los cuentos de hadas y las trampas de la pas
 i&oacute;n amorosa.\n\n\nEntrada gratuita. Aforo limitado.\n\n\n+ Info: Bib
 lioteca Insular de Gran Canaria\n
DTSTAMP:20260424T085637Z
DTSTART;TZID=Atlantic/Canary:20200220T193000
SEQUENCE:0
TRANSP:OPAQUE
END:VEVENT
END:VCALENDAR