BEGIN:VCALENDAR
VERSION:2.0
PRODID:-//jEvents 2.0 for Joomla//EN
CALSCALE:GREGORIAN
METHOD:PUBLISH
BEGIN:VTIMEZONE
TZID:Atlantic/Canary
BEGIN:STANDARD
DTSTART:20190226T000000
RDATE:20190331T020000
TZOFFSETFROM:+0100
TZOFFSETTO:+0000
TZNAME:Atlantic/Canary WET
END:STANDARD
BEGIN:STANDARD
DTSTART:20191027T010000
RDATE:20200329T020000
TZOFFSETFROM:+0100
TZOFFSETTO:+0000
TZNAME:Atlantic/Canary WET
END:STANDARD
BEGIN:STANDARD
DTSTART:20201025T010000
RDATE:20210328T020000
TZOFFSETFROM:+0100
TZOFFSETTO:+0000
TZNAME:Atlantic/Canary WET
END:STANDARD
BEGIN:STANDARD
DTSTART:20211031T010000
RDATE:20220327T020000
TZOFFSETFROM:+0100
TZOFFSETTO:+0000
TZNAME:Atlantic/Canary WET
END:STANDARD
BEGIN:STANDARD
DTSTART:20221030T010000
RDATE:20230326T020000
TZOFFSETFROM:+0100
TZOFFSETTO:+0000
TZNAME:Atlantic/Canary WET
END:STANDARD
BEGIN:STANDARD
DTSTART:20231029T010000
RDATE:20240331T020000
TZOFFSETFROM:+0100
TZOFFSETTO:+0000
TZNAME:Atlantic/Canary WET
END:STANDARD
BEGIN:DAYLIGHT
DTSTART:20190331T020000
RDATE:20191027T010000
TZOFFSETFROM:+0000
TZOFFSETTO:+0100
TZNAME:Atlantic/Canary WEST
END:DAYLIGHT
BEGIN:DAYLIGHT
DTSTART:20200329T020000
RDATE:20201025T010000
TZOFFSETFROM:+0000
TZOFFSETTO:+0100
TZNAME:Atlantic/Canary WEST
END:DAYLIGHT
BEGIN:DAYLIGHT
DTSTART:20210328T020000
RDATE:20211031T010000
TZOFFSETFROM:+0000
TZOFFSETTO:+0100
TZNAME:Atlantic/Canary WEST
END:DAYLIGHT
BEGIN:DAYLIGHT
DTSTART:20220327T020000
RDATE:20221030T010000
TZOFFSETFROM:+0000
TZOFFSETTO:+0100
TZNAME:Atlantic/Canary WEST
END:DAYLIGHT
BEGIN:DAYLIGHT
DTSTART:20230326T020000
RDATE:20231029T010000
TZOFFSETFROM:+0000
TZOFFSETTO:+0100
TZNAME:Atlantic/Canary WEST
END:DAYLIGHT
END:VTIMEZONE
BEGIN:VEVENT
UID:3298680235c1ae82347d1f394fb3be8a
CATEGORIES:Exposiciones / Museos
CREATED:20200228T105838
SUMMARY:Exposición "Concurso Gran Canaria de Series Obra Gráfica 2019"
LOCATION:Centro de Artes Plásticas
DESCRIPTION;ENCODING=QUOTED-PRINTABLE:<h4><strong>MUSEO CERRADO TEMPORALMENTE HASTA NUEVO AVISO</strong></h4><p>E
 n esta exposici&oacute;n colectiva participan 16 artistas, siendo 9 de Cana
 rias, quienes realizan su obra en el Taller&nbsp;de Grabado del Cabildo de 
 Gran Canaria.</p><p>Entrada gratuita</p><p><strong>+ Info: <a href="http://
 www.grancanariacultura.com/agenda-completa/-/calendar/event/10631142?p_p_st
 ate=maximized&amp;_1_WAR_calendarportlet_instanceIndex=3" target="_blank" r
 el="noopener noreferrer">Centro de Artes Pl&aacute;sticas</a></strong></p><
 p>&nbsp;</p>
DTSTAMP:20260424T071928Z
DTSTART;TZID=Atlantic/Canary;VALUE=DATE:20200227
DTEND;TZID=Atlantic/Canary;VALUE=DATE:20200418
SEQUENCE:0
TRANSP:OPAQUE
END:VEVENT
END:VCALENDAR