BEGIN:VCALENDAR
VERSION:2.0
PRODID:-//jEvents 2.0 for Joomla//EN
CALSCALE:GREGORIAN
METHOD:PUBLISH
BEGIN:VTIMEZONE
TZID:Atlantic/Canary
BEGIN:STANDARD
DTSTART:20190210T000000
RDATE:20190331T020000
TZOFFSETFROM:+0100
TZOFFSETTO:+0000
TZNAME:Atlantic/Canary WET
END:STANDARD
BEGIN:STANDARD
DTSTART:20191027T010000
RDATE:20200329T020000
TZOFFSETFROM:+0100
TZOFFSETTO:+0000
TZNAME:Atlantic/Canary WET
END:STANDARD
BEGIN:STANDARD
DTSTART:20201025T010000
RDATE:20210328T020000
TZOFFSETFROM:+0100
TZOFFSETTO:+0000
TZNAME:Atlantic/Canary WET
END:STANDARD
BEGIN:STANDARD
DTSTART:20211031T010000
RDATE:20220327T020000
TZOFFSETFROM:+0100
TZOFFSETTO:+0000
TZNAME:Atlantic/Canary WET
END:STANDARD
BEGIN:STANDARD
DTSTART:20221030T010000
RDATE:20230326T020000
TZOFFSETFROM:+0100
TZOFFSETTO:+0000
TZNAME:Atlantic/Canary WET
END:STANDARD
BEGIN:STANDARD
DTSTART:20231029T010000
RDATE:20240331T020000
TZOFFSETFROM:+0100
TZOFFSETTO:+0000
TZNAME:Atlantic/Canary WET
END:STANDARD
BEGIN:DAYLIGHT
DTSTART:20190331T020000
RDATE:20191027T010000
TZOFFSETFROM:+0000
TZOFFSETTO:+0100
TZNAME:Atlantic/Canary WEST
END:DAYLIGHT
BEGIN:DAYLIGHT
DTSTART:20200329T020000
RDATE:20201025T010000
TZOFFSETFROM:+0000
TZOFFSETTO:+0100
TZNAME:Atlantic/Canary WEST
END:DAYLIGHT
BEGIN:DAYLIGHT
DTSTART:20210328T020000
RDATE:20211031T010000
TZOFFSETFROM:+0000
TZOFFSETTO:+0100
TZNAME:Atlantic/Canary WEST
END:DAYLIGHT
BEGIN:DAYLIGHT
DTSTART:20220327T020000
RDATE:20221030T010000
TZOFFSETFROM:+0000
TZOFFSETTO:+0100
TZNAME:Atlantic/Canary WEST
END:DAYLIGHT
BEGIN:DAYLIGHT
DTSTART:20230326T020000
RDATE:20231029T010000
TZOFFSETFROM:+0000
TZOFFSETTO:+0100
TZNAME:Atlantic/Canary WEST
END:DAYLIGHT
END:VTIMEZONE
BEGIN:VEVENT
UID:8421613c2111049c6701e43659a5190b
CATEGORIES:Exposiciones / Museos
CREATED:20200302T141228
SUMMARY:Exposición "Mujeres Nobel de Ciencias"
LOCATION:Casa de Colón
DESCRIPTION;ENCODING=QUOTED-PRINTABLE:\n\nLa exposici&oacute;n "Mujeres Nobel" es una muestra, dividida en tres s
 ecciones, que puede visitarse de forma simult&aacute;nea en tres espacios d
 el Cabildo de Gran Canaria:\n\n\nCasa de Col&oacute;n - Mujeres Nobel de Ci
 encias.\n\n\nCasa-Museo P&eacute;rez Gald&oacute;s - Mujeres Nobel de Liter
 atura.\n\n\nCasa-Museo Le&oacute;n y Castillo - Mujeres Nobel por la Paz.\n
 \n\nLa exposici&oacute;n, homenajea la trayectoria vital y profesional de u
 na serie de mujeres galardonadas con el prestigioso Premio Nobel, en F&iacu
 te;sica, Qu&iacute;mica, Medicina o Fisiolog&iacute;a, Paz y Literatura, qu
 e son y han sido indudables referentes en sus campos de actuaci&oacute;n, c
 ontribuyendo de manera notable al desarrollo de la humanidad.\n\n\n+ Info: 
 Casa de Col&oacute;n\n
DTSTAMP:20260424T091239Z
DTSTART;TZID=Atlantic/Canary;VALUE=DATE:20200211
DTEND;TZID=Atlantic/Canary;VALUE=DATE:20200330
SEQUENCE:0
TRANSP:OPAQUE
END:VEVENT
END:VCALENDAR