BEGIN:VCALENDAR
VERSION:2.0
PRODID:-//jEvents 2.0 for Joomla//EN
CALSCALE:GREGORIAN
METHOD:PUBLISH
BEGIN:VTIMEZONE
TZID:Atlantic/Canary
BEGIN:STANDARD
DTSTART:20201105T203000
RDATE:20210328T020000
TZOFFSETFROM:+0100
TZOFFSETTO:+0000
TZNAME:Atlantic/Canary WET
END:STANDARD
BEGIN:STANDARD
DTSTART:20211031T010000
RDATE:20220327T020000
TZOFFSETFROM:+0100
TZOFFSETTO:+0000
TZNAME:Atlantic/Canary WET
END:STANDARD
BEGIN:STANDARD
DTSTART:20221030T010000
RDATE:20230326T020000
TZOFFSETFROM:+0100
TZOFFSETTO:+0000
TZNAME:Atlantic/Canary WET
END:STANDARD
BEGIN:STANDARD
DTSTART:20231029T010000
RDATE:20240331T020000
TZOFFSETFROM:+0100
TZOFFSETTO:+0000
TZNAME:Atlantic/Canary WET
END:STANDARD
BEGIN:DAYLIGHT
DTSTART:20210328T020000
RDATE:20211031T010000
TZOFFSETFROM:+0000
TZOFFSETTO:+0100
TZNAME:Atlantic/Canary WEST
END:DAYLIGHT
BEGIN:DAYLIGHT
DTSTART:20220327T020000
RDATE:20221030T010000
TZOFFSETFROM:+0000
TZOFFSETTO:+0100
TZNAME:Atlantic/Canary WEST
END:DAYLIGHT
BEGIN:DAYLIGHT
DTSTART:20230326T020000
RDATE:20231029T010000
TZOFFSETFROM:+0000
TZOFFSETTO:+0100
TZNAME:Atlantic/Canary WEST
END:DAYLIGHT
END:VTIMEZONE
BEGIN:VEVENT
UID:5e4356d9c0352841c7f5844168e62344
CATEGORIES:Música, Encuentros / Conferencias
CREATED:20210827T120850
SUMMARY:Amparo Sánchez | Ciclo "Palabras de Rock"
LOCATION:Edificio Miller
DESCRIPTION;ENCODING=QUOTED-PRINTABLE:<p>El espacio Miller prosigue su intenso a&ntilde;o de programa con un nuev
 o ciclo,<em><strong> Palabra de Rock</strong></em>, en el que participan cu
 atro m&uacute;sicos y escritores de personal&iacute;sima impronta y que fun
 dir&aacute; ambas disciplinas.&nbsp;</p><p>Estos encuentros tendr&aacute;n 
 como punto de partida tertulias en las que los asistentes podr&aacute;n con
 ocer de primera mano la forma de componer o las influencias literarias que 
 han marcado las trayectorias de los artistas, quienes tambi&eacute;n se pon
 dr&aacute;n a disposici&oacute;n del p&uacute;blico para debatir y responde
 r preguntas. La otra protagonista del ciclo, la m&uacute;sica, estar&aacute
 ; igualmente presente al final de cada jornada en la que los invitados inte
 rpretar&aacute;n durante media hora algunos de sus temas en un ambiente &ia
 cute;ntimo.</p><p><strong>Amparo S&aacute;nchez</strong>, l&iacute;der de A
 mparanoia, es cantante, m&uacute;sica, compositora, productora y escritora,
  una activista musical que ha creado escuela, siempre ligada a la denuncia 
 y a la lucha por los derechos humanos, en especial los de las mujeres. &nbs
 p;Su primer libro, &laquo;La ni&ntilde;a y el lobo&raquo; es una historia a
 utobiogr&aacute;fica que narra, a modo de diario, una historia desgarradora
  en la que la violencia machista tiene un papel crucial. Es una historia de
  transformaci&oacute;n y superaci&oacute;n, un&nbsp;libro conmovedor, una o
 bra fresca, pop, directa, sencilla e incisiva. En su tercera edici&oacute;n
  (Mamita Records) incluye su propia BSO,&nbsp; acompa&ntilde;ada de su prop
 ia banda sonora.</p><p><strong>+ Info:<a href="http://lpacultura.com/es/not
 icias-espacios/1564-cesar-strawberry-abre-en-miller-el-ciclo-palabra-de-roc
 k" target="_blank" rel="noopener noreferrer"> LPA Cultura</a></strong></p>
DTSTAMP:20260421T061723Z
DTSTART;TZID=Atlantic/Canary:20211106T203000
SEQUENCE:0
TRANSP:OPAQUE
END:VEVENT
END:VCALENDAR