BEGIN:VCALENDAR
VERSION:2.0
PRODID:-//jEvents 2.0 for Joomla//EN
CALSCALE:GREGORIAN
METHOD:PUBLISH
BEGIN:VTIMEZONE
TZID:Atlantic/Canary
BEGIN:STANDARD
DTSTART:20201125T203000
RDATE:20210328T020000
TZOFFSETFROM:+0100
TZOFFSETTO:+0000
TZNAME:Atlantic/Canary WET
END:STANDARD
BEGIN:STANDARD
DTSTART:20211031T010000
RDATE:20220327T020000
TZOFFSETFROM:+0100
TZOFFSETTO:+0000
TZNAME:Atlantic/Canary WET
END:STANDARD
BEGIN:STANDARD
DTSTART:20221030T010000
RDATE:20230326T020000
TZOFFSETFROM:+0100
TZOFFSETTO:+0000
TZNAME:Atlantic/Canary WET
END:STANDARD
BEGIN:STANDARD
DTSTART:20231029T010000
RDATE:20240331T020000
TZOFFSETFROM:+0100
TZOFFSETTO:+0000
TZNAME:Atlantic/Canary WET
END:STANDARD
BEGIN:DAYLIGHT
DTSTART:20210328T020000
RDATE:20211031T010000
TZOFFSETFROM:+0000
TZOFFSETTO:+0100
TZNAME:Atlantic/Canary WEST
END:DAYLIGHT
BEGIN:DAYLIGHT
DTSTART:20220327T020000
RDATE:20221030T010000
TZOFFSETFROM:+0000
TZOFFSETTO:+0100
TZNAME:Atlantic/Canary WEST
END:DAYLIGHT
BEGIN:DAYLIGHT
DTSTART:20230326T020000
RDATE:20231029T010000
TZOFFSETFROM:+0000
TZOFFSETTO:+0100
TZNAME:Atlantic/Canary WEST
END:DAYLIGHT
END:VTIMEZONE
BEGIN:VEVENT
UID:3e84ea4c44cfdbcae249c10d4169da86
CATEGORIES:Música, Artes escénicas / Danza
CREATED:20211027T182238
SUMMARY:Malditas Mentiras 
LOCATION:Edificio Miller
DESCRIPTION;ENCODING=QUOTED-PRINTABLE:\n\nLa noche del 31 de diciembre de 1991 el productor musical Alexandro del
  Conde &mdash; quien dice estar detr&aacute;s de los &eacute;xitos de figur
 as de la m&uacute;sica espa&ntilde;ola como Mari Trini, Karina, Nino Bravo 
 o Camilo Sexto&mdash; desaparece; cuatro mujeres son citadas por Mart&iacut
 e;n, el barman de la cocteler&iacute;a de donde el m&uacute;sico es cliente
  habitual. Una carta misteriosa convierte el encuentro en un juego musical 
 para intentar descubrir qui&eacute;n miente m&aacute;s que habla y qui&eacu
 te;n consigue escapar de las malditas mentiras en las que viven atrapados. 
 Pero esta historia no va de artistas famosos, va de las voces de las mujere
 s que cayeron en su red de enga&ntilde;os y aprendieron a destejer su tramp
 a a la vez que empujaban socialmente ese cambio de mentalidad machista de l
 a Espa&ntilde;a de los 70 a los 90: su secretaria personal, su mujer, la me
 jor amiga de esta y su amante de juventud.\n\n\n+ Info: LPA Cultura\n
DTSTAMP:20260425T210942Z
DTSTART;TZID=Atlantic/Canary:20211126T203000
DTEND;TZID=Atlantic/Canary:20211127T203000
SEQUENCE:0
TRANSP:OPAQUE
END:VEVENT
END:VCALENDAR