BEGIN:VCALENDAR
VERSION:2.0
PRODID:-//jEvents 2.0 for Joomla//EN
CALSCALE:GREGORIAN
METHOD:PUBLISH
BEGIN:VTIMEZONE
TZID:Atlantic/Canary
BEGIN:STANDARD
DTSTART:20201103T190000
RDATE:20210328T020000
TZOFFSETFROM:+0100
TZOFFSETTO:+0000
TZNAME:Atlantic/Canary WET
END:STANDARD
BEGIN:STANDARD
DTSTART:20211031T010000
RDATE:20220327T020000
TZOFFSETFROM:+0100
TZOFFSETTO:+0000
TZNAME:Atlantic/Canary WET
END:STANDARD
BEGIN:STANDARD
DTSTART:20221030T010000
RDATE:20230326T020000
TZOFFSETFROM:+0100
TZOFFSETTO:+0000
TZNAME:Atlantic/Canary WET
END:STANDARD
BEGIN:STANDARD
DTSTART:20231029T010000
RDATE:20240331T020000
TZOFFSETFROM:+0100
TZOFFSETTO:+0000
TZNAME:Atlantic/Canary WET
END:STANDARD
BEGIN:DAYLIGHT
DTSTART:20210328T020000
RDATE:20211031T010000
TZOFFSETFROM:+0000
TZOFFSETTO:+0100
TZNAME:Atlantic/Canary WEST
END:DAYLIGHT
BEGIN:DAYLIGHT
DTSTART:20220327T020000
RDATE:20221030T010000
TZOFFSETFROM:+0000
TZOFFSETTO:+0100
TZNAME:Atlantic/Canary WEST
END:DAYLIGHT
BEGIN:DAYLIGHT
DTSTART:20230326T020000
RDATE:20231029T010000
TZOFFSETFROM:+0000
TZOFFSETTO:+0100
TZNAME:Atlantic/Canary WEST
END:DAYLIGHT
END:VTIMEZONE
BEGIN:VEVENT
UID:4fa9b17981908656e963ac74d6337aaf
CATEGORIES:Exposiciones / Museos, Encuentros / Conferencias
CREATED:20211031T185444
SUMMARY:Ciclo "Hablando de Galdós" | José Luis Garci
LOCATION:Casa Museo Pérez Galdós
DESCRIPTION;ENCODING=QUOTED-PRINTABLE:\n\nEl director de cine&nbsp;Jos&eacute; Luis Garci&nbsp;llev&oacute; al ci
 ne una de las obras m&aacute;s conocidas de P&eacute;rez Gald&oacute;s,&nbs
 p;El Abuelo, pel&iacute;cula con la que Fernando Fern&aacute;n G&oacute;mez
  gan&oacute; el Premio Goya en 1999 como mejor actor protagonista.\n\n\nJos
 &eacute; Luis Garci nos hablar&aacute; de su experiencia de llevar al cine 
 la novela del escritor, as&iacute; como las an&eacute;cdotas del propio rod
 aje.\n\n\nAforo limitado. Entrada por orden de llegada.\n\n\n+ Info: Casa-M
 useo P&eacute;rez Gald&oacute;s\n
DTSTAMP:20260425T204918Z
DTSTART;TZID=Atlantic/Canary:20211104T190000
SEQUENCE:0
TRANSP:OPAQUE
END:VEVENT
END:VCALENDAR