BEGIN:VCALENDAR
VERSION:2.0
PRODID:-//jEvents 2.0 for Joomla//EN
CALSCALE:GREGORIAN
METHOD:PUBLISH
BEGIN:VTIMEZONE
TZID:Atlantic/Canary
BEGIN:STANDARD
DTSTART:20201217T000000
RDATE:20210328T020000
TZOFFSETFROM:+0100
TZOFFSETTO:+0000
TZNAME:Atlantic/Canary WET
END:STANDARD
BEGIN:STANDARD
DTSTART:20211031T010000
RDATE:20220327T020000
TZOFFSETFROM:+0100
TZOFFSETTO:+0000
TZNAME:Atlantic/Canary WET
END:STANDARD
BEGIN:STANDARD
DTSTART:20221030T010000
RDATE:20230326T020000
TZOFFSETFROM:+0100
TZOFFSETTO:+0000
TZNAME:Atlantic/Canary WET
END:STANDARD
BEGIN:STANDARD
DTSTART:20231029T010000
RDATE:20240331T020000
TZOFFSETFROM:+0100
TZOFFSETTO:+0000
TZNAME:Atlantic/Canary WET
END:STANDARD
BEGIN:DAYLIGHT
DTSTART:20210328T020000
RDATE:20211031T010000
TZOFFSETFROM:+0000
TZOFFSETTO:+0100
TZNAME:Atlantic/Canary WEST
END:DAYLIGHT
BEGIN:DAYLIGHT
DTSTART:20220327T020000
RDATE:20221030T010000
TZOFFSETFROM:+0000
TZOFFSETTO:+0100
TZNAME:Atlantic/Canary WEST
END:DAYLIGHT
BEGIN:DAYLIGHT
DTSTART:20230326T020000
RDATE:20231029T010000
TZOFFSETFROM:+0000
TZOFFSETTO:+0100
TZNAME:Atlantic/Canary WEST
END:DAYLIGHT
END:VTIMEZONE
BEGIN:VEVENT
UID:403e06e47990ef77423e07c60d6d2758
CATEGORIES:Música, Artes escénicas / Danza
CREATED:20211031T211345
SUMMARY:Amelia en la Ciudad de la Ilusión
LOCATION:Teatro Pérez Galdós
DESCRIPTION;ENCODING=QUOTED-PRINTABLE:\n\nAmelia en la Ciudad de la Ilusi&oacute;n,&nbsp;un espect&aacute;culo&nb
 sp;musical&nbsp;para toda la&nbsp;familia. Un viaje a los&nbsp;recuerdos&nb
 sp;y un homenaje a la m&uacute;sica y al poder de los&nbsp;cuentos&nbsp;par
 a disfrute de grandes y peque&ntilde;os.&nbsp;\n\n\nFunciones:\n\n\nS&aacut
 e;bado 18 de diciembre a las 12:00 y 19:00 horas, domingo 19, lunes 20, mar
 tes 21, mi&eacute;coles 22 y jueves 23 a las 18:00 horas.\n\n\n+ Info: Teat
 ro P&eacute;rez Gald&oacute;s\n
DTSTAMP:20260425T224134Z
DTSTART;TZID=Atlantic/Canary;VALUE=DATE:20211218
DTEND;TZID=Atlantic/Canary;VALUE=DATE:20211224
SEQUENCE:0
TRANSP:OPAQUE
END:VEVENT
END:VCALENDAR