BEGIN:VCALENDAR
VERSION:2.0
PRODID:-//jEvents 2.0 for Joomla//EN
CALSCALE:GREGORIAN
METHOD:PUBLISH
BEGIN:VTIMEZONE
TZID:Atlantic/Canary
BEGIN:STANDARD
DTSTART:20201127T120000
RDATE:20210328T020000
TZOFFSETFROM:+0100
TZOFFSETTO:+0000
TZNAME:Atlantic/Canary WET
END:STANDARD
BEGIN:STANDARD
DTSTART:20211031T010000
RDATE:20220327T020000
TZOFFSETFROM:+0100
TZOFFSETTO:+0000
TZNAME:Atlantic/Canary WET
END:STANDARD
BEGIN:STANDARD
DTSTART:20221030T010000
RDATE:20230326T020000
TZOFFSETFROM:+0100
TZOFFSETTO:+0000
TZNAME:Atlantic/Canary WET
END:STANDARD
BEGIN:STANDARD
DTSTART:20231029T010000
RDATE:20240331T020000
TZOFFSETFROM:+0100
TZOFFSETTO:+0000
TZNAME:Atlantic/Canary WET
END:STANDARD
BEGIN:DAYLIGHT
DTSTART:20210328T020000
RDATE:20211031T010000
TZOFFSETFROM:+0000
TZOFFSETTO:+0100
TZNAME:Atlantic/Canary WEST
END:DAYLIGHT
BEGIN:DAYLIGHT
DTSTART:20220327T020000
RDATE:20221030T010000
TZOFFSETFROM:+0000
TZOFFSETTO:+0100
TZNAME:Atlantic/Canary WEST
END:DAYLIGHT
BEGIN:DAYLIGHT
DTSTART:20230326T020000
RDATE:20231029T010000
TZOFFSETFROM:+0000
TZOFFSETTO:+0100
TZNAME:Atlantic/Canary WEST
END:DAYLIGHT
END:VTIMEZONE
BEGIN:VEVENT
UID:50de1e6ff8d3a929abbc0ca25437d7da
CATEGORIES:Música
CREATED:20211031T220958
SUMMARY:Tango, canción y guitarra | Maestros en Guitarra
LOCATION:Auditorio Alfredo Kraus
DESCRIPTION;ENCODING=QUOTED-PRINTABLE:\n\nLa guitarra vuelve a escena en este &uacute;ltimo concierto de&nbsp;Mae
 stros en Guitarra 2021&nbsp;rindiendo honores al archiconocido compositor y
  bandoneonista argentino&nbsp;Astor Piazzolla. Un recorrido sonoro por toda
  la historia del tango, esa m&uacute;sica tradicional que el genio argentin
 o revolucion&oacute;.&nbsp;&nbsp;\n\n\n+ Info: Auditorio Alfredo Kraus\n&nb
 sp;
DTSTAMP:20260425T211800Z
DTSTART;TZID=Atlantic/Canary:20211128T120000
SEQUENCE:0
TRANSP:OPAQUE
END:VEVENT
END:VCALENDAR