BEGIN:VCALENDAR
VERSION:2.0
PRODID:-//jEvents 2.0 for Joomla//EN
CALSCALE:GREGORIAN
METHOD:PUBLISH
BEGIN:VTIMEZONE
TZID:Atlantic/Canary
BEGIN:STANDARD
DTSTART:20201122T000000
RDATE:20210328T020000
TZOFFSETFROM:+0100
TZOFFSETTO:+0000
TZNAME:Atlantic/Canary WET
END:STANDARD
BEGIN:STANDARD
DTSTART:20211031T010000
RDATE:20220327T020000
TZOFFSETFROM:+0100
TZOFFSETTO:+0000
TZNAME:Atlantic/Canary WET
END:STANDARD
BEGIN:STANDARD
DTSTART:20221030T010000
RDATE:20230326T020000
TZOFFSETFROM:+0100
TZOFFSETTO:+0000
TZNAME:Atlantic/Canary WET
END:STANDARD
BEGIN:STANDARD
DTSTART:20231029T010000
RDATE:20240331T020000
TZOFFSETFROM:+0100
TZOFFSETTO:+0000
TZNAME:Atlantic/Canary WET
END:STANDARD
BEGIN:DAYLIGHT
DTSTART:20210328T020000
RDATE:20211031T010000
TZOFFSETFROM:+0000
TZOFFSETTO:+0100
TZNAME:Atlantic/Canary WEST
END:DAYLIGHT
BEGIN:DAYLIGHT
DTSTART:20220327T020000
RDATE:20221030T010000
TZOFFSETFROM:+0000
TZOFFSETTO:+0100
TZNAME:Atlantic/Canary WEST
END:DAYLIGHT
BEGIN:DAYLIGHT
DTSTART:20230326T020000
RDATE:20231029T010000
TZOFFSETFROM:+0000
TZOFFSETTO:+0100
TZNAME:Atlantic/Canary WEST
END:DAYLIGHT
END:VTIMEZONE
BEGIN:VEVENT
UID:aefb24233c4c4028824f9964578e26df
CATEGORIES:Artes escénicas / Danza, Encuentros / Conferencias
CREATED:20211101T102014
SUMMARY:V Congreso CircoRED 
LOCATION:Teatro Guiniguada
DESCRIPTION;ENCODING=QUOTED-PRINTABLE:\n\nEl&nbsp;V Congreso CircoRED&nbsp;es un congreso estatal que pretende se
 r un punto de encuentro y trabajo para todas las asociaciones y profesional
 es que conforman la federaci&oacute;n nacional de circo en Espa&ntilde;a.&n
 bsp;\n\n\nEl objetivo de esta propuesta es visibilizar el trabajo que se es
 t&aacute; desarrollando en todas las etapas de la cadena de valor; formaci&
 oacute;n, investigaci&oacute;n, creaci&oacute;n, producci&oacute;n, exhibic
 i&oacute;n y distribuci&oacute;n.&nbsp;\n\n\n+ Info: Teatro Guiniguada\n
DTSTAMP:20260425T204919Z
DTSTART;TZID=Atlantic/Canary;VALUE=DATE:20211123
DTEND;TZID=Atlantic/Canary;VALUE=DATE:20211127
SEQUENCE:0
TRANSP:OPAQUE
END:VEVENT
END:VCALENDAR