BEGIN:VCALENDAR
VERSION:2.0
PRODID:-//jEvents 2.0 for Joomla//EN
CALSCALE:GREGORIAN
METHOD:PUBLISH
BEGIN:VTIMEZONE
TZID:Atlantic/Canary
BEGIN:STANDARD
DTSTART:20201104T200000
RDATE:20210328T020000
TZOFFSETFROM:+0100
TZOFFSETTO:+0000
TZNAME:Atlantic/Canary WET
END:STANDARD
BEGIN:STANDARD
DTSTART:20211031T010000
RDATE:20220327T020000
TZOFFSETFROM:+0100
TZOFFSETTO:+0000
TZNAME:Atlantic/Canary WET
END:STANDARD
BEGIN:STANDARD
DTSTART:20221030T010000
RDATE:20230326T020000
TZOFFSETFROM:+0100
TZOFFSETTO:+0000
TZNAME:Atlantic/Canary WET
END:STANDARD
BEGIN:STANDARD
DTSTART:20231029T010000
RDATE:20240331T020000
TZOFFSETFROM:+0100
TZOFFSETTO:+0000
TZNAME:Atlantic/Canary WET
END:STANDARD
BEGIN:DAYLIGHT
DTSTART:20210328T020000
RDATE:20211031T010000
TZOFFSETFROM:+0000
TZOFFSETTO:+0100
TZNAME:Atlantic/Canary WEST
END:DAYLIGHT
BEGIN:DAYLIGHT
DTSTART:20220327T020000
RDATE:20221030T010000
TZOFFSETFROM:+0000
TZOFFSETTO:+0100
TZNAME:Atlantic/Canary WEST
END:DAYLIGHT
BEGIN:DAYLIGHT
DTSTART:20230326T020000
RDATE:20231029T010000
TZOFFSETFROM:+0000
TZOFFSETTO:+0100
TZNAME:Atlantic/Canary WEST
END:DAYLIGHT
END:VTIMEZONE
BEGIN:VEVENT
UID:384d10d17376b8bcdc4618e99d9d09a7
CATEGORIES:Artes escénicas / Danza, Encuentros / Conferencias
CREATED:20211103T151958
SUMMARY:Danzando por la igualdad
LOCATION:Centro Cultural de la Caja de Canarias (CICCA)
DESCRIPTION;ENCODING=QUOTED-PRINTABLE:\n\nEl empoderamiento de las mujeres es un proceso por medio del cual se pr
 etende incrementar la capacidad de&nbsp;configurar sus propias vidas y su e
 ntorno, trabaj&aacute;ndolo desde la identidad y la autoestima, la autonom&
 iacute;a personal,&nbsp;ofreciendo otros ejemplos de feminidad y transforma
 ndo los modelos del sistema en el que han vivido.\n\n\n+ Info: CICCA\n\n\n\
 n\n\n\n
DTSTAMP:20260425T204918Z
DTSTART;TZID=Atlantic/Canary:20211105T200000
SEQUENCE:0
TRANSP:OPAQUE
END:VEVENT
END:VCALENDAR